From mboxrd@z Thu Jan  1 00:00:00 1970
Return-Path: <test-report-bounces@dpdk.org>
Received: from mails.dpdk.org (mails.dpdk.org [217.70.189.124])
	by inbox.dpdk.org (Postfix) with ESMTP id 388CA43D0E
	for <public@inbox.dpdk.org>; Wed, 27 Mar 2024 21:36:51 +0100 (CET)
Received: from mails.dpdk.org (localhost [127.0.0.1])
	by mails.dpdk.org (Postfix) with ESMTP id 31017402C0;
	Wed, 27 Mar 2024 21:36:51 +0100 (CET)
Received: from mail-qk1-f228.google.com (mail-qk1-f228.google.com
 [209.85.222.228])
 by mails.dpdk.org (Postfix) with ESMTP id 17862402B2
 for <test-report@dpdk.org>; Wed, 27 Mar 2024 21:36:26 +0100 (CET)
Received: by mail-qk1-f228.google.com with SMTP id
 af79cd13be357-78a26803f1aso11517285a.3
 for <test-report@dpdk.org>; Wed, 27 Mar 2024 13:36:26 -0700 (PDT)
DKIM-Signature: v=1; a=rsa-sha256; c=relaxed/relaxed;
 d=iol.unh.edu; s=unh-iol; t=1711571785; x=1712176585; darn=dpdk.org;
 h=references:in-reply-to:cc:to:from:subject:message-id:date:from:to
 :cc:subject:date:message-id:reply-to;
 bh=Qe7D8bB18wGZD0n2pQM/Ba6D384gORi6LWA55pNKQ1o=;
 b=Ecl7KaNmu2za63dZ6UfgOjP7TwN1cEr+5flwwOf7+KbiGj5epg1KHjURgQtWwqrnTx
 Kix3Y+GtxCw+KUuRJvMWjI3H3FUuyeQqx7jYpM3BcbK+0/rM5rA0de8yQPJCm2CRuQU9
 Rwb/H78S5kEvWYDCQb5wXLLhdJPEyDPfYK9NE=
X-Google-DKIM-Signature: v=1; a=rsa-sha256; c=relaxed/relaxed;
 d=1e100.net; s=20230601; t=1711571785; x=1712176585;
 h=references:in-reply-to:cc:to:from:subject:message-id:date
 :x-gm-message-state:from:to:cc:subject:date:message-id:reply-to;
 bh=Qe7D8bB18wGZD0n2pQM/Ba6D384gORi6LWA55pNKQ1o=;
 b=As5qNT3iD1zfWZkPdiW99KXZUZmoj0foR61OyKR0zisX7lD5GsDZOPDQLfPGJBl0Z9
 jKgDTbLDmjgGmSBoxHhZkFLZsvbpWCDm3Urs3RFr3j9gUg+kfu1H9uv+SadgqWO1Uok3
 W5B9zklhZblBZmYvXyPDbE05iEWRv6F0NsOox+obhLJnbGreL+o9zaw2jHABBAIN7+JT
 J181uMpKZCVa7nqOYgy8OJO47yTRts2DoR0dU0iBw90WCWZnk7675qYezHnEHNXK3pZM
 5bzwnhN0nUn9/1KeYyluq7dWNYeTeVkWlQghlyZ3nrn4qHGeAVxjU3zHscWGT+UGGLZf
 JMdA==
X-Gm-Message-State: AOJu0YzNWjbDdNAvjlzyhx3QXRnH7Q8VK6PrWpFo8rVEAUqfU65DAoIR
 vv7loJXk0UlfAr4ohIlbm+XihJIx0lVHyju3nc34ghxkiJJ7j/hFUUIQfiT5dXja0XOPlaeS21B
 Y1S+lumIw84eUQInBg5WjZpkxQ/dT50q9f5gKHk7P
X-Google-Smtp-Source: AGHT+IE0vy8kCG1UBJcswNzz7jF5I9M7DlCDT4HYelrhlV1huod6L/K8RWX+CGLr/y6Ls6qA+IGfMWGI1ost
X-Received: by 2002:a05:620a:5dcb:b0:78a:4464:ffc6 with SMTP id
 xy11-20020a05620a5dcb00b0078a4464ffc6mr741066qkn.14.1711571785495; 
 Wed, 27 Mar 2024 13:36:25 -0700 (PDT)
Received: from postal.iol.unh.edu (postal.iol.unh.edu. [132.177.123.84])
 by smtp-relay.gmail.com with ESMTPS id
 tp3-20020a05620a3c8300b00789e735c634sm630108qkn.7.2024.03.27.13.36.25
 (version=TLS1_2 cipher=ECDHE-ECDSA-AES128-GCM-SHA256 bits=128/128);
 Wed, 27 Mar 2024 13:36:25 -0700 (PDT)
X-Relaying-Domain: iol.unh.edu
Date: Wed, 27 Mar 2024 13:36:25 -0700 (PDT)
Message-ID: <66048349.050a0220.86af4.88d1SMTPIN_ADDED_MISSING@mx.google.com>
Received: from [172.21.0.7] (unknown [172.18.0.240])
 by postal.iol.unh.edu (Postfix) with ESMTP id 1FBD96052471;
 Wed, 27 Mar 2024 16:36:25 -0400 (EDT)
Subject: |SUCCESS| pw138873-138875 [PATCH] [v8,4/4] cryptodev: remove rte mar
From: dpdklab@iol.unh.edu
To: Test Report <test-report@dpdk.org>
Cc: dpdk-test-reports@iol.unh.edu
In-Reply-To: <1711569406-7750-5-git-send-email-roretzla@linux.microsoft.com>
References: <1711569406-7750-5-git-send-email-roretzla@linux.microsoft.com>
Content-Type: text/plain
X-BeenThere: test-report@dpdk.org
X-Mailman-Version: 2.1.29
Precedence: list
List-Id: automatic DPDK test reports <test-report.dpdk.org>
List-Unsubscribe: <https://mails.dpdk.org/options/test-report>,
 <mailto:test-report-request@dpdk.org?subject=unsubscribe>
List-Archive: <http://mails.dpdk.org/archives/test-report/>
List-Post: <mailto:test-report@dpdk.org>
List-Help: <mailto:test-report-request@dpdk.org?subject=help>
List-Subscribe: <https://mails.dpdk.org/listinfo/test-report>,
 <mailto:test-report-request@dpdk.org?subject=subscribe>
Errors-To: test-report-bounces@dpdk.org

Test-Label: iol-compile-amd64-testing
Test-Status: SUCCESS
http://dpdk.org/patch/138875

_Testing PASS_

Submitter: Tyler Retzlaff <roretzla@linux.microsoft.com>
Date: Wednesday, March 27 2024 19:56:46 
DPDK git baseline: Repo:dpdk
  Branch: master
  CommitID:ded4d4765171b88470e59307f10625e942f22fca

138873-138875 --> testing pass

Test environment and result as below:

+---------------------+--------------------+----------------------+-------------------+
|     Environment     | dpdk_meson_compile | dpdk_mingw64_compile | dpdk_msvc_compile |
+=====================+====================+======================+===================+
| Windows Server 2022 | PASS               | PASS                 | PASS              |
+---------------------+--------------------+----------------------+-------------------+
| Windows Server 2019 | PASS               | PASS                 | SKIPPED           |
+---------------------+--------------------+----------------------+-------------------+
| FreeBSD 13.2        | PASS               | SKIPPED              | SKIPPED           |
+---------------------+--------------------+----------------------+-------------------+


Windows Server 2022
	Kernel: 10.0.20348.2031
	Compiler: clang 15.0.7, gcc 8.1.0 (MinGW), and MSVC VS 17.9

Windows Server 2019
	Kernel: 10.0.17763
	Compiler: clang 14.0 and gcc 8.1.0 (MinGW)

FreeBSD 13.2
	Kernel: 13.2
	Compiler: clang 14.0.5

To view detailed results, visit:
https://lab.dpdk.org/results/dashboard/patchsets/29669/

UNH-IOL DPDK Community Lab

To manage your email subscriptions, visit: 
https://lab.dpdk.org/results/dashboard/preferences/subscriptions/