From mboxrd@z Thu Jan  1 00:00:00 1970
Return-Path: <test-report-bounces@dpdk.org>
Received: from mails.dpdk.org (mails.dpdk.org [217.70.189.124])
	by inbox.dpdk.org (Postfix) with ESMTP id 7A16143D55
	for <public@inbox.dpdk.org>; Wed, 27 Mar 2024 23:01:14 +0100 (CET)
Received: from mails.dpdk.org (localhost [127.0.0.1])
	by mails.dpdk.org (Postfix) with ESMTP id 5A905402C0;
	Wed, 27 Mar 2024 23:01:14 +0100 (CET)
Received: from mail-ot1-f97.google.com (mail-ot1-f97.google.com
 [209.85.210.97]) by mails.dpdk.org (Postfix) with ESMTP id 8E240402B2
 for <test-report@dpdk.org>; Wed, 27 Mar 2024 23:01:12 +0100 (CET)
Received: by mail-ot1-f97.google.com with SMTP id
 46e09a7af769-6e67b5d6dd8so185946a34.2
 for <test-report@dpdk.org>; Wed, 27 Mar 2024 15:01:12 -0700 (PDT)
DKIM-Signature: v=1; a=rsa-sha256; c=relaxed/relaxed;
 d=iol.unh.edu; s=unh-iol; t=1711576872; x=1712181672; darn=dpdk.org;
 h=references:in-reply-to:cc:to:from:subject:message-id:date:from:to
 :cc:subject:date:message-id:reply-to;
 bh=Lwx0SQfZbPb0OHKx3fmkEef/CNJii4hJcPb9018MFbY=;
 b=f/njXMKLT0bgIWTXc7TDgaVfKUd58ti6tRSWqAFb8N+RkokkOnBCwzoK0QPzKPT2Pj
 sIEdbqlEr5rL6IKcTSqLe2eBr8Aw3Aq/AmMQT/Y9CMaq4rPpFr9axbU8Ixp/Fh0C7ezP
 REGHPSENLk6mcpRKblD45Rn7uF2cu2NeAub2w=
X-Google-DKIM-Signature: v=1; a=rsa-sha256; c=relaxed/relaxed;
 d=1e100.net; s=20230601; t=1711576872; x=1712181672;
 h=references:in-reply-to:cc:to:from:subject:message-id:date
 :x-gm-message-state:from:to:cc:subject:date:message-id:reply-to;
 bh=Lwx0SQfZbPb0OHKx3fmkEef/CNJii4hJcPb9018MFbY=;
 b=PJEhn/aMrfKXNk+1JbhoVzmwENcOrWuCwNUTnWtepSMpa83lngzWrPlXAGu4l942oR
 2Hu044uca34Gt7jNXo7aUkjF4Egm+3r7MQdhIEAn8XASkxDQldo6ztsAqs8ZUct9n2eM
 tD/AsScc+8b/C6cFKoaXrEisLIJQ0VxGMhALRKGaiUBNnpY6nwe+LvJT3GaW7blIjBHW
 YvSiiDmYzB+sQ1NyWQD/7gnyHSaQapGanYKj+jTsb2u+yMK6Tg8qrwSrmm5EcSo+Scr1
 txusnxbIhWI6y6f1hvXcEDtYZ1ZoEZhVMsiOGnT4XD2LBaDXTNUQMLuiGi/zohZhtvAg
 046A==
X-Gm-Message-State: AOJu0YzLL+Gi8cY1pMcGJC/0McvaqTj4+CLan51ia8Nzy0k6v5xRXAk3
 gwPiHhlkT4xn8Pd7G29K7Ayoz6Aw6FbWus0p9nqeh5eVbNONN4fBC7Sqv6i+KDW2R5A6vSJMyec
 NXdi6dzFsrsAqewBBJ2iBnSZjLbG38neKby/y4uc7xsgziy+gcygBm/yo
X-Google-Smtp-Source: AGHT+IF8sAEOZPR9OOosFsGdLONYYmM4C7N72Gxd2lJNj0TnM5bDcUAUj21SMQtiHeEw3wuj0iUrGzzN45Ty
X-Received: by 2002:a9d:6f97:0:b0:6e6:7d90:2866 with SMTP id
 h23-20020a9d6f97000000b006e67d902866mr1223044otq.16.1711576871573; 
 Wed, 27 Mar 2024 15:01:11 -0700 (PDT)
Received: from postal.iol.unh.edu (postal.iol.unh.edu.
 [2606:4100:3880:1234::84]) by smtp-relay.gmail.com with ESMTPS id
 w18-20020a05620a445200b0078a48a8e4a8sm16667qkp.0.2024.03.27.15.01.11
 (version=TLS1_2 cipher=ECDHE-ECDSA-AES128-GCM-SHA256 bits=128/128);
 Wed, 27 Mar 2024 15:01:11 -0700 (PDT)
X-Relaying-Domain: iol.unh.edu
Date: Wed, 27 Mar 2024 15:01:11 -0700 (PDT)
Message-ID: <66049727.050a0220.e36c5.08b0SMTPIN_ADDED_MISSING@mx.google.com>
Received: from [172.17.0.7] (unknown [172.18.0.217])
 by postal.iol.unh.edu (Postfix) with ESMTP id 19BEF6052471;
 Wed, 27 Mar 2024 18:01:11 -0400 (EDT)
Subject: |SUCCESS| pw138873-138875 [PATCH] [v8,4/4] cryptodev: remove rte mar
From: dpdklab@iol.unh.edu
To: Test Report <test-report@dpdk.org>
Cc: dpdk-test-reports@iol.unh.edu
In-Reply-To: <1711569406-7750-5-git-send-email-roretzla@linux.microsoft.com>
References: <1711569406-7750-5-git-send-email-roretzla@linux.microsoft.com>
Content-Type: text/plain
X-BeenThere: test-report@dpdk.org
X-Mailman-Version: 2.1.29
Precedence: list
List-Id: automatic DPDK test reports <test-report.dpdk.org>
List-Unsubscribe: <https://mails.dpdk.org/options/test-report>,
 <mailto:test-report-request@dpdk.org?subject=unsubscribe>
List-Archive: <http://mails.dpdk.org/archives/test-report/>
List-Post: <mailto:test-report@dpdk.org>
List-Help: <mailto:test-report-request@dpdk.org?subject=help>
List-Subscribe: <https://mails.dpdk.org/listinfo/test-report>,
 <mailto:test-report-request@dpdk.org?subject=subscribe>
Errors-To: test-report-bounces@dpdk.org

Test-Label: iol-unit-arm64-testing
Test-Status: SUCCESS
http://dpdk.org/patch/138875

_Testing PASS_

Submitter: Tyler Retzlaff <roretzla@linux.microsoft.com>
Date: Wednesday, March 27 2024 19:56:46 
DPDK git baseline: Repo:dpdk
  Branch: master
  CommitID:ded4d4765171b88470e59307f10625e942f22fca

138873-138875 --> testing pass

Test environment and result as below:

+-----------------------------+----------------+--------------+
|         Environment         | dpdk_unit_test | lpm_autotest |
+=============================+================+==============+
| 32-bit Ubuntu 20.04.4 (ARM) | PASS           | SKIPPED      |
+-----------------------------+----------------+--------------+
| CentOS Stream 9 (ARM)       | PASS           | SKIPPED      |
+-----------------------------+----------------+--------------+
| Debian 11 (Buster) (ARM)    | PASS           | SKIPPED      |
+-----------------------------+----------------+--------------+
| Debian 12 (arm)             | PASS           | SKIPPED      |
+-----------------------------+----------------+--------------+
| Fedora 39 (ARM)             | PASS           | SKIPPED      |
+-----------------------------+----------------+--------------+
| Ubuntu 20.04 ARM SVE        | SKIPPED        | PASS         |
+-----------------------------+----------------+--------------+


32-bit Ubuntu 20.04.4 (ARM)
	Kernel: 5.4.0-155-generic aarch64
	Compiler: gcc 9.4

CentOS Stream 9 (ARM)
	Kernel: Container Host Kernel
	Compiler: gcc 11.4.1

Debian 11 (Buster) (ARM)
	Kernel: Container Host Kernel
	Compiler: gcc 10.2.1

Debian 12 (arm)
	Kernel: Container Host Kernel
	Compiler: gcc 12.2.0

Fedora 39 (ARM)
	Kernel: Depends on container host
	Compiler: gcc 13.2.1

Ubuntu 20.04 ARM SVE
	Kernel: 5.4.0-167-generic
	Compiler: gcc (Ubuntu 10.5.0-1ubuntu1~20.04) 10.5.0

To view detailed results, visit:
https://lab.dpdk.org/results/dashboard/patchsets/29669/

UNH-IOL DPDK Community Lab

To manage your email subscriptions, visit: 
https://lab.dpdk.org/results/dashboard/preferences/subscriptions/