From mboxrd@z Thu Jan  1 00:00:00 1970
Return-Path: <test-report-bounces@dpdk.org>
Received: from mails.dpdk.org (mails.dpdk.org [217.70.189.124])
	by inbox.dpdk.org (Postfix) with ESMTP id 223A743D5B
	for <public@inbox.dpdk.org>; Thu, 28 Mar 2024 00:26:19 +0100 (CET)
Received: from mails.dpdk.org (localhost [127.0.0.1])
	by mails.dpdk.org (Postfix) with ESMTP id 19CDA402CE;
	Thu, 28 Mar 2024 00:26:19 +0100 (CET)
Received: from mail-pf1-f225.google.com (mail-pf1-f225.google.com
 [209.85.210.225])
 by mails.dpdk.org (Postfix) with ESMTP id BA88B402AC
 for <test-report@dpdk.org>; Thu, 28 Mar 2024 00:26:07 +0100 (CET)
Received: by mail-pf1-f225.google.com with SMTP id
 d2e1a72fcca58-6e6b22af648so1117486b3a.0
 for <test-report@dpdk.org>; Wed, 27 Mar 2024 16:26:07 -0700 (PDT)
DKIM-Signature: v=1; a=rsa-sha256; c=relaxed/relaxed;
 d=iol.unh.edu; s=unh-iol; t=1711581967; x=1712186767; darn=dpdk.org;
 h=references:in-reply-to:cc:to:from:subject:message-id:date:from:to
 :cc:subject:date:message-id:reply-to;
 bh=7vxc0hSUKjyh6xS6/6T3qYZySaCMyE0Hp35hx3LfZt8=;
 b=Q3BFwJIy4U8oRbjquDfWOjwD8FxBpWTIre9BiUrE73cFlSdCDJd0768tWjqIt/KdQV
 mkPsuJ+nxrtMd/1zaXx4MFQ6hwsOFr0r6ITQ/6QZm3jpow+SFY7/fG0ePq/NUXiN0JMq
 stFXsrABQ3M9KehJaPyAHZnX991+rjuWAP62s=
X-Google-DKIM-Signature: v=1; a=rsa-sha256; c=relaxed/relaxed;
 d=1e100.net; s=20230601; t=1711581967; x=1712186767;
 h=references:in-reply-to:cc:to:from:subject:message-id:date
 :x-gm-message-state:from:to:cc:subject:date:message-id:reply-to;
 bh=7vxc0hSUKjyh6xS6/6T3qYZySaCMyE0Hp35hx3LfZt8=;
 b=CcHHcSf4g9Vrb4NYWYlG7jbFrLTRWBPAGDQPFW21qdq3OLs419/VvqUbVG4HN0rX0a
 NTdg6HQKBg+Cg73FsD+U5yyF2aV0BJPK/dTzFg+wgThiCzh7ow1536MBQyiYeTJNqiaR
 fLk0vJboIOLTQSPQBcF34XuGcnrtSSg7AuTfAivxd85DNbIhP7+Py7LS4pvtGUowtiki
 qFJdg1lZ5+AFOLKtmiATL2S1HJ0yfgBjXArgaBXsTL6seIwihPo0vUZynWLsnzQUIAH/
 v//obQQjifk+ihMijQ9AEotOrQTZTRaqISqeeOqWvuLX+fYSwedb3EW2pMNiHP34MeIz
 xh2A==
X-Gm-Message-State: AOJu0YyxAEia+uoLB83tN/tTeSxsuQF6igsByMsseIBJIbBnABfupstR
 iBkjZoaafbZyPtdld3Cy3nGcfkOJwugLbBjlqv7+A1SPVF9TYVC2o4L9eIpMTapQeGTwRG+Ze57
 PDXBcW51scUiKgvV6wnyReGMqKdysomnKgBjCmfcVVc30IqxCWsDJ8g7Q
X-Google-Smtp-Source: AGHT+IG7qYIgHTU2PDnpmvwsMr7diacxv1tL5oP8Y4oncocUiFX5dM9Oa0RPHikNryZuBOhhLmBNsBMyPzKF
X-Received: by 2002:a05:6a20:729d:b0:1a5:6a5f:b0b8 with SMTP id
 o29-20020a056a20729d00b001a56a5fb0b8mr1079495pzk.25.1711581966911; 
 Wed, 27 Mar 2024 16:26:06 -0700 (PDT)
Received: from postal.iol.unh.edu (postal.iol.unh.edu.
 [2606:4100:3880:1234::84]) by smtp-relay.gmail.com with ESMTPS id
 ka2-20020a056a00938200b006eabc5f5bbcsm15294pfb.8.2024.03.27.16.26.06
 (version=TLS1_2 cipher=ECDHE-ECDSA-AES128-GCM-SHA256 bits=128/128);
 Wed, 27 Mar 2024 16:26:06 -0700 (PDT)
X-Relaying-Domain: iol.unh.edu
Date: Wed, 27 Mar 2024 16:26:06 -0700 (PDT)
Message-ID: <6604ab0e.050a0220.0b99.0b0bSMTPIN_ADDED_MISSING@mx.google.com>
Received: from [172.21.0.8] (unknown [172.18.0.240])
 by postal.iol.unh.edu (Postfix) with ESMTP id 0358D6052471;
 Wed, 27 Mar 2024 19:26:06 -0400 (EDT)
Subject: |SUCCESS| pw138878-138921 [PATCH] [v3,45/45] app/test-bbdev: use rte
From: dpdklab@iol.unh.edu
To: Test Report <test-report@dpdk.org>
Cc: dpdk-test-reports@iol.unh.edu
In-Reply-To: <1711579078-10624-46-git-send-email-roretzla@linux.microsoft.com>
References: <1711579078-10624-46-git-send-email-roretzla@linux.microsoft.com>
Content-Type: text/plain
X-BeenThere: test-report@dpdk.org
X-Mailman-Version: 2.1.29
Precedence: list
List-Id: automatic DPDK test reports <test-report.dpdk.org>
List-Unsubscribe: <https://mails.dpdk.org/options/test-report>,
 <mailto:test-report-request@dpdk.org?subject=unsubscribe>
List-Archive: <http://mails.dpdk.org/archives/test-report/>
List-Post: <mailto:test-report@dpdk.org>
List-Help: <mailto:test-report-request@dpdk.org?subject=help>
List-Subscribe: <https://mails.dpdk.org/listinfo/test-report>,
 <mailto:test-report-request@dpdk.org?subject=subscribe>
Errors-To: test-report-bounces@dpdk.org

Test-Label: iol-compile-amd64-testing
Test-Status: SUCCESS
http://dpdk.org/patch/138921

_Testing PASS_

Submitter: Tyler Retzlaff <roretzla@linux.microsoft.com>
Date: Wednesday, March 27 2024 22:37:58 
DPDK git baseline: Repo:dpdk
  Branch: master
  CommitID:c29202f2f70abd22e3d74e0671ec9f6cb9e387ee

138878-138921 --> testing pass

Test environment and result as below:

+---------------------+--------------------+----------------------+-------------------+
|     Environment     | dpdk_meson_compile | dpdk_mingw64_compile | dpdk_msvc_compile |
+=====================+====================+======================+===================+
| FreeBSD 13.2        | PASS               | SKIPPED              | SKIPPED           |
+---------------------+--------------------+----------------------+-------------------+
| Windows Server 2022 | PASS               | PASS                 | PASS              |
+---------------------+--------------------+----------------------+-------------------+
| Windows Server 2019 | PASS               | PASS                 | SKIPPED           |
+---------------------+--------------------+----------------------+-------------------+


FreeBSD 13.2
	Kernel: 13.2
	Compiler: clang 14.0.5

Windows Server 2022
	Kernel: 10.0.20348.2031
	Compiler: clang 15.0.7, gcc 8.1.0 (MinGW), and MSVC VS 17.9

Windows Server 2019
	Kernel: 10.0.17763
	Compiler: clang 14.0 and gcc 8.1.0 (MinGW)

To view detailed results, visit:
https://lab.dpdk.org/results/dashboard/patchsets/29670/

UNH-IOL DPDK Community Lab

To manage your email subscriptions, visit: 
https://lab.dpdk.org/results/dashboard/preferences/subscriptions/