From mboxrd@z Thu Jan  1 00:00:00 1970
Return-Path: <test-report-bounces@dpdk.org>
Received: from mails.dpdk.org (mails.dpdk.org [217.70.189.124])
	by inbox.dpdk.org (Postfix) with ESMTP id 95CFE43D5B
	for <public@inbox.dpdk.org>; Thu, 28 Mar 2024 00:27:10 +0100 (CET)
Received: from mails.dpdk.org (localhost [127.0.0.1])
	by mails.dpdk.org (Postfix) with ESMTP id 8FB19402CE;
	Thu, 28 Mar 2024 00:27:10 +0100 (CET)
Received: from mail-pl1-f228.google.com (mail-pl1-f228.google.com
 [209.85.214.228])
 by mails.dpdk.org (Postfix) with ESMTP id EE855402AC
 for <test-report@dpdk.org>; Thu, 28 Mar 2024 00:27:08 +0100 (CET)
Received: by mail-pl1-f228.google.com with SMTP id
 d9443c01a7336-1dee5ef2a7bso3228095ad.1
 for <test-report@dpdk.org>; Wed, 27 Mar 2024 16:27:08 -0700 (PDT)
DKIM-Signature: v=1; a=rsa-sha256; c=relaxed/relaxed;
 d=iol.unh.edu; s=unh-iol; t=1711582028; x=1712186828; darn=dpdk.org;
 h=references:in-reply-to:cc:to:from:subject:message-id:date:from:to
 :cc:subject:date:message-id:reply-to;
 bh=7vxc0hSUKjyh6xS6/6T3qYZySaCMyE0Hp35hx3LfZt8=;
 b=K27XbfKnd2p1ts6UOFCAgWnoHX2sl6GRkLy7bqrzwFWzJr+4s09zSKd/PbvmwbBPA0
 gCW/nXUYdvxONT+sePM0Co4QH2Ax4SFJ0V5yYwn8R6o+2jcHki1F9jKvhmDEqcATKNsU
 Xx+ZcIB9l4chVFBHNNIK/0dPYATId9IYXt5PA=
X-Google-DKIM-Signature: v=1; a=rsa-sha256; c=relaxed/relaxed;
 d=1e100.net; s=20230601; t=1711582028; x=1712186828;
 h=references:in-reply-to:cc:to:from:subject:message-id:date
 :x-gm-message-state:from:to:cc:subject:date:message-id:reply-to;
 bh=7vxc0hSUKjyh6xS6/6T3qYZySaCMyE0Hp35hx3LfZt8=;
 b=TjMTR3Wdep0Hr2rt75CAHXGSRJImkdBuolzd1MpX/4o/VxORRslSrvj7z2bgQP6TiZ
 G5hORXiloJCxsZWW4TbHtVpdCw1XVXQE0lpUjnRdt2M31mvCZpBXjbK9FxZAvOtuM6/V
 7WKj0dSxt5WJGcgvhITDkNZALtE4CxGQFQMMS5SWZsT4evo95TZsjnEtEpP92xwhaOTn
 LDWUvEBvg3IwS4Gijt7LlCI4Ji02qI2e+nJgm1Fq2Ydrx2JZSTNubpWY66pN3yZCX+QW
 6et16buIhueb/0EIMr6d4BG4EnMgjhsQRaC6rtgWcliwF68pBGhcICGhc81fVRZj3u2P
 bDxA==
X-Gm-Message-State: AOJu0Yw8IGWHRDpKA1lRa+bbSgbSFYFJc/TIkjKW3ajVruyQA8quJR62
 GFVuZFGm/dQ0gAxpMCvBdq28TncMAuJdVPxIslHkSWOQBm63Ze5HSMXomrkWWX/hs8C2AA+vJvT
 xxZ14mapZThB01f7uIW3HGIqTI1OW89miDmYGy9izvEYcnuaZbxcfixwz
X-Google-Smtp-Source: AGHT+IETKTkWNBRiOCpPniu+nMNmNMLZVK9nAPZGRFawxPijvnudwSZwHs0v933wLcRHlrfjzWW5NaQSg6NJ
X-Received: by 2002:a17:902:e5ce:b0:1e0:ac80:570f with SMTP id
 u14-20020a170902e5ce00b001e0ac80570fmr1396629plf.54.1711582028213; 
 Wed, 27 Mar 2024 16:27:08 -0700 (PDT)
Received: from postal.iol.unh.edu (postal.iol.unh.edu.
 [2606:4100:3880:1234::84]) by smtp-relay.gmail.com with ESMTPS id
 19-20020a170902c21300b001e21309e29csm4541pll.98.2024.03.27.16.27.08
 (version=TLS1_2 cipher=ECDHE-ECDSA-AES128-GCM-SHA256 bits=128/128);
 Wed, 27 Mar 2024 16:27:08 -0700 (PDT)
X-Relaying-Domain: iol.unh.edu
Date: Wed, 27 Mar 2024 16:27:08 -0700 (PDT)
Message-ID: <6604ab4c.170a0220.da1f5.03d4SMTPIN_ADDED_MISSING@mx.google.com>
Received: from [172.21.0.6] (unknown [172.18.0.240])
 by postal.iol.unh.edu (Postfix) with ESMTP id 678A36052471;
 Wed, 27 Mar 2024 19:27:07 -0400 (EDT)
Subject: |SUCCESS| pw138878-138921 [PATCH] [v3,45/45] app/test-bbdev: use rte
From: dpdklab@iol.unh.edu
To: Test Report <test-report@dpdk.org>
Cc: dpdk-test-reports@iol.unh.edu
In-Reply-To: <1711579078-10624-46-git-send-email-roretzla@linux.microsoft.com>
References: <1711579078-10624-46-git-send-email-roretzla@linux.microsoft.com>
Content-Type: text/plain
X-BeenThere: test-report@dpdk.org
X-Mailman-Version: 2.1.29
Precedence: list
List-Id: automatic DPDK test reports <test-report.dpdk.org>
List-Unsubscribe: <https://mails.dpdk.org/options/test-report>,
 <mailto:test-report-request@dpdk.org?subject=unsubscribe>
List-Archive: <http://mails.dpdk.org/archives/test-report/>
List-Post: <mailto:test-report@dpdk.org>
List-Help: <mailto:test-report-request@dpdk.org?subject=help>
List-Subscribe: <https://mails.dpdk.org/listinfo/test-report>,
 <mailto:test-report-request@dpdk.org?subject=subscribe>
Errors-To: test-report-bounces@dpdk.org

Test-Label: iol-compile-amd64-testing
Test-Status: SUCCESS
http://dpdk.org/patch/138921

_Testing PASS_

Submitter: Tyler Retzlaff <roretzla@linux.microsoft.com>
Date: Wednesday, March 27 2024 22:37:58 
DPDK git baseline: Repo:dpdk
  Branch: master
  CommitID:c29202f2f70abd22e3d74e0671ec9f6cb9e387ee

138878-138921 --> testing pass

Test environment and result as below:

+---------------------+--------------------+----------------------+-------------------+
|     Environment     | dpdk_meson_compile | dpdk_mingw64_compile | dpdk_msvc_compile |
+=====================+====================+======================+===================+
| FreeBSD 13.2        | PASS               | SKIPPED              | SKIPPED           |
+---------------------+--------------------+----------------------+-------------------+
| Windows Server 2022 | PASS               | PASS                 | PASS              |
+---------------------+--------------------+----------------------+-------------------+
| Windows Server 2019 | PASS               | PASS                 | SKIPPED           |
+---------------------+--------------------+----------------------+-------------------+


FreeBSD 13.2
	Kernel: 13.2
	Compiler: clang 14.0.5

Windows Server 2022
	Kernel: 10.0.20348.2031
	Compiler: clang 15.0.7, gcc 8.1.0 (MinGW), and MSVC VS 17.9

Windows Server 2019
	Kernel: 10.0.17763
	Compiler: clang 14.0 and gcc 8.1.0 (MinGW)

To view detailed results, visit:
https://lab.dpdk.org/results/dashboard/patchsets/29670/

UNH-IOL DPDK Community Lab

To manage your email subscriptions, visit: 
https://lab.dpdk.org/results/dashboard/preferences/subscriptions/