From mboxrd@z Thu Jan  1 00:00:00 1970
Return-Path: <test-report-bounces@dpdk.org>
Received: from mails.dpdk.org (mails.dpdk.org [217.70.189.124])
	by inbox.dpdk.org (Postfix) with ESMTP id 4D71243D5B
	for <public@inbox.dpdk.org>; Thu, 28 Mar 2024 00:33:38 +0100 (CET)
Received: from mails.dpdk.org (localhost [127.0.0.1])
	by mails.dpdk.org (Postfix) with ESMTP id 483B742D66;
	Thu, 28 Mar 2024 00:33:38 +0100 (CET)
Received: from mail-io1-f100.google.com (mail-io1-f100.google.com
 [209.85.166.100])
 by mails.dpdk.org (Postfix) with ESMTP id 65191402CE
 for <test-report@dpdk.org>; Thu, 28 Mar 2024 00:33:26 +0100 (CET)
Received: by mail-io1-f100.google.com with SMTP id
 ca18e2360f4ac-7cc133f431fso16309339f.1
 for <test-report@dpdk.org>; Wed, 27 Mar 2024 16:33:26 -0700 (PDT)
DKIM-Signature: v=1; a=rsa-sha256; c=relaxed/relaxed;
 d=iol.unh.edu; s=unh-iol; t=1711582406; x=1712187206; darn=dpdk.org;
 h=references:in-reply-to:cc:to:from:subject:message-id:date:from:to
 :cc:subject:date:message-id:reply-to;
 bh=RzfevToSBNn5BCliRZ8ayN2+Gn7RAS0mlziuifTIMF4=;
 b=YVh6EEix+pDfIMGuOrSCc8kAJp2nepcBraWtGhB7BmZuv34VyKJGAM58TNfsE0+eoG
 F8YbLu36QndvOb8V4T3GT1TiwQnZllK9Kqb3D4UsqSsppFOLtwwRsLY5Gi03azbFU0ay
 hVnocmKnJUR8UFhQU/UBMwpCKI5TlkLqkkfmM=
X-Google-DKIM-Signature: v=1; a=rsa-sha256; c=relaxed/relaxed;
 d=1e100.net; s=20230601; t=1711582406; x=1712187206;
 h=references:in-reply-to:cc:to:from:subject:message-id:date
 :x-gm-message-state:from:to:cc:subject:date:message-id:reply-to;
 bh=RzfevToSBNn5BCliRZ8ayN2+Gn7RAS0mlziuifTIMF4=;
 b=UzqmdHn0sUShiexr2xSr1tAl7kfTIOvMVSXTZCRpTzecBAmA6/fR8TsGvakaqEM3Hp
 FdPxItjdPtpUUbwqu9R6/t/Cj2FAXWSjFtufHfNjPtTjai0wcxcj2ScZk1R+pzzVty5R
 dRxHWIabx4Kh6XgDDV5PUldukeB0chZt0vS/K6PDh3U9JhBeA1Xdl36/qnpyB9CjqAn6
 qj84ZNFw/XVeZoQBh/CkAletl4k/J/73gnCkJNP+HCgq+qgavyNQrrWR1WsVyrQ2q7+B
 BLZ7vQbAChERJH/wd3D0Y8ZuFjLCV9zM45rwDtP4bMHJj3yGrFCQ2K4V8Ec+sSYJHTiL
 2p8w==
X-Gm-Message-State: AOJu0Yyd4f/mMjT3BMfXGMbo3Mpc5kKBj9E1jL44UHspDAfPxDhYBlZn
 muPKKSVPrqRkNhAYYC98/2Tdl2qdWqs3U9uu/fQ0U9wdfuwxUTwIeSOs/yHKnCPZiR/71ejE3PF
 w2HlENhYO1kSYDQOzLUvymhe/vb4i+IhZ2qEgpfiSM5N3vbft7/BMQ3Gb
X-Google-Smtp-Source: AGHT+IE6AOjJVTRjXoe5JgztPSrdYkxkUytSWo1fpN8KnnE1Ju+CVCB2feLMnwhr+b9JZbYE+CgVg0Hv8TYA
X-Received: by 2002:a5e:834d:0:b0:7d0:89d3:bbdd with SMTP id
 y13-20020a5e834d000000b007d089d3bbddmr698080iom.11.1711582405831; 
 Wed, 27 Mar 2024 16:33:25 -0700 (PDT)
Received: from postal.iol.unh.edu (postal.iol.unh.edu.
 [2606:4100:3880:1234::84]) by smtp-relay.gmail.com with ESMTPS id
 a15-20020a056638164f00b00474f94c9cc3sm3140jat.37.2024.03.27.16.33.25
 (version=TLS1_2 cipher=ECDHE-ECDSA-AES128-GCM-SHA256 bits=128/128);
 Wed, 27 Mar 2024 16:33:25 -0700 (PDT)
X-Relaying-Domain: iol.unh.edu
Date: Wed, 27 Mar 2024 16:33:25 -0700 (PDT)
Message-ID: <6604acc5.050a0220.5e48b.0264SMTPIN_ADDED_MISSING@mx.google.com>
Received: from [172.21.0.6] (unknown [172.18.0.240])
 by postal.iol.unh.edu (Postfix) with ESMTP id 4B2316052471;
 Wed, 27 Mar 2024 19:33:25 -0400 (EDT)
Subject: |SUCCESS| pw138878-138921 [PATCH] [v3,45/45] app/test-bbdev: use rte
From: dpdklab@iol.unh.edu
To: Test Report <test-report@dpdk.org>
Cc: dpdk-test-reports@iol.unh.edu
In-Reply-To: <1711579078-10624-46-git-send-email-roretzla@linux.microsoft.com>
References: <1711579078-10624-46-git-send-email-roretzla@linux.microsoft.com>
Content-Type: text/plain
X-BeenThere: test-report@dpdk.org
X-Mailman-Version: 2.1.29
Precedence: list
List-Id: automatic DPDK test reports <test-report.dpdk.org>
List-Unsubscribe: <https://mails.dpdk.org/options/test-report>,
 <mailto:test-report-request@dpdk.org?subject=unsubscribe>
List-Archive: <http://mails.dpdk.org/archives/test-report/>
List-Post: <mailto:test-report@dpdk.org>
List-Help: <mailto:test-report-request@dpdk.org?subject=help>
List-Subscribe: <https://mails.dpdk.org/listinfo/test-report>,
 <mailto:test-report-request@dpdk.org?subject=subscribe>
Errors-To: test-report-bounces@dpdk.org

Test-Label: iol-abi-testing
Test-Status: SUCCESS
http://dpdk.org/patch/138921

_Testing PASS_

Submitter: Tyler Retzlaff <roretzla@linux.microsoft.com>
Date: Wednesday, March 27 2024 22:37:58 
DPDK git baseline: Repo:dpdk
  Branch: master
  CommitID:c29202f2f70abd22e3d74e0671ec9f6cb9e387ee

138878-138921 --> testing pass

Test environment and result as below:

+------------------+----------+
|   Environment    | abi_test |
+==================+==========+
| Debian 11 (arm)  | PASS     |
+------------------+----------+
| openSUSE Leap 15 | PASS     |
+------------------+----------+
| Ubuntu 22.04     | PASS     |
+------------------+----------+


Debian 11 (arm)
	Kernel: Container Host Kernel
	Compiler: gcc 10.2.1

openSUSE Leap 15
	Kernel: 5.4.0-167-generic
	Compiler: gcc 7.5.0

Ubuntu 22.04
	Kernel: 5.4.0-167-generic
	Compiler: gcc 11.4.0

To view detailed results, visit:
https://lab.dpdk.org/results/dashboard/patchsets/29670/

UNH-IOL DPDK Community Lab

To manage your email subscriptions, visit: 
https://lab.dpdk.org/results/dashboard/preferences/subscriptions/