From mboxrd@z Thu Jan  1 00:00:00 1970
Return-Path: <test-report-bounces@dpdk.org>
Received: from mails.dpdk.org (mails.dpdk.org [217.70.189.124])
	by inbox.dpdk.org (Postfix) with ESMTP id 1207343D5B
	for <public@inbox.dpdk.org>; Thu, 28 Mar 2024 00:43:43 +0100 (CET)
Received: from mails.dpdk.org (localhost [127.0.0.1])
	by mails.dpdk.org (Postfix) with ESMTP id 0C3F9402D6;
	Thu, 28 Mar 2024 00:43:43 +0100 (CET)
Received: from mail-il1-f225.google.com (mail-il1-f225.google.com
 [209.85.166.225])
 by mails.dpdk.org (Postfix) with ESMTP id 590C6402CE
 for <test-report@dpdk.org>; Thu, 28 Mar 2024 00:43:31 +0100 (CET)
Received: by mail-il1-f225.google.com with SMTP id
 e9e14a558f8ab-368a7106090so1336435ab.0
 for <test-report@dpdk.org>; Wed, 27 Mar 2024 16:43:31 -0700 (PDT)
DKIM-Signature: v=1; a=rsa-sha256; c=relaxed/relaxed;
 d=iol.unh.edu; s=unh-iol; t=1711583010; x=1712187810; darn=dpdk.org;
 h=references:in-reply-to:cc:to:from:subject:message-id:date:from:to
 :cc:subject:date:message-id:reply-to;
 bh=1lcuOtz+tcFcCs45AMx+SX1ODkgusYsUfy7X60VGfU4=;
 b=Xc5YjsnoD1DeZ0N9olUtA6NHqmaQLZvQfq9Siq+WECQU5qXNLbrP2y3MUIqKNzXnLe
 rpRXJPiKyvJDSRJut2oIvE2yBCuAwdSEe6+QR6DuiYpmX40lfs12JUWFaGxYNia3DYmM
 Etka+TSPm1aARF9m3HNm3ovRk+vovvFypwLsg=
X-Google-DKIM-Signature: v=1; a=rsa-sha256; c=relaxed/relaxed;
 d=1e100.net; s=20230601; t=1711583010; x=1712187810;
 h=references:in-reply-to:cc:to:from:subject:message-id:date
 :x-gm-message-state:from:to:cc:subject:date:message-id:reply-to;
 bh=1lcuOtz+tcFcCs45AMx+SX1ODkgusYsUfy7X60VGfU4=;
 b=aKXNpSGBy9B+NDHlnVTO4P8d8BgwkiQXl47PMJ/gQxRlZNJkNkVnAbBrXCvR+6b4Nl
 NFrraYYx63nKLMWOuNwhZbNRJ+NfQUUAYGBHgw6dNNSgkDMQh1poAOb3hHe8DXWl0Hqq
 UXaamkGkkgaCcL6PF+iq3W5OAYto/gj9QheJ/2iN/FjdQaR+DRzdUtk5gIXp6B4fNhiz
 SHFCYt+rH9fINAVQ+8E8gdq7aPqzWiJbkXQy3EDYeAA7DHvyxYLKTQiKwXjIxoQdanRC
 +j0y88EDlRk5/iJGguC7ZJFTXdP8T+3GC486ffVCjr2p6KA7ebxRWAKqjCC0D4PN4T2c
 FFGQ==
X-Gm-Message-State: AOJu0YzYpcTWHiq2xfzXNmmP+bpSOTe8nJ2Wa28xosePBd+1BkU5PdMw
 4XtgTe4l32iBcIgU5qPk8UPW6iYADLrDD9JBEJuGOxfviddRfJJAfB7t8WE6EWna+QSDphrx9Wh
 dqpH5R7rJQaty7pbvOQXeC0phfk/oxeCe8LKCy9dccbQmH3LsSEvoJ67v
X-Google-Smtp-Source: AGHT+IGLdqklzkWawlW/Vc9vHQVbUB9jRFuv9fMf1bJr41Sqfw/NF5NHby+kjJOeamHdBQoEmzmZM56/Gid7
X-Received: by 2002:a92:dd02:0:b0:365:185a:83ed with SMTP id
 n2-20020a92dd02000000b00365185a83edmr650383ilm.10.1711583010222; 
 Wed, 27 Mar 2024 16:43:30 -0700 (PDT)
Received: from postal.iol.unh.edu (postal.iol.unh.edu.
 [2606:4100:3880:1234::84]) by smtp-relay.gmail.com with ESMTPS id
 bp10-20020a056e02348a00b00366ba37e46esm11195ilb.36.2024.03.27.16.43.30
 (version=TLS1_2 cipher=ECDHE-ECDSA-AES128-GCM-SHA256 bits=128/128);
 Wed, 27 Mar 2024 16:43:30 -0700 (PDT)
X-Relaying-Domain: iol.unh.edu
Date: Wed, 27 Mar 2024 16:43:30 -0700 (PDT)
Message-ID: <6604af22.050a0220.8df60.0a14SMTPIN_ADDED_MISSING@mx.google.com>
Received: from [172.21.0.7] (unknown [172.18.0.240])
 by postal.iol.unh.edu (Postfix) with ESMTP id B028C6052471;
 Wed, 27 Mar 2024 19:43:29 -0400 (EDT)
Subject: |SUCCESS| pw138878-138921 [PATCH] [v3,45/45] app/test-bbdev: use rte
From: dpdklab@iol.unh.edu
To: Test Report <test-report@dpdk.org>
Cc: dpdk-test-reports@iol.unh.edu
In-Reply-To: <1711579078-10624-46-git-send-email-roretzla@linux.microsoft.com>
References: <1711579078-10624-46-git-send-email-roretzla@linux.microsoft.com>
Content-Type: text/plain
X-BeenThere: test-report@dpdk.org
X-Mailman-Version: 2.1.29
Precedence: list
List-Id: automatic DPDK test reports <test-report.dpdk.org>
List-Unsubscribe: <https://mails.dpdk.org/options/test-report>,
 <mailto:test-report-request@dpdk.org?subject=unsubscribe>
List-Archive: <http://mails.dpdk.org/archives/test-report/>
List-Post: <mailto:test-report@dpdk.org>
List-Help: <mailto:test-report-request@dpdk.org?subject=help>
List-Subscribe: <https://mails.dpdk.org/listinfo/test-report>,
 <mailto:test-report-request@dpdk.org?subject=subscribe>
Errors-To: test-report-bounces@dpdk.org

Test-Label: iol-compile-amd64-testing
Test-Status: SUCCESS
http://dpdk.org/patch/138921

_Testing PASS_

Submitter: Tyler Retzlaff <roretzla@linux.microsoft.com>
Date: Wednesday, March 27 2024 22:37:58 
DPDK git baseline: Repo:dpdk
  Branch: master
  CommitID:c29202f2f70abd22e3d74e0671ec9f6cb9e387ee

138878-138921 --> testing pass

Test environment and result as below:

+---------------------+--------------------+----------------------+-------------------+
|     Environment     | dpdk_meson_compile | dpdk_mingw64_compile | dpdk_msvc_compile |
+=====================+====================+======================+===================+
| FreeBSD 13.2        | PASS               | SKIPPED              | SKIPPED           |
+---------------------+--------------------+----------------------+-------------------+
| Windows Server 2022 | PASS               | PASS                 | PASS              |
+---------------------+--------------------+----------------------+-------------------+
| Windows Server 2019 | PASS               | PASS                 | SKIPPED           |
+---------------------+--------------------+----------------------+-------------------+
| CentOS Stream 8     | PASS               | SKIPPED              | SKIPPED           |
+---------------------+--------------------+----------------------+-------------------+
| CentOS Stream 9     | PASS               | SKIPPED              | SKIPPED           |
+---------------------+--------------------+----------------------+-------------------+
| Fedora 37           | PASS               | SKIPPED              | SKIPPED           |
+---------------------+--------------------+----------------------+-------------------+


FreeBSD 13.2
	Kernel: 13.2
	Compiler: clang 14.0.5

Windows Server 2022
	Kernel: 10.0.20348.2031
	Compiler: clang 15.0.7, gcc 8.1.0 (MinGW), and MSVC VS 17.9

Windows Server 2019
	Kernel: 10.0.17763
	Compiler: clang 14.0 and gcc 8.1.0 (MinGW)

CentOS Stream 8
	Kernel: 5.4.0-167-generic
	Compiler: gcc 8.5.0 20210514

CentOS Stream 9
	Kernel: 5.4.0-167-generic
	Compiler: gcc 11.4.1 20230605

Fedora 37
	Kernel: Depends on container host system
	Compiler: gcc 12.3.1

To view detailed results, visit:
https://lab.dpdk.org/results/dashboard/patchsets/29670/

UNH-IOL DPDK Community Lab

To manage your email subscriptions, visit: 
https://lab.dpdk.org/results/dashboard/preferences/subscriptions/