From mboxrd@z Thu Jan  1 00:00:00 1970
Return-Path: <test-report-bounces@dpdk.org>
Received: from mails.dpdk.org (mails.dpdk.org [217.70.189.124])
	by inbox.dpdk.org (Postfix) with ESMTP id C50E343D5B
	for <public@inbox.dpdk.org>; Thu, 28 Mar 2024 00:58:19 +0100 (CET)
Received: from mails.dpdk.org (localhost [127.0.0.1])
	by mails.dpdk.org (Postfix) with ESMTP id BB466402CE;
	Thu, 28 Mar 2024 00:58:19 +0100 (CET)
Received: from mail-qv1-f97.google.com (mail-qv1-f97.google.com
 [209.85.219.97]) by mails.dpdk.org (Postfix) with ESMTP id 3DF72402AC
 for <test-report@dpdk.org>; Thu, 28 Mar 2024 00:58:19 +0100 (CET)
Received: by mail-qv1-f97.google.com with SMTP id
 6a1803df08f44-696925248deso2374336d6.3
 for <test-report@dpdk.org>; Wed, 27 Mar 2024 16:58:19 -0700 (PDT)
DKIM-Signature: v=1; a=rsa-sha256; c=relaxed/relaxed;
 d=iol.unh.edu; s=unh-iol; t=1711583898; x=1712188698; darn=dpdk.org;
 h=references:in-reply-to:cc:to:from:subject:message-id:date:from:to
 :cc:subject:date:message-id:reply-to;
 bh=+Iauvk3Z2UCZp/bMNfAmCtxMxajwPnxXsbh3LMch9h0=;
 b=Flx2YO1KM/JlSlihZ7DT5ZuYnneUQv+bLjnaWkehLHgrjDs/NPI3fh0K73Cv078aay
 h64MvMdM5rrih3AIqmFFpHMDCZMBVwRcoqecf9lrPDmkUVxq1h6eYmJxqUQcNz+wn0NN
 ioSsLYwSrU/u/HpOEkmdge9bFMRwhZkv40Nqo=
X-Google-DKIM-Signature: v=1; a=rsa-sha256; c=relaxed/relaxed;
 d=1e100.net; s=20230601; t=1711583898; x=1712188698;
 h=references:in-reply-to:cc:to:from:subject:message-id:date
 :x-gm-message-state:from:to:cc:subject:date:message-id:reply-to;
 bh=+Iauvk3Z2UCZp/bMNfAmCtxMxajwPnxXsbh3LMch9h0=;
 b=TAoMBaU8SCp5xXHw8yzFr7mi7/NOIDp0VTZ0LRLjuugTjtr18aUrT6f11neAFSH80r
 3UiPhCZ5np4vCe1eK1+NNtVG5pxbL2/Je6AiI3o08Alb7Qi9qe92Zp92hJDZZEgO2jY/
 V+4M6Skv4R5hAcEX1VoUXjP5xCloKITghO+9KANCI+te1ULmuHiV9LPnjncSqWtQNSEo
 Tb7+StoTjdV/a3zPdGWrcSCTB099CpOrm8nbg5YIHsY5KdLfa6WRvfi6yRpbSKpxNKn8
 WpYx3/GO+gEcYxk/SA0wAR/9Z5cD1OLLgb3T3BDMXPL7snjYko6LwGMKTSxs6+DKLDW9
 2gjQ==
X-Gm-Message-State: AOJu0YwjvHr9yQ3P79as5tWYNJFF0YkJRHcC7H5GfSM+vR6ikBanb1RO
 xZJ2FIAlb7tZ9kWjG6yxCcxN9kyZbxcVJg9enPsUCFFwmAht/xZvMLt5NNHfM8z1raelHcRJBTL
 YDE/jD3RxmimLFWSPB5HiL2USqcpcVaDe5Adj+YAX
X-Google-Smtp-Source: AGHT+IFEA5daPj8vq/npuu5PwrLC/oV1O6B8zjAc67jMPWKUkoUHAvDwMpzaQpLVZavOXdV75ISa9l6jUW3D
X-Received: by 2002:a0c:e8c6:0:b0:696:2430:c2ea with SMTP id
 m6-20020a0ce8c6000000b006962430c2eamr1120928qvo.4.1711583898609; 
 Wed, 27 Mar 2024 16:58:18 -0700 (PDT)
Received: from postal.iol.unh.edu (postal.iol.unh.edu. [132.177.123.84])
 by smtp-relay.gmail.com with ESMTPS id
 r8-20020ad45768000000b0069688fc0bafsm21299qvx.35.2024.03.27.16.58.18
 (version=TLS1_2 cipher=ECDHE-ECDSA-AES128-GCM-SHA256 bits=128/128);
 Wed, 27 Mar 2024 16:58:18 -0700 (PDT)
X-Relaying-Domain: iol.unh.edu
Date: Wed, 27 Mar 2024 16:58:18 -0700 (PDT)
Message-ID: <6604b29a.d40a0220.a403f.14fdSMTPIN_ADDED_MISSING@mx.google.com>
Received: from [172.21.0.6] (unknown [172.18.0.240])
 by postal.iol.unh.edu (Postfix) with ESMTP id 4AEA06052471;
 Wed, 27 Mar 2024 19:58:18 -0400 (EDT)
Subject: |SUCCESS| pw138878-138921 [PATCH] [v3,45/45] app/test-bbdev: use rte
From: dpdklab@iol.unh.edu
To: Test Report <test-report@dpdk.org>
Cc: dpdk-test-reports@iol.unh.edu
In-Reply-To: <1711579078-10624-46-git-send-email-roretzla@linux.microsoft.com>
References: <1711579078-10624-46-git-send-email-roretzla@linux.microsoft.com>
Content-Type: text/plain
X-BeenThere: test-report@dpdk.org
X-Mailman-Version: 2.1.29
Precedence: list
List-Id: automatic DPDK test reports <test-report.dpdk.org>
List-Unsubscribe: <https://mails.dpdk.org/options/test-report>,
 <mailto:test-report-request@dpdk.org?subject=unsubscribe>
List-Archive: <http://mails.dpdk.org/archives/test-report/>
List-Post: <mailto:test-report@dpdk.org>
List-Help: <mailto:test-report-request@dpdk.org?subject=help>
List-Subscribe: <https://mails.dpdk.org/listinfo/test-report>,
 <mailto:test-report-request@dpdk.org?subject=subscribe>
Errors-To: test-report-bounces@dpdk.org

Test-Label: iol-compile-amd64-testing
Test-Status: SUCCESS
http://dpdk.org/patch/138921

_Testing PASS_

Submitter: Tyler Retzlaff <roretzla@linux.microsoft.com>
Date: Wednesday, March 27 2024 22:37:58 
DPDK git baseline: Repo:dpdk
  Branch: master
  CommitID:c29202f2f70abd22e3d74e0671ec9f6cb9e387ee

138878-138921 --> testing pass

Test environment and result as below:

+---------------------+--------------------+----------------------+-------------------+
|     Environment     | dpdk_meson_compile | dpdk_mingw64_compile | dpdk_msvc_compile |
+=====================+====================+======================+===================+
| FreeBSD 13.2        | PASS               | SKIPPED              | SKIPPED           |
+---------------------+--------------------+----------------------+-------------------+
| Windows Server 2022 | PASS               | PASS                 | PASS              |
+---------------------+--------------------+----------------------+-------------------+
| Windows Server 2019 | PASS               | PASS                 | SKIPPED           |
+---------------------+--------------------+----------------------+-------------------+
| CentOS Stream 8     | PASS               | SKIPPED              | SKIPPED           |
+---------------------+--------------------+----------------------+-------------------+
| CentOS Stream 9     | PASS               | SKIPPED              | SKIPPED           |
+---------------------+--------------------+----------------------+-------------------+
| Fedora 37           | PASS               | SKIPPED              | SKIPPED           |
+---------------------+--------------------+----------------------+-------------------+
| Fedora 39           | PASS               | SKIPPED              | SKIPPED           |
+---------------------+--------------------+----------------------+-------------------+
| Debian 11 (arm)     | PASS               | SKIPPED              | SKIPPED           |
+---------------------+--------------------+----------------------+-------------------+
| Ubuntu 20.04        | PASS               | SKIPPED              | SKIPPED           |
+---------------------+--------------------+----------------------+-------------------+
| RHEL8               | PASS               | SKIPPED              | SKIPPED           |
+---------------------+--------------------+----------------------+-------------------+
| Debian Bullseye     | PASS               | SKIPPED              | SKIPPED           |
+---------------------+--------------------+----------------------+-------------------+
| Alpine              | PASS               | SKIPPED              | SKIPPED           |
+---------------------+--------------------+----------------------+-------------------+
| Ubuntu 22.04        | PASS               | SKIPPED              | SKIPPED           |
+---------------------+--------------------+----------------------+-------------------+
| openSUSE Leap 15    | PASS               | SKIPPED              | SKIPPED           |
+---------------------+--------------------+----------------------+-------------------+


FreeBSD 13.2
	Kernel: 13.2
	Compiler: clang 14.0.5

Windows Server 2022
	Kernel: 10.0.20348.2031
	Compiler: clang 15.0.7, gcc 8.1.0 (MinGW), and MSVC VS 17.9

Windows Server 2019
	Kernel: 10.0.17763
	Compiler: clang 14.0 and gcc 8.1.0 (MinGW)

CentOS Stream 8
	Kernel: 5.4.0-167-generic
	Compiler: gcc 8.5.0 20210514

CentOS Stream 9
	Kernel: 5.4.0-167-generic
	Compiler: gcc 11.4.1 20230605

Fedora 37
	Kernel: Depends on container host system
	Compiler: gcc 12.3.1

Fedora 39
	Kernel: Depends on container host
	Compiler: gcc 13.2.1

Debian 11 (arm)
	Kernel: Container Host Kernel
	Compiler: gcc 10.2.1

Ubuntu 20.04
	Kernel: 5.4.0-167-generic
	Compiler: gcc 9.4.0-1ubuntu1~20.04.1

RHEL8
	Kernel: 5.4.0-167-generic
	Compiler: gcc 8.5.0 20210514 (Red Hat 8.5.0-20)

Debian Bullseye
	Kernel: 5.4.0-167-generic
	Compiler: gcc 10.2.1-6

Alpine
	Kernel: 5.4.0-167-generic
	Compiler: gcc (Alpine 12.2.1_git20220924-r10) 12.2.1 20220924

Ubuntu 22.04
	Kernel: 5.4.0-167-generic
	Compiler: gcc 11.4.0

openSUSE Leap 15
	Kernel: 5.4.0-167-generic
	Compiler: gcc 7.5.0

To view detailed results, visit:
https://lab.dpdk.org/results/dashboard/patchsets/29670/

UNH-IOL DPDK Community Lab

To manage your email subscriptions, visit: 
https://lab.dpdk.org/results/dashboard/preferences/subscriptions/