From mboxrd@z Thu Jan  1 00:00:00 1970
Return-Path: <test-report-bounces@dpdk.org>
Received: from mails.dpdk.org (mails.dpdk.org [217.70.189.124])
	by inbox.dpdk.org (Postfix) with ESMTP id F0B9143CAA
	for <public@inbox.dpdk.org>; Thu, 28 Mar 2024 01:33:05 +0100 (CET)
Received: from mails.dpdk.org (localhost [127.0.0.1])
	by mails.dpdk.org (Postfix) with ESMTP id B2263410DD;
	Thu, 28 Mar 2024 01:33:05 +0100 (CET)
Received: from mail-pl1-f226.google.com (mail-pl1-f226.google.com
 [209.85.214.226])
 by mails.dpdk.org (Postfix) with ESMTP id 76284402AC
 for <test-report@dpdk.org>; Thu, 28 Mar 2024 01:33:04 +0100 (CET)
Received: by mail-pl1-f226.google.com with SMTP id
 d9443c01a7336-1e0511a4383so3879545ad.2
 for <test-report@dpdk.org>; Wed, 27 Mar 2024 17:33:04 -0700 (PDT)
DKIM-Signature: v=1; a=rsa-sha256; c=relaxed/relaxed;
 d=iol.unh.edu; s=unh-iol; t=1711585983; x=1712190783; darn=dpdk.org;
 h=references:in-reply-to:cc:to:from:subject:message-id:date:from:to
 :cc:subject:date:message-id:reply-to;
 bh=UOH2YMyzEJUU5Rm+LnIY8cIiSKsf4mM2T6s88MhYPHo=;
 b=UjzpVFao09gwGX8rHzvXl5MX4Qwf+m38QKHkLuxBAot3xfijM9latQmvmjC2ZAC678
 DXv621hl5NM0jaz9dnSw27wFL08y+WKY0y/V8FZMFjvsucezdTh6UKR/To5ELfMj3gz0
 KuB3vKV4S86MjRN53EGC6WT4Bi7uxLMbl6Lis=
X-Google-DKIM-Signature: v=1; a=rsa-sha256; c=relaxed/relaxed;
 d=1e100.net; s=20230601; t=1711585983; x=1712190783;
 h=references:in-reply-to:cc:to:from:subject:message-id:date
 :x-gm-message-state:from:to:cc:subject:date:message-id:reply-to;
 bh=UOH2YMyzEJUU5Rm+LnIY8cIiSKsf4mM2T6s88MhYPHo=;
 b=f7NoM/ilr7xja99ohER0u4QF7orczdaA/VN+f9TOQjbzcRAWypCxa5h0oxrTANvgnp
 h+ATFz40dgsXNUr/vTlf8qPCoB9WqrKChQwz2SzVqrzwlwc8CojqRvjRm3D+ICizJFsO
 S4tXtKw6gt4zsvvpbgpMnocWdI4pBYeq0gJgqdhdpJw7GNBZDU8yjt9M8KLXMt3FGKGf
 0nx9mJj8RznljCGcvVjzJJW2fvUkj2UXe4BcMpCExzPOmOMBDRq9Ux1qiuVVRYUh4cUI
 s5cAHazUHhblmZrNQf129ycs+JkBgsmG+yPteIhtK9ynZUO8+w4QppIzAWnMBsfQVBz+
 MNcQ==
X-Gm-Message-State: AOJu0Yyk738u84kxiJ18P9M4LMYNKfiiW6aCW9obxXrR/tLXn7NRndBi
 ST/D0iHyRIkdSPuEa3pM5xdYYnQvXZI7ewsck4WNEfRDG6VCMM/CaaX9Yk5gMuPrvpIapT7wBwL
 V7sFsmNviP6E6iq4H1pSnnEE8JxSYwIL2GInvJfpr
X-Google-Smtp-Source: AGHT+IFwgjQ8aDFdWB4KGkz92RCjF3zUc74yXEtPcHTjIgrJ90brn4JVKdFYxTfPSLINJ9p0+H6AJFmLaFIB
X-Received: by 2002:a17:902:ce85:b0:1e0:c91d:448e with SMTP id
 f5-20020a170902ce8500b001e0c91d448emr1424070plg.65.1711585983607; 
 Wed, 27 Mar 2024 17:33:03 -0700 (PDT)
Received: from postal.iol.unh.edu (postal.iol.unh.edu. [132.177.123.84])
 by smtp-relay.gmail.com with ESMTPS id
 bh1-20020a170902a98100b001dd59b8b022sm6581plb.123.2024.03.27.17.33.03
 (version=TLS1_2 cipher=ECDHE-ECDSA-AES128-GCM-SHA256 bits=128/128);
 Wed, 27 Mar 2024 17:33:03 -0700 (PDT)
X-Relaying-Domain: iol.unh.edu
Date: Wed, 27 Mar 2024 17:33:03 -0700 (PDT)
Message-ID: <6604babf.170a0220.d4ea5.05a5SMTPIN_ADDED_MISSING@mx.google.com>
Received: from [172.21.0.6] (unknown [172.18.0.240])
 by postal.iol.unh.edu (Postfix) with ESMTP id C8DD06052471;
 Wed, 27 Mar 2024 20:33:02 -0400 (EDT)
Subject: |SUCCESS| pw138878-138921 [PATCH] [v3,45/45] app/test-bbdev: use rte
From: dpdklab@iol.unh.edu
To: Test Report <test-report@dpdk.org>
Cc: dpdk-test-reports@iol.unh.edu
In-Reply-To: <1711579078-10624-46-git-send-email-roretzla@linux.microsoft.com>
References: <1711579078-10624-46-git-send-email-roretzla@linux.microsoft.com>
Content-Type: text/plain
X-BeenThere: test-report@dpdk.org
X-Mailman-Version: 2.1.29
Precedence: list
List-Id: automatic DPDK test reports <test-report.dpdk.org>
List-Unsubscribe: <https://mails.dpdk.org/options/test-report>,
 <mailto:test-report-request@dpdk.org?subject=unsubscribe>
List-Archive: <http://mails.dpdk.org/archives/test-report/>
List-Post: <mailto:test-report@dpdk.org>
List-Help: <mailto:test-report-request@dpdk.org?subject=help>
List-Subscribe: <https://mails.dpdk.org/listinfo/test-report>,
 <mailto:test-report-request@dpdk.org?subject=subscribe>
Errors-To: test-report-bounces@dpdk.org

Test-Label: iol-compile-arm64-testing
Test-Status: SUCCESS
http://dpdk.org/patch/138921

_Testing PASS_

Submitter: Tyler Retzlaff <roretzla@linux.microsoft.com>
Date: Wednesday, March 27 2024 22:37:58 
DPDK git baseline: Repo:dpdk
  Branch: master
  CommitID:c29202f2f70abd22e3d74e0671ec9f6cb9e387ee

138878-138921 --> testing pass

Test environment and result as below:

+----------------------------------------+--------------------+
|              Environment               | dpdk_meson_compile |
+========================================+====================+
| Ubuntu 20.04 ARM SVE                   | PASS               |
+----------------------------------------+--------------------+
| Debian 12 with MUSDK                   | PASS               |
+----------------------------------------+--------------------+
| Fedora 38 (ARM)                        | PASS               |
+----------------------------------------+--------------------+
| Fedora 37 (ARM)                        | PASS               |
+----------------------------------------+--------------------+
| Ubuntu 20.04 (ARM)                     | PASS               |
+----------------------------------------+--------------------+
| CentOS Stream 9 (ARM)                  | PASS               |
+----------------------------------------+--------------------+
| Fedora 39 (ARM)                        | PASS               |
+----------------------------------------+--------------------+
| Debian 11 (Buster) (ARM)               | PASS               |
+----------------------------------------+--------------------+
| Debian 12 (arm)                        | PASS               |
+----------------------------------------+--------------------+
| Ubuntu 20.04 ARM Clang Cross Compile   | PASS               |
+----------------------------------------+--------------------+
| Ubuntu 20.04 aarch32 GCC Cross Compile | PASS               |
+----------------------------------------+--------------------+
| Ubuntu 20.04 ARM GCC Cross Compile     | PASS               |
+----------------------------------------+--------------------+


Ubuntu 20.04 ARM SVE
	Kernel: 5.4.0-167-generic
	Compiler: gcc (Ubuntu 10.5.0-1ubuntu1~20.04) 10.5.0

Debian 12 with MUSDK
	Kernel: Container Host Kernel
	Compiler: gcc 12.2.0

Fedora 38 (ARM)
	Kernel: Depends on container host
	Compiler: gcc 13.2.1

Fedora 37 (ARM)
	Kernel: Depends on container host
	Compiler: gcc 12.3.1

Ubuntu 20.04 (ARM)
	Kernel: Container Host Kernel
	Compiler: gcc 9.4.0

CentOS Stream 9 (ARM)
	Kernel: Container Host Kernel
	Compiler: gcc 11.4.1

Fedora 39 (ARM)
	Kernel: Depends on container host
	Compiler: gcc 13.2.1

Debian 11 (Buster) (ARM)
	Kernel: Container Host Kernel
	Compiler: gcc 10.2.1

Debian 12 (arm)
	Kernel: Container Host Kernel
	Compiler: gcc 12.2.0

Ubuntu 20.04 ARM Clang Cross Compile
	Kernel: 5.4.0-72-generic
	Compiler: clang 10.0.0-4ubuntu1

Ubuntu 20.04 aarch32 GCC Cross Compile
	Kernel: 5.4.0-167-generic
	Compiler: gcc 9.4.0

Ubuntu 20.04 ARM GCC Cross Compile
	Kernel: 5.4.0-167-generic
	Compiler: aarch64-linux-gnu-gcc (Ubuntu 9.4.0-1ubuntu1~20.04.2) 9.4.0

To view detailed results, visit:
https://lab.dpdk.org/results/dashboard/patchsets/29670/

UNH-IOL DPDK Community Lab

To manage your email subscriptions, visit: 
https://lab.dpdk.org/results/dashboard/preferences/subscriptions/