From mboxrd@z Thu Jan  1 00:00:00 1970
Return-Path: <test-report-bounces@dpdk.org>
Received: from mails.dpdk.org (mails.dpdk.org [217.70.189.124])
	by inbox.dpdk.org (Postfix) with ESMTP id 8A64043D6C
	for <public@inbox.dpdk.org>; Thu, 28 Mar 2024 14:31:40 +0100 (CET)
Received: from mails.dpdk.org (localhost [127.0.0.1])
	by mails.dpdk.org (Postfix) with ESMTP id 846AB402DF;
	Thu, 28 Mar 2024 14:31:40 +0100 (CET)
Received: from mail-yw1-f225.google.com (mail-yw1-f225.google.com
 [209.85.128.225])
 by mails.dpdk.org (Postfix) with ESMTP id 518C9402D8
 for <test-report@dpdk.org>; Thu, 28 Mar 2024 14:31:34 +0100 (CET)
Received: by mail-yw1-f225.google.com with SMTP id
 00721157ae682-60a0a1bd04eso10529517b3.1
 for <test-report@dpdk.org>; Thu, 28 Mar 2024 06:31:34 -0700 (PDT)
DKIM-Signature: v=1; a=rsa-sha256; c=relaxed/relaxed;
 d=iol.unh.edu; s=unh-iol; t=1711632693; x=1712237493; darn=dpdk.org;
 h=references:in-reply-to:cc:to:from:subject:message-id:date:from:to
 :cc:subject:date:message-id:reply-to;
 bh=BsSdvBkG/BYNKBGx46EPUeHUwZQyZDgEW/icR8t12vA=;
 b=WazQALCohDkvUznofwIi1bfAJnSOuZPXAHCVC0K+JhEuPUHjgGwR23ehVKZNEHA/W9
 P8DFrtnTX7T82BNdBxe8zmbBFh/mvE7e11tYbVQfq2I7f6A1DQSQwD4fmgKTJEImxhVp
 A2DKzNLMb+X2VAr5soPTTFVNX2XaFY8Qyfeoc=
X-Google-DKIM-Signature: v=1; a=rsa-sha256; c=relaxed/relaxed;
 d=1e100.net; s=20230601; t=1711632693; x=1712237493;
 h=references:in-reply-to:cc:to:from:subject:message-id:date
 :x-gm-message-state:from:to:cc:subject:date:message-id:reply-to;
 bh=BsSdvBkG/BYNKBGx46EPUeHUwZQyZDgEW/icR8t12vA=;
 b=Y3YJoD9/daD4geIUZsvG1cG9QICKEHtQovvCziSQoZcNOAaAfQaQnwxTAbIGYhMX65
 zU7qvr5WNPDGtSbBAn3SziIM/0RINgV4fgJpU1m4R31OAGHwi2g7IVRKAAmpNzpr5dTw
 g4kqTK+7EzPAEFi+KY2oeOnHD7vm593dqTBo5EvPjF2LY2D00qdpnWK66OaYWe/uf4+Y
 VPpVfmitLEL8zySILwGnCMK0XXc2VzIi5pN5lrt2Aouvd6rjj1PhfG4cCD9rXB4s3Vlp
 YyaToLLskSE3PL09qoPocyuQG0WOdutIjIwdp9Ckvs/MroVkKFXRb2qBF9MLHwthmxUU
 iMxQ==
X-Gm-Message-State: AOJu0YzhAb9dvGXqPgQjOqvY+cLemxl4KBYO7KeMD5uAO6wLca/DykvP
 GQN55l37bntiYpeoVj0wXi7OZM6200W+eQN+sTxdF9CfxEtCFcY9RG2kiBBlUXVi3LpIJHB12Oe
 WIlHaH541inH3N4NgRwMgVFIGg5KJCB9Z/uKJcn00
X-Google-Smtp-Source: AGHT+IG2LQBQrDTp6nnr+B1iu6eRs0q3uvYbWZeyNezr8RT7UmdHyqjGBkd8maVLEBINjbbLPUcxB1REO5dK
X-Received: by 2002:a0d:d412:0:b0:60c:bdb0:cd28 with SMTP id
 w18-20020a0dd412000000b0060cbdb0cd28mr2783268ywd.6.1711632693688; 
 Thu, 28 Mar 2024 06:31:33 -0700 (PDT)
Received: from postal.iol.unh.edu (postal.iol.unh.edu. [132.177.123.84])
 by smtp-relay.gmail.com with ESMTPS id
 ce7-20020a056122410700b004d8891d220asm93421vkb.9.2024.03.28.06.31.33
 (version=TLS1_2 cipher=ECDHE-ECDSA-AES128-GCM-SHA256 bits=128/128);
 Thu, 28 Mar 2024 06:31:33 -0700 (PDT)
X-Relaying-Domain: iol.unh.edu
Date: Thu, 28 Mar 2024 06:31:33 -0700 (PDT)
Message-ID: <66057135.050a0220.546f6.4694SMTPIN_ADDED_MISSING@mx.google.com>
Received: from [172.21.0.6] (unknown [172.18.0.240])
 by postal.iol.unh.edu (Postfix) with ESMTP id 4C9836052471;
 Thu, 28 Mar 2024 09:31:33 -0400 (EDT)
Subject: |SUCCESS| pw138937-138951 [PATCH] [v17,15/15] log: colorize log outp
From: dpdklab@iol.unh.edu
To: Test Report <test-report@dpdk.org>
Cc: dpdk-test-reports@iol.unh.edu
In-Reply-To: <20240327233001.83505-16-stephen@networkplumber.org>
References: <20240327233001.83505-16-stephen@networkplumber.org>
Content-Type: text/plain
X-BeenThere: test-report@dpdk.org
X-Mailman-Version: 2.1.29
Precedence: list
List-Id: automatic DPDK test reports <test-report.dpdk.org>
List-Unsubscribe: <https://mails.dpdk.org/options/test-report>,
 <mailto:test-report-request@dpdk.org?subject=unsubscribe>
List-Archive: <http://mails.dpdk.org/archives/test-report/>
List-Post: <mailto:test-report@dpdk.org>
List-Help: <mailto:test-report-request@dpdk.org?subject=help>
List-Subscribe: <https://mails.dpdk.org/listinfo/test-report>,
 <mailto:test-report-request@dpdk.org?subject=subscribe>
Errors-To: test-report-bounces@dpdk.org

Test-Label: iol-unit-arm64-testing
Test-Status: SUCCESS
http://dpdk.org/patch/138951

_Testing PASS_

Submitter: Stephen Hemminger <stephen@networkplumber.org>
Date: Wednesday, March 27 2024 23:28:38 
DPDK git baseline: Repo:dpdk
  Branch: master
  CommitID:c29202f2f70abd22e3d74e0671ec9f6cb9e387ee

138937-138951 --> testing pass

Test environment and result as below:

+--------------------------+----------------+
|       Environment        | dpdk_unit_test |
+==========================+================+
| Debian 11 (Buster) (ARM) | PASS           |
+--------------------------+----------------+
| Debian 12 (arm)          | PASS           |
+--------------------------+----------------+
| CentOS Stream 9 (ARM)    | PASS           |
+--------------------------+----------------+
| Fedora 37 (ARM)          | PASS           |
+--------------------------+----------------+


Debian 11 (Buster) (ARM)
	Kernel: Container Host Kernel
	Compiler: gcc 10.2.1

Debian 12 (arm)
	Kernel: Container Host Kernel
	Compiler: gcc 12.2.0

CentOS Stream 9 (ARM)
	Kernel: Container Host Kernel
	Compiler: gcc 11.4.1

Fedora 37 (ARM)
	Kernel: Depends on container host
	Compiler: gcc 12.3.1

To view detailed results, visit:
https://lab.dpdk.org/results/dashboard/patchsets/29672/

UNH-IOL DPDK Community Lab

To manage your email subscriptions, visit: 
https://lab.dpdk.org/results/dashboard/preferences/subscriptions/