From mboxrd@z Thu Jan  1 00:00:00 1970
Return-Path: <test-report-bounces@dpdk.org>
Received: from mails.dpdk.org (mails.dpdk.org [217.70.189.124])
	by inbox.dpdk.org (Postfix) with ESMTP id 31A7B43D6C
	for <public@inbox.dpdk.org>; Thu, 28 Mar 2024 14:38:49 +0100 (CET)
Received: from mails.dpdk.org (localhost [127.0.0.1])
	by mails.dpdk.org (Postfix) with ESMTP id 28553402DF;
	Thu, 28 Mar 2024 14:38:49 +0100 (CET)
Received: from mail-qt1-f225.google.com (mail-qt1-f225.google.com
 [209.85.160.225])
 by mails.dpdk.org (Postfix) with ESMTP id 76516402D8
 for <test-report@dpdk.org>; Thu, 28 Mar 2024 14:38:38 +0100 (CET)
Received: by mail-qt1-f225.google.com with SMTP id
 d75a77b69052e-430a0d6c876so5358351cf.3
 for <test-report@dpdk.org>; Thu, 28 Mar 2024 06:38:38 -0700 (PDT)
DKIM-Signature: v=1; a=rsa-sha256; c=relaxed/relaxed;
 d=iol.unh.edu; s=unh-iol; t=1711633118; x=1712237918; darn=dpdk.org;
 h=references:in-reply-to:cc:to:from:subject:message-id:date:from:to
 :cc:subject:date:message-id:reply-to;
 bh=bytiaKQRO5GVG5hvj88pDgFsv3R4311mHtdSjRfntOc=;
 b=a+n+Lu4RAMHkUEIW2s0JNlsOppWUiZEIuGZN7u/VPwkFJMFtBfNgTUG5lQrxa9cQwD
 p08zyNrbi/x4vp3YsMcij31rBcIJVafBWErObZRcxQymfKp5tR56nXQblNWSdvTrDcBJ
 KuUtCq1mcf6/1/wHYdH9gply2UvlZDui0zE6E=
X-Google-DKIM-Signature: v=1; a=rsa-sha256; c=relaxed/relaxed;
 d=1e100.net; s=20230601; t=1711633118; x=1712237918;
 h=references:in-reply-to:cc:to:from:subject:message-id:date
 :x-gm-message-state:from:to:cc:subject:date:message-id:reply-to;
 bh=bytiaKQRO5GVG5hvj88pDgFsv3R4311mHtdSjRfntOc=;
 b=U5w9wLga/9XYxnccxY3tkMjZOu1bM2JOzVqyXh+G4rOACEXFMxuHLlPTDKH3ZTNcMa
 xvxYbjAxgyVZP8YtxR1BSve+YoypjHi3LS+FBCk8kSgsXsQFBQIRgcQPqARCSIjxi6zU
 PIKOmxT0kycgAlwMdDGgSYmEfMnA/XNeGdRPBttaWSNjnUezgj5WwIFLyzr1dESHdR2n
 3oYPzrmOhUGZRpJ6Tz5Qqm6mimKHjPhsvf33tm99qRmvD7JWc16kuUSROKk58BHfSaAu
 udVKmYBcT83cagOJV7o0gk4RYiC/0hv8djwZwzzOPSgjtCudPHS9U2jWa9kaebWu/YOe
 O6UA==
X-Gm-Message-State: AOJu0YwZ2HalLIVIJC0Ex9eNMtVm8I3rfuUtOcCCqbIOLOIZwcgK2v1d
 /dU+nQrUXHdPBJ6ZI98JsRWJgRYJgSX0fmzFOZy8FyIlnFfpzfls/cS94wOFkYSpzBoIRT1cRqk
 CFDq2iHTo+cx18FxQ1UXBKsQcK8dqkytdLc63zkxU4XXnG/McaQU0XbNG
X-Google-Smtp-Source: AGHT+IEVAl9yY51R5loQMUwNGuONZ84H0mKO2yQKh18peV0qqCc//9mn0GRcmpRUZHmOzuXOWloj1HlGlXCK
X-Received: by 2002:a05:6214:5098:b0:696:7631:8e7c with SMTP id
 kk24-20020a056214509800b0069676318e7cmr3039836qvb.59.1711633117960; 
 Thu, 28 Mar 2024 06:38:37 -0700 (PDT)
Received: from postal.iol.unh.edu (postal.iol.unh.edu.
 [2606:4100:3880:1234::84]) by smtp-relay.gmail.com with ESMTPS id
 jq9-20020ad45fc9000000b00696af28b6dfsm89610qvb.21.2024.03.28.06.38.37
 (version=TLS1_2 cipher=ECDHE-ECDSA-AES128-GCM-SHA256 bits=128/128);
 Thu, 28 Mar 2024 06:38:37 -0700 (PDT)
X-Relaying-Domain: iol.unh.edu
Date: Thu, 28 Mar 2024 06:38:37 -0700 (PDT)
Message-ID: <660572dd.d40a0220.d0edc.5c10SMTPIN_ADDED_MISSING@mx.google.com>
Received: from [172.21.0.6] (unknown [172.18.0.240])
 by postal.iol.unh.edu (Postfix) with ESMTP id A59276052471;
 Thu, 28 Mar 2024 09:38:37 -0400 (EDT)
Subject: |SUCCESS| pw138937-138951 [PATCH] [v17,15/15] log: colorize log outp
From: dpdklab@iol.unh.edu
To: Test Report <test-report@dpdk.org>
Cc: dpdk-test-reports@iol.unh.edu
In-Reply-To: <20240327233001.83505-16-stephen@networkplumber.org>
References: <20240327233001.83505-16-stephen@networkplumber.org>
Content-Type: text/plain
X-BeenThere: test-report@dpdk.org
X-Mailman-Version: 2.1.29
Precedence: list
List-Id: automatic DPDK test reports <test-report.dpdk.org>
List-Unsubscribe: <https://mails.dpdk.org/options/test-report>,
 <mailto:test-report-request@dpdk.org?subject=unsubscribe>
List-Archive: <http://mails.dpdk.org/archives/test-report/>
List-Post: <mailto:test-report@dpdk.org>
List-Help: <mailto:test-report-request@dpdk.org?subject=help>
List-Subscribe: <https://mails.dpdk.org/listinfo/test-report>,
 <mailto:test-report-request@dpdk.org?subject=subscribe>
Errors-To: test-report-bounces@dpdk.org

Test-Label: iol-compile-arm64-testing
Test-Status: SUCCESS
http://dpdk.org/patch/138951

_Testing PASS_

Submitter: Stephen Hemminger <stephen@networkplumber.org>
Date: Wednesday, March 27 2024 23:28:38 
DPDK git baseline: Repo:dpdk
  Branch: master
  CommitID:c29202f2f70abd22e3d74e0671ec9f6cb9e387ee

138937-138951 --> testing pass

Test environment and result as below:

+----------------------+--------------------+
|     Environment      | dpdk_meson_compile |
+======================+====================+
| Ubuntu 20.04 ARM SVE | PASS               |
+----------------------+--------------------+
| Debian 12 with MUSDK | PASS               |
+----------------------+--------------------+
| Debian 12 (arm)      | PASS               |
+----------------------+--------------------+
| Fedora 37 (ARM)      | PASS               |
+----------------------+--------------------+


Ubuntu 20.04 ARM SVE
	Kernel: 5.4.0-167-generic
	Compiler: gcc (Ubuntu 10.5.0-1ubuntu1~20.04) 10.5.0

Debian 12 with MUSDK
	Kernel: Container Host Kernel
	Compiler: gcc 12.2.0

Debian 12 (arm)
	Kernel: Container Host Kernel
	Compiler: gcc 12.2.0

Fedora 37 (ARM)
	Kernel: Depends on container host
	Compiler: gcc 12.3.1

To view detailed results, visit:
https://lab.dpdk.org/results/dashboard/patchsets/29672/

UNH-IOL DPDK Community Lab

To manage your email subscriptions, visit: 
https://lab.dpdk.org/results/dashboard/preferences/subscriptions/