From mboxrd@z Thu Jan  1 00:00:00 1970
Return-Path: <test-report-bounces@dpdk.org>
Received: from mails.dpdk.org (mails.dpdk.org [217.70.189.124])
	by inbox.dpdk.org (Postfix) with ESMTP id D020D43D6C
	for <public@inbox.dpdk.org>; Thu, 28 Mar 2024 14:53:00 +0100 (CET)
Received: from mails.dpdk.org (localhost [127.0.0.1])
	by mails.dpdk.org (Postfix) with ESMTP id CBD28402E7;
	Thu, 28 Mar 2024 14:53:00 +0100 (CET)
Received: from mail-il1-f225.google.com (mail-il1-f225.google.com
 [209.85.166.225])
 by mails.dpdk.org (Postfix) with ESMTP id CC69A402D8
 for <test-report@dpdk.org>; Thu, 28 Mar 2024 14:52:52 +0100 (CET)
Received: by mail-il1-f225.google.com with SMTP id
 e9e14a558f8ab-368964be001so3867675ab.0
 for <test-report@dpdk.org>; Thu, 28 Mar 2024 06:52:52 -0700 (PDT)
DKIM-Signature: v=1; a=rsa-sha256; c=relaxed/relaxed;
 d=iol.unh.edu; s=unh-iol; t=1711633972; x=1712238772; darn=dpdk.org;
 h=references:in-reply-to:cc:to:from:subject:message-id:date:from:to
 :cc:subject:date:message-id:reply-to;
 bh=icqBHR6nh6b2r/hnW9X31EtQM/LTyve8h4nFzbGm8SI=;
 b=QT9BrDHbOEl1FxHrV5NqnkRJxMTxgFKmtSrsRVWgCrYm55VmaJujUkcreDn/dJuouz
 3G/CsXnnYA5XFKb1Wd3aWKn5PO1SYu5Rcjv/0QxFJhAqnX+85n13YV9FNapdIcBONWrX
 h/9PB1xn7Mgdji2kISN2txymi+Z5Rx+QCDtd0=
X-Google-DKIM-Signature: v=1; a=rsa-sha256; c=relaxed/relaxed;
 d=1e100.net; s=20230601; t=1711633972; x=1712238772;
 h=references:in-reply-to:cc:to:from:subject:message-id:date
 :x-gm-message-state:from:to:cc:subject:date:message-id:reply-to;
 bh=icqBHR6nh6b2r/hnW9X31EtQM/LTyve8h4nFzbGm8SI=;
 b=Odwgk2/jQJe47rQwQAdhvYyWImf5KXJzyebmj8RUgLWHpFKSTuH9wEsK0QI/JOFElQ
 D2d8/jPyFgRY7V1YWHhG+E5fu99JHdltc/wpH6gDOkB6HRB73MePw0d3v3f87cOzti5y
 u9IdLGZRukYp4cov5YeuL459lbLpVRwke9SvgP3d9YV1yJoXd22XVHeySdogezIotGGy
 olcQgyfYyxTeGZHDKTrgSOeNvqG6yJ4S9DlywvVrzgYR7MciAiGPLKlSCf3kfH6a68Ss
 qhq8neRhm+aCveJkF4cqe+zlw7xUFmBbRk2og9vmnLAalt38cvJnBoAszCtYVcu9U1kY
 7HHg==
X-Gm-Message-State: AOJu0YyN3/d182bhB3ZuHuz1DEoMsm4AVAnCyLV+ObSPkYnj0mBTew06
 iO7s0n3gef8V5LGDF/xSK4aMb4SAFZlskgF0dX/PUEkSXAlLaBzSrxAB4m8M2EuP4V74AhtjJpP
 peoJJXoTEe40o5SaDa1RQMQJXtFBt8xTgSy/lTTjFaGO7YtsMei9FzaGo
X-Google-Smtp-Source: AGHT+IG0hGVq5g9itv7cVjROwTwqo8zWKRJGb8BTTeZKmrV+qXTn4h0yQJI1GbgBBGLaWDT7QPpxia7OjCEb
X-Received: by 2002:a92:dcd2:0:b0:366:b471:48e5 with SMTP id
 b18-20020a92dcd2000000b00366b47148e5mr2446254ilr.28.1711633972212; 
 Thu, 28 Mar 2024 06:52:52 -0700 (PDT)
Received: from postal.iol.unh.edu (postal.iol.unh.edu.
 [2606:4100:3880:1234::84]) by smtp-relay.gmail.com with ESMTPS id
 7-20020a631647000000b005dc1e620401sm60455pgw.13.2024.03.28.06.52.52
 (version=TLS1_2 cipher=ECDHE-ECDSA-AES128-GCM-SHA256 bits=128/128);
 Thu, 28 Mar 2024 06:52:52 -0700 (PDT)
X-Relaying-Domain: iol.unh.edu
Date: Thu, 28 Mar 2024 06:52:52 -0700 (PDT)
Message-ID: <66057634.630a0220.f168c.40b2SMTPIN_ADDED_MISSING@mx.google.com>
Received: from [172.21.0.7] (unknown [172.18.0.240])
 by postal.iol.unh.edu (Postfix) with ESMTP id 5112A6052471;
 Thu, 28 Mar 2024 09:52:51 -0400 (EDT)
Subject: |SUCCESS| pw138937-138951 [PATCH] [v17,15/15] log: colorize log outp
From: dpdklab@iol.unh.edu
To: Test Report <test-report@dpdk.org>
Cc: dpdk-test-reports@iol.unh.edu
In-Reply-To: <20240327233001.83505-16-stephen@networkplumber.org>
References: <20240327233001.83505-16-stephen@networkplumber.org>
Content-Type: text/plain
X-BeenThere: test-report@dpdk.org
X-Mailman-Version: 2.1.29
Precedence: list
List-Id: automatic DPDK test reports <test-report.dpdk.org>
List-Unsubscribe: <https://mails.dpdk.org/options/test-report>,
 <mailto:test-report-request@dpdk.org?subject=unsubscribe>
List-Archive: <http://mails.dpdk.org/archives/test-report/>
List-Post: <mailto:test-report@dpdk.org>
List-Help: <mailto:test-report-request@dpdk.org?subject=help>
List-Subscribe: <https://mails.dpdk.org/listinfo/test-report>,
 <mailto:test-report-request@dpdk.org?subject=subscribe>
Errors-To: test-report-bounces@dpdk.org

Test-Label: iol-compile-arm64-testing
Test-Status: SUCCESS
http://dpdk.org/patch/138951

_Testing PASS_

Submitter: Stephen Hemminger <stephen@networkplumber.org>
Date: Wednesday, March 27 2024 23:28:38 
DPDK git baseline: Repo:dpdk
  Branch: master
  CommitID:c29202f2f70abd22e3d74e0671ec9f6cb9e387ee

138937-138951 --> testing pass

Test environment and result as below:

+--------------------------+--------------------+
|       Environment        | dpdk_meson_compile |
+==========================+====================+
| Ubuntu 20.04 ARM SVE     | PASS               |
+--------------------------+--------------------+
| Debian 12 with MUSDK     | PASS               |
+--------------------------+--------------------+
| Debian 12 (arm)          | PASS               |
+--------------------------+--------------------+
| Fedora 37 (ARM)          | PASS               |
+--------------------------+--------------------+
| Fedora 38 (ARM)          | PASS               |
+--------------------------+--------------------+
| Debian 11 (Buster) (ARM) | PASS               |
+--------------------------+--------------------+
| Fedora 39 (ARM)          | PASS               |
+--------------------------+--------------------+
| Ubuntu 20.04 (ARM)       | PASS               |
+--------------------------+--------------------+
| CentOS Stream 9 (ARM)    | PASS               |
+--------------------------+--------------------+


Ubuntu 20.04 ARM SVE
	Kernel: 5.4.0-167-generic
	Compiler: gcc (Ubuntu 10.5.0-1ubuntu1~20.04) 10.5.0

Debian 12 with MUSDK
	Kernel: Container Host Kernel
	Compiler: gcc 12.2.0

Debian 12 (arm)
	Kernel: Container Host Kernel
	Compiler: gcc 12.2.0

Fedora 37 (ARM)
	Kernel: Depends on container host
	Compiler: gcc 12.3.1

Fedora 38 (ARM)
	Kernel: Depends on container host
	Compiler: gcc 13.2.1

Debian 11 (Buster) (ARM)
	Kernel: Container Host Kernel
	Compiler: gcc 10.2.1

Fedora 39 (ARM)
	Kernel: Depends on container host
	Compiler: gcc 13.2.1

Ubuntu 20.04 (ARM)
	Kernel: Container Host Kernel
	Compiler: gcc 9.4.0

CentOS Stream 9 (ARM)
	Kernel: Container Host Kernel
	Compiler: gcc 11.4.1

To view detailed results, visit:
https://lab.dpdk.org/results/dashboard/patchsets/29672/

UNH-IOL DPDK Community Lab

To manage your email subscriptions, visit: 
https://lab.dpdk.org/results/dashboard/preferences/subscriptions/