From mboxrd@z Thu Jan  1 00:00:00 1970
Return-Path: <test-report-bounces@dpdk.org>
Received: from mails.dpdk.org (mails.dpdk.org [217.70.189.124])
	by inbox.dpdk.org (Postfix) with ESMTP id 8373343D6C
	for <public@inbox.dpdk.org>; Thu, 28 Mar 2024 15:57:01 +0100 (CET)
Received: from mails.dpdk.org (localhost [127.0.0.1])
	by mails.dpdk.org (Postfix) with ESMTP id 7D87B410DD;
	Thu, 28 Mar 2024 15:57:01 +0100 (CET)
Received: from mail-yw1-f227.google.com (mail-yw1-f227.google.com
 [209.85.128.227])
 by mails.dpdk.org (Postfix) with ESMTP id D11DF402D8
 for <test-report@dpdk.org>; Thu, 28 Mar 2024 15:56:37 +0100 (CET)
Received: by mail-yw1-f227.google.com with SMTP id
 00721157ae682-609f1f97864so11895677b3.0
 for <test-report@dpdk.org>; Thu, 28 Mar 2024 07:56:37 -0700 (PDT)
DKIM-Signature: v=1; a=rsa-sha256; c=relaxed/relaxed;
 d=iol.unh.edu; s=unh-iol; t=1711637797; x=1712242597; darn=dpdk.org;
 h=references:in-reply-to:cc:to:from:subject:message-id:date:from:to
 :cc:subject:date:message-id:reply-to;
 bh=z4Gk0R1bTgbrb0T+Cz0DQ8pxHg2WCqekco3BpyPeWWk=;
 b=anp2enrWTdfnLQRhhFyrm76obiEfA6InOHZmYAZg2h5S793639NZrUwchsjfZ2qg3x
 +SgcSCZJBWDsaXFLliTk47y/vGrI/213cziO5OS8O/jx2OCt2u8hyc7jCoFMp5VA7tFW
 vNWPvwIeozFUNcGNWWFZUdwXKClRgKq4o5nTs=
X-Google-DKIM-Signature: v=1; a=rsa-sha256; c=relaxed/relaxed;
 d=1e100.net; s=20230601; t=1711637797; x=1712242597;
 h=references:in-reply-to:cc:to:from:subject:message-id:date
 :x-gm-message-state:from:to:cc:subject:date:message-id:reply-to;
 bh=z4Gk0R1bTgbrb0T+Cz0DQ8pxHg2WCqekco3BpyPeWWk=;
 b=BMSnqzpOOhcer5BGYFltpUfLuakJQ1pKWALtURmML6V/Q3aYINQ/d17PjWJdxMjlVp
 V9Y6VlICCXrS9Z74KF//L5oraDu8arHOwWBYRkMnWe7mM/LMUE36nkSOVZ9E8rd/h00C
 PLZ1jqixVpeiNem1GIkBj8dKFDVnRh8QSC9QMBRYsXe3uNYtJJ92ta43ikjmaxb/lzSJ
 HrnvyjkiPmTHB4Ue43I/zDIATNZ0Q6Zjs6lCQMgTDeamQ1oyT7WFXELvPutac8j6v2fS
 ncmkKmGbplQuctUiTcWQjlYb6uUoliMSxFqp3b5KaRlH5ExEd8Z/ehCCwLJRenkoORbQ
 gppg==
X-Gm-Message-State: AOJu0YwmZyMDDNB/XahFBTDzWAO64WezI7nUS8PCIZfgC8CvVtHsOVI7
 zQq+roJiQ9jV/68DKRUnbuTL/My/9nQZsGAvA4wEyy4qSiLbcRkjjx7mvpgHEqTa7ZsmJKxgFTZ
 QxcRDUFzGv1ZPBA/MVV21+jTLh3D7Xhvm6lDLLboH
X-Google-Smtp-Source: AGHT+IGwLB7oOzHouRE1de1AlXpWwvwB6sSgEB9i8lmFDOsbOlgxifwi9xAlg55MgX0Ynd7Kte2PbYQIipFk
X-Received: by 2002:a81:a24d:0:b0:60a:f5b:31c0 with SMTP id
 z13-20020a81a24d000000b0060a0f5b31c0mr3179579ywg.28.1711637797354; 
 Thu, 28 Mar 2024 07:56:37 -0700 (PDT)
Received: from postal.iol.unh.edu (postal.iol.unh.edu. [132.177.123.84])
 by smtp-relay.gmail.com with ESMTPS id
 jf6-20020a05690c700600b006079f5e97b4sm59547ywb.38.2024.03.28.07.56.37
 (version=TLS1_2 cipher=ECDHE-ECDSA-AES128-GCM-SHA256 bits=128/128);
 Thu, 28 Mar 2024 07:56:37 -0700 (PDT)
X-Relaying-Domain: iol.unh.edu
Date: Thu, 28 Mar 2024 07:56:37 -0700 (PDT)
Message-ID: <66058525.050a0220.3c03d.3b9cSMTPIN_ADDED_MISSING@mx.google.com>
Received: from [172.21.0.7] (unknown [172.18.0.240])
 by postal.iol.unh.edu (Postfix) with ESMTP id F386C6052471;
 Thu, 28 Mar 2024 10:56:36 -0400 (EDT)
Subject: |SUCCESS| pw138922-138936 [PATCH] [v2,15/15] examples: pack structur
From: dpdklab@iol.unh.edu
To: Test Report <test-report@dpdk.org>
Cc: dpdk-test-reports@iol.unh.edu
In-Reply-To: <1711580958-20808-16-git-send-email-roretzla@linux.microsoft.com>
References: <1711580958-20808-16-git-send-email-roretzla@linux.microsoft.com>
Content-Type: text/plain
X-BeenThere: test-report@dpdk.org
X-Mailman-Version: 2.1.29
Precedence: list
List-Id: automatic DPDK test reports <test-report.dpdk.org>
List-Unsubscribe: <https://mails.dpdk.org/options/test-report>,
 <mailto:test-report-request@dpdk.org?subject=unsubscribe>
List-Archive: <http://mails.dpdk.org/archives/test-report/>
List-Post: <mailto:test-report@dpdk.org>
List-Help: <mailto:test-report-request@dpdk.org?subject=help>
List-Subscribe: <https://mails.dpdk.org/listinfo/test-report>,
 <mailto:test-report-request@dpdk.org?subject=subscribe>
Errors-To: test-report-bounces@dpdk.org

Test-Label: iol-abi-testing
Test-Status: SUCCESS
http://dpdk.org/patch/138936

_Testing PASS_

Submitter: Tyler Retzlaff <roretzla@linux.microsoft.com>
Date: Wednesday, March 27 2024 23:09:18 
DPDK git baseline: Repo:dpdk
  Branch: master
  CommitID:c29202f2f70abd22e3d74e0671ec9f6cb9e387ee

138922-138936 --> testing pass

Test environment and result as below:

+------------------+----------+
|   Environment    | abi_test |
+==================+==========+
| CentOS Stream 8  | PASS     |
+------------------+----------+
| Fedora 38        | PASS     |
+------------------+----------+
| CentOS Stream 9  | PASS     |
+------------------+----------+
| Debian Bullseye  | PASS     |
+------------------+----------+
| Fedora 37        | PASS     |
+------------------+----------+
| Fedora 39        | PASS     |
+------------------+----------+
| openSUSE Leap 15 | PASS     |
+------------------+----------+
| Debian 11 (arm)  | PASS     |
+------------------+----------+


CentOS Stream 8
	Kernel: 5.4.0-167-generic
	Compiler: gcc 8.5.0 20210514

Fedora 38
	Kernel: Depends on container host
	Compiler: clang 16.0.6

CentOS Stream 9
	Kernel: 5.4.0-167-generic
	Compiler: gcc 11.4.1 20230605

Debian Bullseye
	Kernel: 5.4.0-167-generic
	Compiler: gcc 10.2.1-6

Fedora 37
	Kernel: Depends on container host system
	Compiler: gcc 12.3.1

Fedora 39
	Kernel: Depends on container host
	Compiler: clang 17.0.6

openSUSE Leap 15
	Kernel: 5.4.0-167-generic
	Compiler: gcc 7.5.0

Debian 11 (arm)
	Kernel: Container Host Kernel
	Compiler: gcc 10.2.1

To view detailed results, visit:
https://lab.dpdk.org/results/dashboard/patchsets/29671/

UNH-IOL DPDK Community Lab

To manage your email subscriptions, visit: 
https://lab.dpdk.org/results/dashboard/preferences/subscriptions/