From mboxrd@z Thu Jan  1 00:00:00 1970
Return-Path: <test-report-bounces@dpdk.org>
Received: from mails.dpdk.org (mails.dpdk.org [217.70.189.124])
	by inbox.dpdk.org (Postfix) with ESMTP id CEF1143D6C
	for <public@inbox.dpdk.org>; Thu, 28 Mar 2024 15:57:01 +0100 (CET)
Received: from mails.dpdk.org (localhost [127.0.0.1])
	by mails.dpdk.org (Postfix) with ESMTP id 9AA1B41140;
	Thu, 28 Mar 2024 15:57:01 +0100 (CET)
Received: from mail-oo1-f98.google.com (mail-oo1-f98.google.com
 [209.85.161.98]) by mails.dpdk.org (Postfix) with ESMTP id CC24D402D8
 for <test-report@dpdk.org>; Thu, 28 Mar 2024 15:56:52 +0100 (CET)
Received: by mail-oo1-f98.google.com with SMTP id
 006d021491bc7-5a4f608432bso667980eaf.2
 for <test-report@dpdk.org>; Thu, 28 Mar 2024 07:56:52 -0700 (PDT)
DKIM-Signature: v=1; a=rsa-sha256; c=relaxed/relaxed;
 d=iol.unh.edu; s=unh-iol; t=1711637812; x=1712242612; darn=dpdk.org;
 h=references:in-reply-to:cc:to:from:subject:message-id:date:from:to
 :cc:subject:date:message-id:reply-to;
 bh=q5/UT4kWZPnSCDNM9sOcq5ez7BNsDzOzej+u6sqEDAg=;
 b=X+3GaX7gEA5D2KvvrkUcOyYwNwnkjGuRNfBJGq1Vf6lm4Z6PpJFvaQ3UG45SMYlgxu
 V9fcI587Ts682Avdz9bmiD2tZIU5CpE0Cdm1xRxhXJqG4RNq9VjD62dMdCEkST9Dszzd
 aZvY0ThaVMCphGMz8CNCULLPFieExCQr07Gi0=
X-Google-DKIM-Signature: v=1; a=rsa-sha256; c=relaxed/relaxed;
 d=1e100.net; s=20230601; t=1711637812; x=1712242612;
 h=references:in-reply-to:cc:to:from:subject:message-id:date
 :x-gm-message-state:from:to:cc:subject:date:message-id:reply-to;
 bh=q5/UT4kWZPnSCDNM9sOcq5ez7BNsDzOzej+u6sqEDAg=;
 b=En4RH66yJQbq6YI/WEnfq8hr11qKmTmF5yzRJ+3o2gOFSvpA5ZhvIrJn4kbKFdbXGi
 VvcMTUtM76B022uyNsYc32VrRZvD5ZBe2ZqpUWuUB8+zalm2mb3Cq43PXkclBi0FqqhI
 U1YrQpJqtm+9cImmHuX/V7CUK88WLbMCl30cbRO3RGMZf9gdAfmZFKsuCaVIJ8dyqLjs
 kmscRF1lE/IN++tqWgZp4zHb8/0ki3WI0xduJcn8b+qR1VFAStPruVFLw/EESuElG7wX
 loFWRsySzqwyTvF2jRHrjuuPwM3TfUyxrsYtX1kduBEjW+wq23jw2Hdkw6Xsddt0KOfv
 Vdzg==
X-Gm-Message-State: AOJu0Yw0xX7QHapBJNnx7kdIxbfJ/Ubfn6xnYE3BgWsYtsGb1GEiwUOx
 WenyLhPeCfkHyWbIMaGAFmcX0Bgi0hNd94KSL2KgRRsA8B221RXJupsdTDcAvIxc5byuUHz/yAQ
 9QZXitUkDfqXlyquFtJygGzW4ypaeQL8NCMDVIq9YHcE8efhD8yjBY6I0
X-Google-Smtp-Source: AGHT+IFjOfPuCkJUpFQWWPcEJlMTpSQX8JR6NbKs60GFe2p4ReFXh7Bnhl/fo81X5zTCvkd9JW+U0rqO37uJ
X-Received: by 2002:a4a:e917:0:b0:5a1:23a6:e4b9 with SMTP id
 bx23-20020a4ae917000000b005a123a6e4b9mr3669001oob.3.1711637812160; 
 Thu, 28 Mar 2024 07:56:52 -0700 (PDT)
Received: from postal.iol.unh.edu (postal.iol.unh.edu.
 [2606:4100:3880:1234::84]) by smtp-relay.gmail.com with ESMTPS id
 r125-20020a4a4e83000000b005a46c8d2f04sm103145ooa.26.2024.03.28.07.56.52
 (version=TLS1_2 cipher=ECDHE-ECDSA-AES128-GCM-SHA256 bits=128/128);
 Thu, 28 Mar 2024 07:56:52 -0700 (PDT)
X-Relaying-Domain: iol.unh.edu
Date: Thu, 28 Mar 2024 07:56:52 -0700 (PDT)
Message-ID: <66058534.4a0a0220.9b256.5f7fSMTPIN_ADDED_MISSING@mx.google.com>
Received: from [172.21.0.8] (unknown [172.18.0.240])
 by postal.iol.unh.edu (Postfix) with ESMTP id A2C3F6052471;
 Thu, 28 Mar 2024 10:56:51 -0400 (EDT)
Subject: |SUCCESS| pw138922-138936 [PATCH] [v2,15/15] examples: pack structur
From: dpdklab@iol.unh.edu
To: Test Report <test-report@dpdk.org>
Cc: dpdk-test-reports@iol.unh.edu
In-Reply-To: <1711580958-20808-16-git-send-email-roretzla@linux.microsoft.com>
References: <1711580958-20808-16-git-send-email-roretzla@linux.microsoft.com>
Content-Type: text/plain
X-BeenThere: test-report@dpdk.org
X-Mailman-Version: 2.1.29
Precedence: list
List-Id: automatic DPDK test reports <test-report.dpdk.org>
List-Unsubscribe: <https://mails.dpdk.org/options/test-report>,
 <mailto:test-report-request@dpdk.org?subject=unsubscribe>
List-Archive: <http://mails.dpdk.org/archives/test-report/>
List-Post: <mailto:test-report@dpdk.org>
List-Help: <mailto:test-report-request@dpdk.org?subject=help>
List-Subscribe: <https://mails.dpdk.org/listinfo/test-report>,
 <mailto:test-report-request@dpdk.org?subject=subscribe>
Errors-To: test-report-bounces@dpdk.org

Test-Label: iol-unit-arm64-testing
Test-Status: SUCCESS
http://dpdk.org/patch/138936

_Testing PASS_

Submitter: Tyler Retzlaff <roretzla@linux.microsoft.com>
Date: Wednesday, March 27 2024 23:09:18 
DPDK git baseline: Repo:dpdk
  Branch: master
  CommitID:c29202f2f70abd22e3d74e0671ec9f6cb9e387ee

138922-138936 --> testing pass

Test environment and result as below:

+-----------------------------+----------------+------------------------------+---------------------------+
|         Environment         | dpdk_unit_test | cryptodev_sw_snow3g_autotest | cryptodev_sw_zuc_autotest |
+=============================+================+==============================+===========================+
| 32-bit Ubuntu 20.04.4 (ARM) | PASS           | SKIPPED                      | SKIPPED                   |
+-----------------------------+----------------+------------------------------+---------------------------+
| Debian 11 (Buster) (ARM)    | PASS           | SKIPPED                      | SKIPPED                   |
+-----------------------------+----------------+------------------------------+---------------------------+
| Debian 12 (arm)             | PASS           | PASS                         | PASS                      |
+-----------------------------+----------------+------------------------------+---------------------------+
| Fedora 37 (ARM)             | PASS           | SKIPPED                      | SKIPPED                   |
+-----------------------------+----------------+------------------------------+---------------------------+


32-bit Ubuntu 20.04.4 (ARM)
	Kernel: 5.4.0-155-generic aarch64
	Compiler: gcc 9.4

Debian 11 (Buster) (ARM)
	Kernel: Container Host Kernel
	Compiler: gcc 10.2.1

Debian 12 (arm)
	Kernel: Container Host Kernel
	Compiler: gcc 12.2.0

Fedora 37 (ARM)
	Kernel: Depends on container host
	Compiler: gcc 12.3.1

To view detailed results, visit:
https://lab.dpdk.org/results/dashboard/patchsets/29671/

UNH-IOL DPDK Community Lab

To manage your email subscriptions, visit: 
https://lab.dpdk.org/results/dashboard/preferences/subscriptions/