From mboxrd@z Thu Jan  1 00:00:00 1970
Return-Path: <test-report-bounces@dpdk.org>
Received: from mails.dpdk.org (mails.dpdk.org [217.70.189.124])
	by inbox.dpdk.org (Postfix) with ESMTP id 0830943D6D
	for <public@inbox.dpdk.org>; Thu, 28 Mar 2024 16:04:57 +0100 (CET)
Received: from mails.dpdk.org (localhost [127.0.0.1])
	by mails.dpdk.org (Postfix) with ESMTP id D7AF9402E7;
	Thu, 28 Mar 2024 16:04:56 +0100 (CET)
Received: from mail-io1-f97.google.com (mail-io1-f97.google.com
 [209.85.166.97]) by mails.dpdk.org (Postfix) with ESMTP id 1A6A3402D8
 for <test-report@dpdk.org>; Thu, 28 Mar 2024 16:04:55 +0100 (CET)
Received: by mail-io1-f97.google.com with SMTP id
 ca18e2360f4ac-7d05484dd40so35658939f.0
 for <test-report@dpdk.org>; Thu, 28 Mar 2024 08:04:55 -0700 (PDT)
DKIM-Signature: v=1; a=rsa-sha256; c=relaxed/relaxed;
 d=iol.unh.edu; s=unh-iol; t=1711638294; x=1712243094; darn=dpdk.org;
 h=references:in-reply-to:cc:to:from:subject:message-id:date:from:to
 :cc:subject:date:message-id:reply-to;
 bh=T87ECLnyZ6struXrzWhHf8jc7+56IeVxkSjKNKu9Kwk=;
 b=ZLZRwW+io1x41HFcnYSr53HVZHfKWT31Yri65nBwqqnF/+nWhRDIfmCzXUo/C19Dzr
 NpikILy13oVXEaeSP1Fomz+BTX2OSXuT2VHgnluAKUnQ7p69VHwEWnw4I+KTmamNmGn+
 ov8s7TzjS7nX+QGcBQ/2yYvf/v7Bu59vIto9o=
X-Google-DKIM-Signature: v=1; a=rsa-sha256; c=relaxed/relaxed;
 d=1e100.net; s=20230601; t=1711638294; x=1712243094;
 h=references:in-reply-to:cc:to:from:subject:message-id:date
 :x-gm-message-state:from:to:cc:subject:date:message-id:reply-to;
 bh=T87ECLnyZ6struXrzWhHf8jc7+56IeVxkSjKNKu9Kwk=;
 b=SnOvg7oYH5hfFx69O9d/pY2kp+CODmXX5sQuNF4RKx234ly6P+RtmE5FEXJkAj/tG4
 DyrO0JsKz/2q8TRr2Jjx9/BQWWABq9o6li6LUSkPNOk772oXgFDd3FWz0Yoszt2Vjf+D
 BCwGfyJR2R7ojjYGf3ZHO+QvfoqE+CrRlqP2sTOG3mh4ZAx56L7/bGwuHfP7/oGnJShi
 bpA8VmxxHgUtl80QJc36rOUg9qr7RaFI/ZxwTnGOPsg3ez7Hay8u37XDKNlA3NtPhAtm
 ZauetqhFBwXQz3nLEey6XY5hjb+b7RFztEbfKabK0qgIZixwCGSEvBl71EQ3YYfg8pwm
 vpxA==
X-Gm-Message-State: AOJu0YwrAYmRxAa9prbKcy6sh1kM2+qjB4Dmh51li2XKtDSDo0FsUrFy
 vq56UjruFLsMDRnq/djB5JIR4Vyy9RRch+yMl44QQEVrrgbKzcDxDwjh8poyFp72nlHaUQWo94c
 dLnGfVbZGIXzlzIa1aWmY66o+eFS73qHkCjDpaLp7
X-Google-Smtp-Source: AGHT+IEEJqC5BPWXhjx9lreC+QsYkaColFPncpTFh4EJaFbDvXVSIA0D4YOtfpOLkDBvjiIi7bNhm8pitWfn
X-Received: by 2002:a5d:9813:0:b0:7cc:10fa:293f with SMTP id
 a19-20020a5d9813000000b007cc10fa293fmr2536589iol.20.1711638294382; 
 Thu, 28 Mar 2024 08:04:54 -0700 (PDT)
Received: from postal.iol.unh.edu (postal.iol.unh.edu. [132.177.123.84])
 by smtp-relay.gmail.com with ESMTPS id
 gu1-20020a0566382e0100b00477319c47e5sm27665jab.78.2024.03.28.08.04.54
 (version=TLS1_2 cipher=ECDHE-ECDSA-AES128-GCM-SHA256 bits=128/128);
 Thu, 28 Mar 2024 08:04:54 -0700 (PDT)
X-Relaying-Domain: iol.unh.edu
Date: Thu, 28 Mar 2024 08:04:54 -0700 (PDT)
Message-ID: <66058716.050a0220.38801.1964SMTPIN_ADDED_MISSING@mx.google.com>
Received: from [172.21.0.6] (unknown [172.18.0.240])
 by postal.iol.unh.edu (Postfix) with ESMTP id D37F86052471;
 Thu, 28 Mar 2024 11:04:53 -0400 (EDT)
Subject: |SUCCESS| pw138922-138936 [PATCH] [v2,15/15] examples: pack structur
From: dpdklab@iol.unh.edu
To: Test Report <test-report@dpdk.org>
Cc: dpdk-test-reports@iol.unh.edu
In-Reply-To: <1711580958-20808-16-git-send-email-roretzla@linux.microsoft.com>
References: <1711580958-20808-16-git-send-email-roretzla@linux.microsoft.com>
Content-Type: text/plain
X-BeenThere: test-report@dpdk.org
X-Mailman-Version: 2.1.29
Precedence: list
List-Id: automatic DPDK test reports <test-report.dpdk.org>
List-Unsubscribe: <https://mails.dpdk.org/options/test-report>,
 <mailto:test-report-request@dpdk.org?subject=unsubscribe>
List-Archive: <http://mails.dpdk.org/archives/test-report/>
List-Post: <mailto:test-report@dpdk.org>
List-Help: <mailto:test-report-request@dpdk.org?subject=help>
List-Subscribe: <https://mails.dpdk.org/listinfo/test-report>,
 <mailto:test-report-request@dpdk.org?subject=subscribe>
Errors-To: test-report-bounces@dpdk.org

Test-Label: iol-unit-amd64-testing
Test-Status: SUCCESS
http://dpdk.org/patch/138936

_Testing PASS_

Submitter: Tyler Retzlaff <roretzla@linux.microsoft.com>
Date: Wednesday, March 27 2024 23:09:18 
DPDK git baseline: Repo:dpdk
  Branch: master
  CommitID:c29202f2f70abd22e3d74e0671ec9f6cb9e387ee

138922-138936 --> testing pass

Test environment and result as below:

+---------------------+----------------+
|     Environment     | dpdk_unit_test |
+=====================+================+
| Windows Server 2019 | PASS           |
+---------------------+----------------+
| Windows Server 2022 | PASS           |
+---------------------+----------------+
| CentOS Stream 8     | PASS           |
+---------------------+----------------+


Windows Server 2019
	Kernel: 10.0.17763
	Compiler: clang 14.0 and gcc 8.1.0 (MinGW)

Windows Server 2022
	Kernel: 10.0.20348.2031
	Compiler: clang 15.0.7, gcc 8.1.0 (MinGW), and MSVC VS 17.9

CentOS Stream 8
	Kernel: 5.4.0-167-generic
	Compiler: gcc 8.5.0 20210514

To view detailed results, visit:
https://lab.dpdk.org/results/dashboard/patchsets/29671/

UNH-IOL DPDK Community Lab

To manage your email subscriptions, visit: 
https://lab.dpdk.org/results/dashboard/preferences/subscriptions/