From mboxrd@z Thu Jan  1 00:00:00 1970
Return-Path: <test-report-bounces@dpdk.org>
Received: from mails.dpdk.org (mails.dpdk.org [217.70.189.124])
	by inbox.dpdk.org (Postfix) with ESMTP id A5BEC43D6D
	for <public@inbox.dpdk.org>; Thu, 28 Mar 2024 16:10:31 +0100 (CET)
Received: from mails.dpdk.org (localhost [127.0.0.1])
	by mails.dpdk.org (Postfix) with ESMTP id 9F078402E7;
	Thu, 28 Mar 2024 16:10:31 +0100 (CET)
Received: from mail-yw1-f225.google.com (mail-yw1-f225.google.com
 [209.85.128.225])
 by mails.dpdk.org (Postfix) with ESMTP id E2FD1402D8
 for <test-report@dpdk.org>; Thu, 28 Mar 2024 16:10:29 +0100 (CET)
Received: by mail-yw1-f225.google.com with SMTP id
 00721157ae682-60a0a54869bso9313377b3.1
 for <test-report@dpdk.org>; Thu, 28 Mar 2024 08:10:29 -0700 (PDT)
DKIM-Signature: v=1; a=rsa-sha256; c=relaxed/relaxed;
 d=iol.unh.edu; s=unh-iol; t=1711638629; x=1712243429; darn=dpdk.org;
 h=references:in-reply-to:cc:to:from:subject:message-id:date:from:to
 :cc:subject:date:message-id:reply-to;
 bh=Ny9J2i6j27Lsp+zdcw7r61uCzTO7AFbkzIGX0T7MUEs=;
 b=AnmIlBDlPBQKjX49YyeTOzUYrIBECzKua4TcgU7P4+o6wMCaaJ0mtN8R0qdr+AXZvN
 Fu5LFIflxUP8VnMdliaWmpAg+6ODtDUXuvCdcLAYILTOQzJOcCtnayTc0QknfDtGc/C0
 JMfH0h/+qmtbzZb9/AvHc++wBeLjVR2knW3AI=
X-Google-DKIM-Signature: v=1; a=rsa-sha256; c=relaxed/relaxed;
 d=1e100.net; s=20230601; t=1711638629; x=1712243429;
 h=references:in-reply-to:cc:to:from:subject:message-id:date
 :x-gm-message-state:from:to:cc:subject:date:message-id:reply-to;
 bh=Ny9J2i6j27Lsp+zdcw7r61uCzTO7AFbkzIGX0T7MUEs=;
 b=vIk+c9FQRhlW/JCeUYf0IWoPegPlWzlR08KqFulxOzqeBs54UEJOktfSLB0smmNcSE
 jRa085vNPubMBN2VFcHgGjqKSzEZ4V4GlHEAA17HRSrsHEsyEbvP8uR6EvgWqkYMSEPk
 Oz+fMkc6c58CRHiTjGQqHWzoiLqYxmVSZIrvqkIsugyqSdXetHw6eRWTZLS6TUobjFuU
 kgR53HPI3HvPR5lJmtavUw/rgQ3aBD2GIBjlGFLgj3cMIFqz2+p9oIo7Py7vzEgl7bE3
 gkFXnXdn8iO9wShfZeuzNxQu77QZ8ZN6lsSYn+crkr3zITY6u0wpUWJL1URYuGxsWGX/
 UFPQ==
X-Gm-Message-State: AOJu0YyaiFQw8N0UadTavRz0bP7vvV/cDc+bU6SF8+4JFNLypPHcR/Ph
 0wFFK6g5W4LTVXgk/FAGtbbka3XYmeRXA+LPXPP2OtuOjPRUHWPAFrCCZ7C1CPTSfGjQINFZYwr
 fvCFdrYkkUm9Z7gDY0sUEPYdbqtVBx/zS8XiPI5gu
X-Google-Smtp-Source: AGHT+IGq/mNqI044zPv6a5QUYnMsP3HDld5XcqRcwWSQfhWH+ZUa54JtCOnKd+uYSpEB0eX2tmwLezLvmK57
X-Received: by 2002:a0d:c401:0:b0:611:30ec:245f with SMTP id
 g1-20020a0dc401000000b0061130ec245fmr1736653ywd.6.1711638628416; 
 Thu, 28 Mar 2024 08:10:28 -0700 (PDT)
Received: from postal.iol.unh.edu (postal.iol.unh.edu. [132.177.123.84])
 by smtp-relay.gmail.com with ESMTPS id
 gt12-20020a05690c450c00b0061128dbcc46sm61754ywb.17.2024.03.28.08.10.28
 (version=TLS1_2 cipher=ECDHE-ECDSA-AES128-GCM-SHA256 bits=128/128);
 Thu, 28 Mar 2024 08:10:28 -0700 (PDT)
X-Relaying-Domain: iol.unh.edu
Date: Thu, 28 Mar 2024 08:10:28 -0700 (PDT)
Message-ID: <66058864.050a0220.7caec.3cc8SMTPIN_ADDED_MISSING@mx.google.com>
Received: from [172.21.0.7] (unknown [172.18.0.240])
 by postal.iol.unh.edu (Postfix) with ESMTP id 09E616052471;
 Thu, 28 Mar 2024 11:10:28 -0400 (EDT)
Subject: |SUCCESS| pw138922-138936 [PATCH] [v2,15/15] examples: pack structur
From: dpdklab@iol.unh.edu
To: Test Report <test-report@dpdk.org>
Cc: dpdk-test-reports@iol.unh.edu
In-Reply-To: <1711580958-20808-16-git-send-email-roretzla@linux.microsoft.com>
References: <1711580958-20808-16-git-send-email-roretzla@linux.microsoft.com>
Content-Type: text/plain
X-BeenThere: test-report@dpdk.org
X-Mailman-Version: 2.1.29
Precedence: list
List-Id: automatic DPDK test reports <test-report.dpdk.org>
List-Unsubscribe: <https://mails.dpdk.org/options/test-report>,
 <mailto:test-report-request@dpdk.org?subject=unsubscribe>
List-Archive: <http://mails.dpdk.org/archives/test-report/>
List-Post: <mailto:test-report@dpdk.org>
List-Help: <mailto:test-report-request@dpdk.org?subject=help>
List-Subscribe: <https://mails.dpdk.org/listinfo/test-report>,
 <mailto:test-report-request@dpdk.org?subject=subscribe>
Errors-To: test-report-bounces@dpdk.org

Test-Label: iol-unit-arm64-testing
Test-Status: SUCCESS
http://dpdk.org/patch/138936

_Testing PASS_

Submitter: Tyler Retzlaff <roretzla@linux.microsoft.com>
Date: Wednesday, March 27 2024 23:09:18 
DPDK git baseline: Repo:dpdk
  Branch: master
  CommitID:c29202f2f70abd22e3d74e0671ec9f6cb9e387ee

138922-138936 --> testing pass

Test environment and result as below:

+-----------------------------+----------------+------------------------------+---------------------------+--------------+
|         Environment         | dpdk_unit_test | cryptodev_sw_snow3g_autotest | cryptodev_sw_zuc_autotest | lpm_autotest |
+=============================+================+==============================+===========================+==============+
| 32-bit Ubuntu 20.04.4 (ARM) | PASS           | SKIPPED                      | SKIPPED                   | SKIPPED      |
+-----------------------------+----------------+------------------------------+---------------------------+--------------+
| Debian 11 (Buster) (ARM)    | PASS           | SKIPPED                      | SKIPPED                   | SKIPPED      |
+-----------------------------+----------------+------------------------------+---------------------------+--------------+
| Debian 12 (arm)             | PASS           | PASS                         | PASS                      | SKIPPED      |
+-----------------------------+----------------+------------------------------+---------------------------+--------------+
| Fedora 37 (ARM)             | PASS           | SKIPPED                      | SKIPPED                   | SKIPPED      |
+-----------------------------+----------------+------------------------------+---------------------------+--------------+
| CentOS Stream 9 (ARM)       | PASS           | SKIPPED                      | SKIPPED                   | SKIPPED      |
+-----------------------------+----------------+------------------------------+---------------------------+--------------+
| Ubuntu 20.04 ARM SVE        | SKIPPED        | SKIPPED                      | SKIPPED                   | PASS         |
+-----------------------------+----------------+------------------------------+---------------------------+--------------+


32-bit Ubuntu 20.04.4 (ARM)
	Kernel: 5.4.0-155-generic aarch64
	Compiler: gcc 9.4

Debian 11 (Buster) (ARM)
	Kernel: Container Host Kernel
	Compiler: gcc 10.2.1

Debian 12 (arm)
	Kernel: Container Host Kernel
	Compiler: gcc 12.2.0

Fedora 37 (ARM)
	Kernel: Depends on container host
	Compiler: gcc 12.3.1

CentOS Stream 9 (ARM)
	Kernel: Container Host Kernel
	Compiler: gcc 11.4.1

Ubuntu 20.04 ARM SVE
	Kernel: 5.4.0-167-generic
	Compiler: gcc (Ubuntu 10.5.0-1ubuntu1~20.04) 10.5.0

To view detailed results, visit:
https://lab.dpdk.org/results/dashboard/patchsets/29671/

UNH-IOL DPDK Community Lab

To manage your email subscriptions, visit: 
https://lab.dpdk.org/results/dashboard/preferences/subscriptions/