From mboxrd@z Thu Jan  1 00:00:00 1970
Return-Path: <test-report-bounces@dpdk.org>
Received: from mails.dpdk.org (mails.dpdk.org [217.70.189.124])
	by inbox.dpdk.org (Postfix) with ESMTP id 74D0543D6D
	for <public@inbox.dpdk.org>; Thu, 28 Mar 2024 16:25:07 +0100 (CET)
Received: from mails.dpdk.org (localhost [127.0.0.1])
	by mails.dpdk.org (Postfix) with ESMTP id 5311B402E7;
	Thu, 28 Mar 2024 16:25:07 +0100 (CET)
Received: from mail-qk1-f227.google.com (mail-qk1-f227.google.com
 [209.85.222.227])
 by mails.dpdk.org (Postfix) with ESMTP id 9CEFE402D8
 for <test-report@dpdk.org>; Thu, 28 Mar 2024 16:25:06 +0100 (CET)
Received: by mail-qk1-f227.google.com with SMTP id
 af79cd13be357-78a5580333bso68420285a.2
 for <test-report@dpdk.org>; Thu, 28 Mar 2024 08:25:06 -0700 (PDT)
DKIM-Signature: v=1; a=rsa-sha256; c=relaxed/relaxed;
 d=iol.unh.edu; s=unh-iol; t=1711639506; x=1712244306; darn=dpdk.org;
 h=references:in-reply-to:cc:to:from:subject:message-id:date:from:to
 :cc:subject:date:message-id:reply-to;
 bh=11DgfyF60zT7fwGosOZ2Lk+Df/TPlFbwZrzA81Zm7FY=;
 b=HO9sQl/vUMONeQ8T6QrmwvdDfcrK1ELZ2WyPI+uWZh3QVwQiDCjvpUAGtbRHLwSr0C
 hw7tYV1tiHk+4h+RpybtG+Cl7iMQd662MFRXYRrI17K8bjlW7etsoyngcMqmGOI36OVT
 rGmT/na4fI+7BNJL0rT7I2ULxmbC1sNGUBdcA=
X-Google-DKIM-Signature: v=1; a=rsa-sha256; c=relaxed/relaxed;
 d=1e100.net; s=20230601; t=1711639506; x=1712244306;
 h=references:in-reply-to:cc:to:from:subject:message-id:date
 :x-gm-message-state:from:to:cc:subject:date:message-id:reply-to;
 bh=11DgfyF60zT7fwGosOZ2Lk+Df/TPlFbwZrzA81Zm7FY=;
 b=pSeVPqwQ+uUNu8obIwpRZPSivjICjAoE/5yKByZnFK/sc8Fpu/z+FFO/f+6uLcqsz2
 J/g1HWyz4F79ahFK1gZbQmxYj6z0G83UL8lf60x+t6X3tN1VeWKZlxJ0XICtapNRnHPI
 AAVQNLSRyy3Ncj9R8UwXHRDRbObCelTFDZu7ak2Q548gAxW0j7bAkVcxgKTQxrtd+0dd
 RmSmsNg29MZ43/PPUm/ZLQOm4cqgxo7ql8zGz/fTbGUIOtwOW7Gi/WLaTlU6tRmzW6TX
 PamLYMV7BswWtHJeB9eZF6E6EN9FVGWB6UaGHOIozF/AS/oavttU7RcA4Ggb3EVx2bz7
 fFtw==
X-Gm-Message-State: AOJu0YzZSLd1JnwErMqhg9KozhgNatDvWkAyPQD1Jacq3Ox7nydvkzyw
 H8SIdQZH0umGCrcs4LjS7ih+CC7pOZrqfPyFG+eYZJyX7ZB6ik1KuNJ5ewwcZIPoA51uUoDZg53
 0HzGOn8p3151+zjIp+49ysXlyfb8tr5MOn89Atr6W1avopSUjPCEdSgVf
X-Google-Smtp-Source: AGHT+IFRUHWykIj/DLQgqf9CK3Lrq8xY+QnRWaV2YNZccYAO8j5upBhV/fntTpLZLLybrapzeWeX/c0RSLlF
X-Received: by 2002:a05:6214:1643:b0:696:b1e0:1bfc with SMTP id
 f3-20020a056214164300b00696b1e01bfcmr2821659qvw.38.1711639505981; 
 Thu, 28 Mar 2024 08:25:05 -0700 (PDT)
Received: from postal.iol.unh.edu (postal.iol.unh.edu.
 [2606:4100:3880:1234::84]) by smtp-relay.gmail.com with ESMTPS id
 jv9-20020a05621429e900b00696b46bb689sm109872qvb.27.2024.03.28.08.25.05
 (version=TLS1_2 cipher=ECDHE-ECDSA-AES128-GCM-SHA256 bits=128/128);
 Thu, 28 Mar 2024 08:25:05 -0700 (PDT)
X-Relaying-Domain: iol.unh.edu
Date: Thu, 28 Mar 2024 08:25:05 -0700 (PDT)
Message-ID: <66058bd1.050a0220.3c6a7.6d60SMTPIN_ADDED_MISSING@mx.google.com>
Received: from [172.21.0.7] (unknown [172.18.0.240])
 by postal.iol.unh.edu (Postfix) with ESMTP id A24D06052471;
 Thu, 28 Mar 2024 11:25:05 -0400 (EDT)
Subject: |SUCCESS| pw138922-138936 [PATCH] [v2,15/15] examples: pack structur
From: dpdklab@iol.unh.edu
To: Test Report <test-report@dpdk.org>
Cc: dpdk-test-reports@iol.unh.edu
In-Reply-To: <1711580958-20808-16-git-send-email-roretzla@linux.microsoft.com>
References: <1711580958-20808-16-git-send-email-roretzla@linux.microsoft.com>
Content-Type: text/plain
X-BeenThere: test-report@dpdk.org
X-Mailman-Version: 2.1.29
Precedence: list
List-Id: automatic DPDK test reports <test-report.dpdk.org>
List-Unsubscribe: <https://mails.dpdk.org/options/test-report>,
 <mailto:test-report-request@dpdk.org?subject=unsubscribe>
List-Archive: <http://mails.dpdk.org/archives/test-report/>
List-Post: <mailto:test-report@dpdk.org>
List-Help: <mailto:test-report-request@dpdk.org?subject=help>
List-Subscribe: <https://mails.dpdk.org/listinfo/test-report>,
 <mailto:test-report-request@dpdk.org?subject=subscribe>
Errors-To: test-report-bounces@dpdk.org

Test-Label: iol-compile-amd64-testing
Test-Status: SUCCESS
http://dpdk.org/patch/138936

_Testing PASS_

Submitter: Tyler Retzlaff <roretzla@linux.microsoft.com>
Date: Wednesday, March 27 2024 23:09:18 
DPDK git baseline: Repo:dpdk
  Branch: master
  CommitID:c29202f2f70abd22e3d74e0671ec9f6cb9e387ee

138922-138936 --> testing pass

Test environment and result as below:

+---------------------+--------------------+----------------------+-------------------+
|     Environment     | dpdk_meson_compile | dpdk_mingw64_compile | dpdk_msvc_compile |
+=====================+====================+======================+===================+
| Windows Server 2022 | PASS               | PASS                 | PASS              |
+---------------------+--------------------+----------------------+-------------------+
| FreeBSD 13.2        | PASS               | SKIPPED              | SKIPPED           |
+---------------------+--------------------+----------------------+-------------------+
| Windows Server 2019 | PASS               | PASS                 | SKIPPED           |
+---------------------+--------------------+----------------------+-------------------+
| CentOS Stream 8     | PASS               | SKIPPED              | SKIPPED           |
+---------------------+--------------------+----------------------+-------------------+
| CentOS Stream 9     | PASS               | SKIPPED              | SKIPPED           |
+---------------------+--------------------+----------------------+-------------------+
| Debian 11 (arm)     | PASS               | SKIPPED              | SKIPPED           |
+---------------------+--------------------+----------------------+-------------------+
| Debian Bullseye     | PASS               | SKIPPED              | SKIPPED           |
+---------------------+--------------------+----------------------+-------------------+
| Fedora 37           | PASS               | SKIPPED              | SKIPPED           |
+---------------------+--------------------+----------------------+-------------------+
| Fedora 38           | PASS               | SKIPPED              | SKIPPED           |
+---------------------+--------------------+----------------------+-------------------+
| Fedora 39           | PASS               | SKIPPED              | SKIPPED           |
+---------------------+--------------------+----------------------+-------------------+


Windows Server 2022
	Kernel: 10.0.20348.2031
	Compiler: clang 15.0.7, gcc 8.1.0 (MinGW), and MSVC VS 17.9

FreeBSD 13.2
	Kernel: 13.2
	Compiler: clang 14.0.5

Windows Server 2019
	Kernel: 10.0.17763
	Compiler: clang 14.0 and gcc 8.1.0 (MinGW)

CentOS Stream 8
	Kernel: 5.4.0-167-generic
	Compiler: gcc 8.5.0 20210514

CentOS Stream 9
	Kernel: 5.4.0-167-generic
	Compiler: gcc 11.4.1 20230605

Debian 11 (arm)
	Kernel: Container Host Kernel
	Compiler: gcc 10.2.1

Debian Bullseye
	Kernel: 5.4.0-167-generic
	Compiler: gcc 10.2.1-6

Fedora 37
	Kernel: Depends on container host system
	Compiler: gcc 12.3.1

Fedora 38
	Kernel: Depends on container host
	Compiler: clang 16.0.6

Fedora 39
	Kernel: Depends on container host
	Compiler: gcc 13.2.1

To view detailed results, visit:
https://lab.dpdk.org/results/dashboard/patchsets/29671/

UNH-IOL DPDK Community Lab

To manage your email subscriptions, visit: 
https://lab.dpdk.org/results/dashboard/preferences/subscriptions/