From mboxrd@z Thu Jan  1 00:00:00 1970
Return-Path: <test-report-bounces@dpdk.org>
Received: from mails.dpdk.org (mails.dpdk.org [217.70.189.124])
	by inbox.dpdk.org (Postfix) with ESMTP id 8240A43D6D
	for <public@inbox.dpdk.org>; Thu, 28 Mar 2024 16:26:07 +0100 (CET)
Received: from mails.dpdk.org (localhost [127.0.0.1])
	by mails.dpdk.org (Postfix) with ESMTP id 7BBE1402E7;
	Thu, 28 Mar 2024 16:26:07 +0100 (CET)
Received: from mail-il1-f225.google.com (mail-il1-f225.google.com
 [209.85.166.225])
 by mails.dpdk.org (Postfix) with ESMTP id 0D894402D8
 for <test-report@dpdk.org>; Thu, 28 Mar 2024 16:26:06 +0100 (CET)
Received: by mail-il1-f225.google.com with SMTP id
 e9e14a558f8ab-368bdf58ad1so3307445ab.1
 for <test-report@dpdk.org>; Thu, 28 Mar 2024 08:26:06 -0700 (PDT)
DKIM-Signature: v=1; a=rsa-sha256; c=relaxed/relaxed;
 d=iol.unh.edu; s=unh-iol; t=1711639565; x=1712244365; darn=dpdk.org;
 h=references:in-reply-to:cc:to:from:subject:message-id:date:from:to
 :cc:subject:date:message-id:reply-to;
 bh=11DgfyF60zT7fwGosOZ2Lk+Df/TPlFbwZrzA81Zm7FY=;
 b=jo5OvNTR6k2DRQ2X1fpiEYdh54uAUbEwHWkewK9SKi+Snhaa3Kips9hLoZSd8WF17M
 oKfpv5Y6w549U8TjB7e63euvzBhe8gm1Bold4rAi5l/VQfHfXg4R1OI5565RZBeSUQ3U
 aeKjZiHI9G4/UeoUC0+8tViXxo05yWoKK+PvY=
X-Google-DKIM-Signature: v=1; a=rsa-sha256; c=relaxed/relaxed;
 d=1e100.net; s=20230601; t=1711639565; x=1712244365;
 h=references:in-reply-to:cc:to:from:subject:message-id:date
 :x-gm-message-state:from:to:cc:subject:date:message-id:reply-to;
 bh=11DgfyF60zT7fwGosOZ2Lk+Df/TPlFbwZrzA81Zm7FY=;
 b=c5I+fMPHuwF8JmlMF6+d95FENMEq0fRpTRV/g43jg1p75WAKzRU3QwV5AL9Mmb4UNA
 93vAJ4D9jq8/h5M/zuo1Pm9x1+MKkHg/lO71wLYM03yiTLmV7jaQRonJ1XuJGxohWvO5
 aAstEWPZfpjt675QOubFDgj1OLa82QP+cNsw45UcjGtL+dpTbbPJ25XdrtWIe/wuiv3i
 9eKMui0luSErXuyRccRqCWAOH57Amv29iiVJ55Bkt8cQcOPiMLYNkD7kSbeBwih70FsI
 B1uLIjL6GViMQbC7fniy/H8S1Bwr/ovRMdiHYjzaV3ygmGBDdM7V8c1/tgVwub2zLM/h
 JE0g==
X-Gm-Message-State: AOJu0Yyhp4YD1XOxTIdLE7C3vn8Ui//VdRjYv5kBb50bBbgpg1G5PF0W
 mqo7cFXkV4CAVae6qEAQDJaYKly3Yy4tdzH9MbegHxnKMyn/9nyPL4ER/K/qmtiG8K0BG/aJhoR
 h8Fix/18filFVuFwxCrQUyZE45rk6EITL2B+/gB3WJn0U5bC313JFMf4O
X-Google-Smtp-Source: AGHT+IGomMkCNq0hWrnYWQ4QmGLEQZ98R7EfCZ/uX1f+a5m0tDoDaolta9dfrFeglOzcwKadFESp6gUzoxZt
X-Received: by 2002:a05:6e02:ee2:b0:366:4b49:d412 with SMTP id
 j2-20020a056e020ee200b003664b49d412mr3529887ilk.29.1711639565444; 
 Thu, 28 Mar 2024 08:26:05 -0700 (PDT)
Received: from postal.iol.unh.edu (postal.iol.unh.edu.
 [2606:4100:3880:1234::84]) by smtp-relay.gmail.com with ESMTPS id
 z5-20020a056e0217c500b00368a8e60c35sm66579ilu.75.2024.03.28.08.26.05
 (version=TLS1_2 cipher=ECDHE-ECDSA-AES128-GCM-SHA256 bits=128/128);
 Thu, 28 Mar 2024 08:26:05 -0700 (PDT)
X-Relaying-Domain: iol.unh.edu
Date: Thu, 28 Mar 2024 08:26:05 -0700 (PDT)
Message-ID: <66058c0d.050a0220.ed7d2.40e9SMTPIN_ADDED_MISSING@mx.google.com>
Received: from [172.21.0.6] (unknown [172.18.0.240])
 by postal.iol.unh.edu (Postfix) with ESMTP id E0D9B6052471;
 Thu, 28 Mar 2024 11:26:04 -0400 (EDT)
Subject: |SUCCESS| pw138922-138936 [PATCH] [v2,15/15] examples: pack structur
From: dpdklab@iol.unh.edu
To: Test Report <test-report@dpdk.org>
Cc: dpdk-test-reports@iol.unh.edu
In-Reply-To: <1711580958-20808-16-git-send-email-roretzla@linux.microsoft.com>
References: <1711580958-20808-16-git-send-email-roretzla@linux.microsoft.com>
Content-Type: text/plain
X-BeenThere: test-report@dpdk.org
X-Mailman-Version: 2.1.29
Precedence: list
List-Id: automatic DPDK test reports <test-report.dpdk.org>
List-Unsubscribe: <https://mails.dpdk.org/options/test-report>,
 <mailto:test-report-request@dpdk.org?subject=unsubscribe>
List-Archive: <http://mails.dpdk.org/archives/test-report/>
List-Post: <mailto:test-report@dpdk.org>
List-Help: <mailto:test-report-request@dpdk.org?subject=help>
List-Subscribe: <https://mails.dpdk.org/listinfo/test-report>,
 <mailto:test-report-request@dpdk.org?subject=subscribe>
Errors-To: test-report-bounces@dpdk.org

Test-Label: iol-compile-amd64-testing
Test-Status: SUCCESS
http://dpdk.org/patch/138936

_Testing PASS_

Submitter: Tyler Retzlaff <roretzla@linux.microsoft.com>
Date: Wednesday, March 27 2024 23:09:18 
DPDK git baseline: Repo:dpdk
  Branch: master
  CommitID:c29202f2f70abd22e3d74e0671ec9f6cb9e387ee

138922-138936 --> testing pass

Test environment and result as below:

+---------------------+--------------------+----------------------+-------------------+
|     Environment     | dpdk_meson_compile | dpdk_mingw64_compile | dpdk_msvc_compile |
+=====================+====================+======================+===================+
| Windows Server 2022 | PASS               | PASS                 | PASS              |
+---------------------+--------------------+----------------------+-------------------+
| FreeBSD 13.2        | PASS               | SKIPPED              | SKIPPED           |
+---------------------+--------------------+----------------------+-------------------+
| Windows Server 2019 | PASS               | PASS                 | SKIPPED           |
+---------------------+--------------------+----------------------+-------------------+
| CentOS Stream 8     | PASS               | SKIPPED              | SKIPPED           |
+---------------------+--------------------+----------------------+-------------------+
| CentOS Stream 9     | PASS               | SKIPPED              | SKIPPED           |
+---------------------+--------------------+----------------------+-------------------+
| Debian 11 (arm)     | PASS               | SKIPPED              | SKIPPED           |
+---------------------+--------------------+----------------------+-------------------+
| Debian Bullseye     | PASS               | SKIPPED              | SKIPPED           |
+---------------------+--------------------+----------------------+-------------------+
| Fedora 37           | PASS               | SKIPPED              | SKIPPED           |
+---------------------+--------------------+----------------------+-------------------+
| Fedora 38           | PASS               | SKIPPED              | SKIPPED           |
+---------------------+--------------------+----------------------+-------------------+
| Fedora 39           | PASS               | SKIPPED              | SKIPPED           |
+---------------------+--------------------+----------------------+-------------------+


Windows Server 2022
	Kernel: 10.0.20348.2031
	Compiler: clang 15.0.7, gcc 8.1.0 (MinGW), and MSVC VS 17.9

FreeBSD 13.2
	Kernel: 13.2
	Compiler: clang 14.0.5

Windows Server 2019
	Kernel: 10.0.17763
	Compiler: clang 14.0 and gcc 8.1.0 (MinGW)

CentOS Stream 8
	Kernel: 5.4.0-167-generic
	Compiler: gcc 8.5.0 20210514

CentOS Stream 9
	Kernel: 5.4.0-167-generic
	Compiler: gcc 11.4.1 20230605

Debian 11 (arm)
	Kernel: Container Host Kernel
	Compiler: gcc 10.2.1

Debian Bullseye
	Kernel: 5.4.0-167-generic
	Compiler: gcc 10.2.1-6

Fedora 37
	Kernel: Depends on container host system
	Compiler: gcc 12.3.1

Fedora 38
	Kernel: Depends on container host
	Compiler: clang 16.0.6

Fedora 39
	Kernel: Depends on container host
	Compiler: gcc 13.2.1

To view detailed results, visit:
https://lab.dpdk.org/results/dashboard/patchsets/29671/

UNH-IOL DPDK Community Lab

To manage your email subscriptions, visit: 
https://lab.dpdk.org/results/dashboard/preferences/subscriptions/