From mboxrd@z Thu Jan  1 00:00:00 1970
Return-Path: <test-report-bounces@dpdk.org>
Received: from mails.dpdk.org (mails.dpdk.org [217.70.189.124])
	by inbox.dpdk.org (Postfix) with ESMTP id D2EA643D6D
	for <public@inbox.dpdk.org>; Thu, 28 Mar 2024 16:27:49 +0100 (CET)
Received: from mails.dpdk.org (localhost [127.0.0.1])
	by mails.dpdk.org (Postfix) with ESMTP id CE6BA402E7;
	Thu, 28 Mar 2024 16:27:49 +0100 (CET)
Received: from mail-yw1-f225.google.com (mail-yw1-f225.google.com
 [209.85.128.225])
 by mails.dpdk.org (Postfix) with ESMTP id E2EEA402D8
 for <test-report@dpdk.org>; Thu, 28 Mar 2024 16:27:48 +0100 (CET)
Received: by mail-yw1-f225.google.com with SMTP id
 00721157ae682-61130dd21c1so11775267b3.2
 for <test-report@dpdk.org>; Thu, 28 Mar 2024 08:27:48 -0700 (PDT)
DKIM-Signature: v=1; a=rsa-sha256; c=relaxed/relaxed;
 d=iol.unh.edu; s=unh-iol; t=1711639668; x=1712244468; darn=dpdk.org;
 h=references:in-reply-to:cc:to:from:subject:message-id:date:from:to
 :cc:subject:date:message-id:reply-to;
 bh=G9N8ACmYTqjdcD82JGjn6/Ta+SsExrCgpbq9BGRSStA=;
 b=HWBe1FzlaHCzYr6HzPhhlOUuW+KWKqtwPISEKaAoggatF8rXn5nhDSaC4r87QnFDhF
 kGTLpppBaRknxHDAIgMkB3jYQZRJ657uxJtE02+pluk2wEB1w3LAwTlrHNM2Lrqc0Te7
 1ME8cLAbsyo9B4e2/3W4hcT6e9hCa+eWuVtfs=
X-Google-DKIM-Signature: v=1; a=rsa-sha256; c=relaxed/relaxed;
 d=1e100.net; s=20230601; t=1711639668; x=1712244468;
 h=references:in-reply-to:cc:to:from:subject:message-id:date
 :x-gm-message-state:from:to:cc:subject:date:message-id:reply-to;
 bh=G9N8ACmYTqjdcD82JGjn6/Ta+SsExrCgpbq9BGRSStA=;
 b=OG4EaoQgWtrxQsINzaIOARriYUbVU8IPEoX+ij1mKb4diHh9IFxmgzLWjZ7Uut20Wh
 JGm/Y9IXUzpk8kRdLy1c2Bg5VJEL734CQe1JmbnxZd7Y1GrzNm2F0aU9nYBVjudol0P9
 u6QE4tngInDS9mXwwKuxtLRHEb2Bok9oaQt1u2Ga23XQm+JEyh/aMXov+jpy8JzhSx/k
 Y0zDh1SI/NTUMB08VjHjYybPm0JbGTRWtX0NuHGG0qPqZTpc2MY1VGpuMU3iR2Kor3uK
 a5t+15n6uZCOk29NzgcRNw338wEdto3vlXSE7gtUGG+y5ue3E4nQ3pnLxye3Wk1CGsDg
 U2fw==
X-Gm-Message-State: AOJu0Yy2wJ2N0kGEw0mKmSJtxM5vIhFHA5craiITdKMJgaVGupJqgzVZ
 G7Ha62J7/5srzc610xlCSQy9hWb4VHPYwVrB+U2yc9YTv9MnTXU+brlbsT5Lf7G8svznj0QyIBz
 F2pTjk3Z3CBennCOhlxSFT7Y/MtP4CESO3YmNgwBV
X-Google-Smtp-Source: AGHT+IH1fvpaC0Vf9HZskxMiJI8DXmEkqP7V22Yh7Y2UoePabUXSqW1CI7ZH8EDZZWniC1cPVoQUgAMMB8YP
X-Received: by 2002:a25:a345:0:b0:dcd:2aa3:d744 with SMTP id
 d63-20020a25a345000000b00dcd2aa3d744mr3154841ybi.17.1711639668306; 
 Thu, 28 Mar 2024 08:27:48 -0700 (PDT)
Received: from postal.iol.unh.edu (postal.iol.unh.edu. [132.177.123.84])
 by smtp-relay.gmail.com with ESMTPS id
 p6-20020a257406000000b00dc6185d4494sm67113ybc.6.2024.03.28.08.27.48
 (version=TLS1_2 cipher=ECDHE-ECDSA-AES128-GCM-SHA256 bits=128/128);
 Thu, 28 Mar 2024 08:27:48 -0700 (PDT)
X-Relaying-Domain: iol.unh.edu
Date: Thu, 28 Mar 2024 08:27:48 -0700 (PDT)
Message-ID: <66058c74.250a0220.90e3e.3dffSMTPIN_ADDED_MISSING@mx.google.com>
Received: from [172.21.0.6] (unknown [172.18.0.240])
 by postal.iol.unh.edu (Postfix) with ESMTP id E92786052471;
 Thu, 28 Mar 2024 11:27:47 -0400 (EDT)
Subject: |SUCCESS| pw138922-138936 [PATCH] [v2,15/15] examples: pack structur
From: dpdklab@iol.unh.edu
To: Test Report <test-report@dpdk.org>
Cc: dpdk-test-reports@iol.unh.edu
In-Reply-To: <1711580958-20808-16-git-send-email-roretzla@linux.microsoft.com>
References: <1711580958-20808-16-git-send-email-roretzla@linux.microsoft.com>
Content-Type: text/plain
X-BeenThere: test-report@dpdk.org
X-Mailman-Version: 2.1.29
Precedence: list
List-Id: automatic DPDK test reports <test-report.dpdk.org>
List-Unsubscribe: <https://mails.dpdk.org/options/test-report>,
 <mailto:test-report-request@dpdk.org?subject=unsubscribe>
List-Archive: <http://mails.dpdk.org/archives/test-report/>
List-Post: <mailto:test-report@dpdk.org>
List-Help: <mailto:test-report-request@dpdk.org?subject=help>
List-Subscribe: <https://mails.dpdk.org/listinfo/test-report>,
 <mailto:test-report-request@dpdk.org?subject=subscribe>
Errors-To: test-report-bounces@dpdk.org

Test-Label: iol-unit-arm64-testing
Test-Status: SUCCESS
http://dpdk.org/patch/138936

_Testing PASS_

Submitter: Tyler Retzlaff <roretzla@linux.microsoft.com>
Date: Wednesday, March 27 2024 23:09:18 
DPDK git baseline: Repo:dpdk
  Branch: master
  CommitID:c29202f2f70abd22e3d74e0671ec9f6cb9e387ee

138922-138936 --> testing pass

Test environment and result as below:

+-----------------------------+----------------+------------------------------+---------------------------+--------------+
|         Environment         | dpdk_unit_test | cryptodev_sw_snow3g_autotest | cryptodev_sw_zuc_autotest | lpm_autotest |
+=============================+================+==============================+===========================+==============+
| 32-bit Ubuntu 20.04.4 (ARM) | PASS           | SKIPPED                      | SKIPPED                   | SKIPPED      |
+-----------------------------+----------------+------------------------------+---------------------------+--------------+
| Debian 11 (Buster) (ARM)    | PASS           | SKIPPED                      | SKIPPED                   | SKIPPED      |
+-----------------------------+----------------+------------------------------+---------------------------+--------------+
| Debian 12 (arm)             | PASS           | PASS                         | PASS                      | SKIPPED      |
+-----------------------------+----------------+------------------------------+---------------------------+--------------+
| Fedora 37 (ARM)             | PASS           | SKIPPED                      | SKIPPED                   | SKIPPED      |
+-----------------------------+----------------+------------------------------+---------------------------+--------------+
| CentOS Stream 9 (ARM)       | PASS           | SKIPPED                      | SKIPPED                   | SKIPPED      |
+-----------------------------+----------------+------------------------------+---------------------------+--------------+
| Fedora 39 (ARM)             | PASS           | SKIPPED                      | SKIPPED                   | SKIPPED      |
+-----------------------------+----------------+------------------------------+---------------------------+--------------+
| Ubuntu 20.04 ARM SVE        | SKIPPED        | SKIPPED                      | SKIPPED                   | PASS         |
+-----------------------------+----------------+------------------------------+---------------------------+--------------+


32-bit Ubuntu 20.04.4 (ARM)
	Kernel: 5.4.0-155-generic aarch64
	Compiler: gcc 9.4

Debian 11 (Buster) (ARM)
	Kernel: Container Host Kernel
	Compiler: gcc 10.2.1

Debian 12 (arm)
	Kernel: Container Host Kernel
	Compiler: gcc 12.2.0

Fedora 37 (ARM)
	Kernel: Depends on container host
	Compiler: gcc 12.3.1

CentOS Stream 9 (ARM)
	Kernel: Container Host Kernel
	Compiler: gcc 11.4.1

Fedora 39 (ARM)
	Kernel: Depends on container host
	Compiler: gcc 13.2.1

Ubuntu 20.04 ARM SVE
	Kernel: 5.4.0-167-generic
	Compiler: gcc (Ubuntu 10.5.0-1ubuntu1~20.04) 10.5.0

To view detailed results, visit:
https://lab.dpdk.org/results/dashboard/patchsets/29671/

UNH-IOL DPDK Community Lab

To manage your email subscriptions, visit: 
https://lab.dpdk.org/results/dashboard/preferences/subscriptions/