From mboxrd@z Thu Jan  1 00:00:00 1970
Return-Path: <test-report-bounces@dpdk.org>
Received: from mails.dpdk.org (mails.dpdk.org [217.70.189.124])
	by inbox.dpdk.org (Postfix) with ESMTP id 27B9643D6D
	for <public@inbox.dpdk.org>; Thu, 28 Mar 2024 16:36:19 +0100 (CET)
Received: from mails.dpdk.org (localhost [127.0.0.1])
	by mails.dpdk.org (Postfix) with ESMTP id F20FF402E7;
	Thu, 28 Mar 2024 16:36:18 +0100 (CET)
Received: from mail-yb1-f226.google.com (mail-yb1-f226.google.com
 [209.85.219.226])
 by mails.dpdk.org (Postfix) with ESMTP id EC766402D8
 for <test-report@dpdk.org>; Thu, 28 Mar 2024 16:36:17 +0100 (CET)
Received: by mail-yb1-f226.google.com with SMTP id
 3f1490d57ef6-dd10ebcd702so1082476276.2
 for <test-report@dpdk.org>; Thu, 28 Mar 2024 08:36:17 -0700 (PDT)
DKIM-Signature: v=1; a=rsa-sha256; c=relaxed/relaxed;
 d=iol.unh.edu; s=unh-iol; t=1711640177; x=1712244977; darn=dpdk.org;
 h=references:in-reply-to:cc:to:from:subject:message-id:date:from:to
 :cc:subject:date:message-id:reply-to;
 bh=WBMDIvtwX0VqmnHCmeXQCW/vXxUFzbp1PYrPJH2IUnc=;
 b=OpzcHoDcagMOvPSUQccIUY7XQUSQV6gn1d0+S1CqDglnu0urB5fh1SA4EyoauvCYP8
 JAbMR68GqrFBFKwEnfbE32RA0ujjjSGuM2QOik+NOLaJKyIKFqOwx1zoC3KzsN6V/hf6
 Wuga2Cwp+t8vd6o/6V/p8ocIXEiRO4J8tjClw=
X-Google-DKIM-Signature: v=1; a=rsa-sha256; c=relaxed/relaxed;
 d=1e100.net; s=20230601; t=1711640177; x=1712244977;
 h=references:in-reply-to:cc:to:from:subject:message-id:date
 :x-gm-message-state:from:to:cc:subject:date:message-id:reply-to;
 bh=WBMDIvtwX0VqmnHCmeXQCW/vXxUFzbp1PYrPJH2IUnc=;
 b=QEaaY7SEzZp1r7rBnA6kJU+ClkM3e1QjuIpi5KWPnvnsC7GFvkmccOMNlp3wcbrkRc
 Ub11RjW65y0T+vA3r6hEvN5kRjJXIJr5q2+ftYrUwGRA/Kk0BUUFJqO2+BraPUsr2Won
 1FI2Rfbx2BYkZ0Kdi8cx1/5ogxwINcPNESv6jJtLlEJgIy3IB0fy6FteTqBqxHmShVSk
 3sUxKlZ8Xc5ceX633EX4sct+pC1ysLhC3tOItPAROIgjIr4QZScUtPgU8ZWEC9mdD7Ld
 fsh5Qb0pSvBqduBr2UJrSTvPL84rz1qiwupOn2+IkIMbhTlM4wtH970eiR5FnWUsPtFF
 5s+A==
X-Gm-Message-State: AOJu0Yw0J38T5LJ7Z3Abavb7Ms6F1Nj+/0vz/mdyhXeEfNeXbDO98Q4A
 k9osko57jQBzdd/c1wVUgfSTyifG/+jTlqUmumYZVCGTkP16M9KYWVebi3exIhfHqtgrGDlfe7k
 6pNt8A1F4zb63HEUr9s+/TRJPwjeY9Wu4pba5Cmts
X-Google-Smtp-Source: AGHT+IFERpIgT4xEBXZDg88uPefVVEDQ7G1P9lyhEgNGZHTdDmHkL5rrmOpxOc7FhdWvqi7GkSBXIlNzDarD
X-Received: by 2002:a25:fc11:0:b0:dcf:f78f:a570 with SMTP id
 v17-20020a25fc11000000b00dcff78fa570mr3593070ybd.7.1711640177223; 
 Thu, 28 Mar 2024 08:36:17 -0700 (PDT)
Received: from postal.iol.unh.edu (postal.iol.unh.edu. [132.177.123.84])
 by smtp-relay.gmail.com with ESMTPS id
 h185-20020a25d0c2000000b00dcd2db7ad30sm71597ybg.29.2024.03.28.08.36.17
 (version=TLS1_2 cipher=ECDHE-ECDSA-AES128-GCM-SHA256 bits=128/128);
 Thu, 28 Mar 2024 08:36:17 -0700 (PDT)
X-Relaying-Domain: iol.unh.edu
Date: Thu, 28 Mar 2024 08:36:17 -0700 (PDT)
Message-ID: <66058e71.250a0220.c5d4c.44ffSMTPIN_ADDED_MISSING@mx.google.com>
Received: from [172.21.0.6] (unknown [172.18.0.240])
 by postal.iol.unh.edu (Postfix) with ESMTP id 9FDBA6052471;
 Thu, 28 Mar 2024 11:36:16 -0400 (EDT)
Subject: |SUCCESS| pw138922-138936 [PATCH] [v2,15/15] examples: pack structur
From: dpdklab@iol.unh.edu
To: Test Report <test-report@dpdk.org>
Cc: dpdk-test-reports@iol.unh.edu
In-Reply-To: <1711580958-20808-16-git-send-email-roretzla@linux.microsoft.com>
References: <1711580958-20808-16-git-send-email-roretzla@linux.microsoft.com>
Content-Type: text/plain
X-BeenThere: test-report@dpdk.org
X-Mailman-Version: 2.1.29
Precedence: list
List-Id: automatic DPDK test reports <test-report.dpdk.org>
List-Unsubscribe: <https://mails.dpdk.org/options/test-report>,
 <mailto:test-report-request@dpdk.org?subject=unsubscribe>
List-Archive: <http://mails.dpdk.org/archives/test-report/>
List-Post: <mailto:test-report@dpdk.org>
List-Help: <mailto:test-report-request@dpdk.org?subject=help>
List-Subscribe: <https://mails.dpdk.org/listinfo/test-report>,
 <mailto:test-report-request@dpdk.org?subject=subscribe>
Errors-To: test-report-bounces@dpdk.org

Test-Label: iol-compile-amd64-testing
Test-Status: SUCCESS
http://dpdk.org/patch/138936

_Testing PASS_

Submitter: Tyler Retzlaff <roretzla@linux.microsoft.com>
Date: Wednesday, March 27 2024 23:09:18 
DPDK git baseline: Repo:dpdk
  Branch: master
  CommitID:c29202f2f70abd22e3d74e0671ec9f6cb9e387ee

138922-138936 --> testing pass

Test environment and result as below:

+---------------------+--------------------+----------------------+-------------------+
|     Environment     | dpdk_meson_compile | dpdk_mingw64_compile | dpdk_msvc_compile |
+=====================+====================+======================+===================+
| Windows Server 2022 | PASS               | PASS                 | PASS              |
+---------------------+--------------------+----------------------+-------------------+
| FreeBSD 13.2        | PASS               | SKIPPED              | SKIPPED           |
+---------------------+--------------------+----------------------+-------------------+
| Windows Server 2019 | PASS               | PASS                 | SKIPPED           |
+---------------------+--------------------+----------------------+-------------------+
| CentOS Stream 8     | PASS               | SKIPPED              | SKIPPED           |
+---------------------+--------------------+----------------------+-------------------+
| CentOS Stream 9     | PASS               | SKIPPED              | SKIPPED           |
+---------------------+--------------------+----------------------+-------------------+
| Debian 11 (arm)     | PASS               | SKIPPED              | SKIPPED           |
+---------------------+--------------------+----------------------+-------------------+
| Debian Bullseye     | PASS               | SKIPPED              | SKIPPED           |
+---------------------+--------------------+----------------------+-------------------+
| Fedora 37           | PASS               | SKIPPED              | SKIPPED           |
+---------------------+--------------------+----------------------+-------------------+
| Fedora 38           | PASS               | SKIPPED              | SKIPPED           |
+---------------------+--------------------+----------------------+-------------------+
| Fedora 39           | PASS               | SKIPPED              | SKIPPED           |
+---------------------+--------------------+----------------------+-------------------+
| openSUSE Leap 15    | PASS               | SKIPPED              | SKIPPED           |
+---------------------+--------------------+----------------------+-------------------+
| Ubuntu 20.04        | PASS               | SKIPPED              | SKIPPED           |
+---------------------+--------------------+----------------------+-------------------+
| RHEL8               | PASS               | SKIPPED              | SKIPPED           |
+---------------------+--------------------+----------------------+-------------------+


Windows Server 2022
	Kernel: 10.0.20348.2031
	Compiler: clang 15.0.7, gcc 8.1.0 (MinGW), and MSVC VS 17.9

FreeBSD 13.2
	Kernel: 13.2
	Compiler: clang 14.0.5

Windows Server 2019
	Kernel: 10.0.17763
	Compiler: clang 14.0 and gcc 8.1.0 (MinGW)

CentOS Stream 8
	Kernel: 5.4.0-167-generic
	Compiler: gcc 8.5.0 20210514

CentOS Stream 9
	Kernel: 5.4.0-167-generic
	Compiler: gcc 11.4.1 20230605

Debian 11 (arm)
	Kernel: Container Host Kernel
	Compiler: gcc 10.2.1

Debian Bullseye
	Kernel: 5.4.0-167-generic
	Compiler: gcc 10.2.1-6

Fedora 37
	Kernel: Depends on container host system
	Compiler: gcc 12.3.1

Fedora 38
	Kernel: Depends on container host
	Compiler: clang 16.0.6

Fedora 39
	Kernel: Depends on container host
	Compiler: gcc 13.2.1

openSUSE Leap 15
	Kernel: 5.4.0-167-generic
	Compiler: gcc 7.5.0

Ubuntu 20.04
	Kernel: 5.4.0-167-generic
	Compiler: gcc 9.4.0-1ubuntu1~20.04.1

RHEL8
	Kernel: 5.4.0-167-generic
	Compiler: gcc 8.5.0 20210514 (Red Hat 8.5.0-20)

To view detailed results, visit:
https://lab.dpdk.org/results/dashboard/patchsets/29671/

UNH-IOL DPDK Community Lab

To manage your email subscriptions, visit: 
https://lab.dpdk.org/results/dashboard/preferences/subscriptions/