From mboxrd@z Thu Jan  1 00:00:00 1970
Return-Path: <test-report-bounces@dpdk.org>
Received: from mails.dpdk.org (mails.dpdk.org [217.70.189.124])
	by inbox.dpdk.org (Postfix) with ESMTP id A6BA143D6D
	for <public@inbox.dpdk.org>; Thu, 28 Mar 2024 17:07:34 +0100 (CET)
Received: from mails.dpdk.org (localhost [127.0.0.1])
	by mails.dpdk.org (Postfix) with ESMTP id A1597410E3;
	Thu, 28 Mar 2024 17:07:34 +0100 (CET)
Received: from mail-io1-f97.google.com (mail-io1-f97.google.com
 [209.85.166.97]) by mails.dpdk.org (Postfix) with ESMTP id 7D3DB402D8
 for <test-report@dpdk.org>; Thu, 28 Mar 2024 17:07:33 +0100 (CET)
Received: by mail-io1-f97.google.com with SMTP id
 ca18e2360f4ac-7cc77e74b5cso48004039f.2
 for <test-report@dpdk.org>; Thu, 28 Mar 2024 09:07:33 -0700 (PDT)
DKIM-Signature: v=1; a=rsa-sha256; c=relaxed/relaxed;
 d=iol.unh.edu; s=unh-iol; t=1711642053; x=1712246853; darn=dpdk.org;
 h=references:in-reply-to:cc:to:from:subject:message-id:date:from:to
 :cc:subject:date:message-id:reply-to;
 bh=SDeioUf83Dg9mYtu+Y9P4VrB86MNRUDOvSPbIT3F2xg=;
 b=cigW1l6y+kI6BXMm2hX1zdeouwj+PM6q8CXLVfFmEmXCAWxKSSQGcO5IqDK1cWHB8y
 p0Kld80NMmy7+ml/5WhKg3gFg8MJsejZ9Ozy0c9yJ+ab+8ReFZm0r1OPvq2vlP5zvoAy
 pWz300i9YYJS/ny/Rk4QhJaJCfkFhKYjpeO9w=
X-Google-DKIM-Signature: v=1; a=rsa-sha256; c=relaxed/relaxed;
 d=1e100.net; s=20230601; t=1711642053; x=1712246853;
 h=references:in-reply-to:cc:to:from:subject:message-id:date
 :x-gm-message-state:from:to:cc:subject:date:message-id:reply-to;
 bh=SDeioUf83Dg9mYtu+Y9P4VrB86MNRUDOvSPbIT3F2xg=;
 b=jky0/fHsXKDKQBJK/aaArijQwUSiOyvUdLXZp5NR/llNpx2CiP6ZrrMHyK/Z2AfJGJ
 9ASXeQexk+v0IbKgx63t24i7wiyBkwQW7pzvgY64pe1SqBmmh2No3A45ebQBwU6beVF4
 G9G+JeB53c64+oB3rC99E8bjs7LTz8cFhpFiUrYYxkGVQokDAX6jYOqe4yN+OCzyq+Jz
 3K7ltQC09w5Ppm8eQpcbGXU4p3pw5WHjxAwMHBWNMG/7xPkMhzOGBeWAZspdqfr+fw70
 BqoKa6Ljfcko1dT/oZ2YmhIMWfsiqSAs55kL52rcm0PT/CoJS8hvlwFcF8YAZYQK7kjo
 XjSg==
X-Gm-Message-State: AOJu0Ywd3yKK/PRveLW5XjkDwep92jwzGAmfQJ/GD/MUXQUQ04j8ahSU
 2xjOrnkP6mEpR++/YuQ4WHBAV5/sXXr2f/4HpikIA+RKKyxzJLa7VB+3RNRMV4GtZVSGKEJ3/zf
 OhzoEwey9ahjZu4h5NsZ8yOigsfCq9MonuNiw5nYE
X-Google-Smtp-Source: AGHT+IHPg/lFYQPQSoM4uGI0oncnIDTk0DeoZ52QxQj0//xchqDWl3lO143W2CPgRil/1bTgcutnAbJa5zXw
X-Received: by 2002:a6b:7a41:0:b0:7d0:7ee8:4580 with SMTP id
 k1-20020a6b7a41000000b007d07ee84580mr3472971iop.2.1711642052902; 
 Thu, 28 Mar 2024 09:07:32 -0700 (PDT)
Received: from postal.iol.unh.edu (postal.iol.unh.edu. [132.177.123.84])
 by smtp-relay.gmail.com with ESMTPS id
 m17-20020a5d8991000000b007c84aed4d00sm67045iol.31.2024.03.28.09.07.32
 (version=TLS1_2 cipher=ECDHE-ECDSA-AES128-GCM-SHA256 bits=128/128);
 Thu, 28 Mar 2024 09:07:32 -0700 (PDT)
X-Relaying-Domain: iol.unh.edu
Date: Thu, 28 Mar 2024 09:07:32 -0700 (PDT)
Message-ID: <660595c4.5d0a0220.e4edd.3d61SMTPIN_ADDED_MISSING@mx.google.com>
Received: from [172.21.0.6] (unknown [172.18.0.240])
 by postal.iol.unh.edu (Postfix) with ESMTP id 7F1326052471;
 Thu, 28 Mar 2024 12:07:32 -0400 (EDT)
Subject: |SUCCESS| pw138955-138956 [PATCH] [v2,4/4] net/virtio-user: fix cont
From: dpdklab@iol.unh.edu
To: Test Report <test-report@dpdk.org>
Cc: dpdk-test-reports@iol.unh.edu
In-Reply-To: <20240328130813.3696005-5-maxime.coquelin@redhat.com>
References: <20240328130813.3696005-5-maxime.coquelin@redhat.com>
Content-Type: text/plain
X-BeenThere: test-report@dpdk.org
X-Mailman-Version: 2.1.29
Precedence: list
List-Id: automatic DPDK test reports <test-report.dpdk.org>
List-Unsubscribe: <https://mails.dpdk.org/options/test-report>,
 <mailto:test-report-request@dpdk.org?subject=unsubscribe>
List-Archive: <http://mails.dpdk.org/archives/test-report/>
List-Post: <mailto:test-report@dpdk.org>
List-Help: <mailto:test-report-request@dpdk.org?subject=help>
List-Subscribe: <https://mails.dpdk.org/listinfo/test-report>,
 <mailto:test-report-request@dpdk.org?subject=subscribe>
Errors-To: test-report-bounces@dpdk.org

Test-Label: iol-abi-testing
Test-Status: SUCCESS
http://dpdk.org/patch/138956

_Testing PASS_

Submitter: Maxime Coquelin <maxime.coquelin@redhat.com>
Date: Thursday, March 28 2024 13:08:13 
DPDK git baseline: Repo:dpdk
  Branch: master
  CommitID:a9778aad62470a38ccbb4e09a2a6bf0cc2e0e36d

138955-138956 --> testing pass

Test environment and result as below:

+-----------------+----------+
|   Environment   | abi_test |
+=================+==========+
| CentOS Stream 8 | PASS     |
+-----------------+----------+
| Debian Bullseye | PASS     |
+-----------------+----------+
| Fedora 38       | PASS     |
+-----------------+----------+
| Debian 11 (arm) | PASS     |
+-----------------+----------+


CentOS Stream 8
	Kernel: 5.4.0-167-generic
	Compiler: gcc 8.5.0 20210514

Debian Bullseye
	Kernel: 5.4.0-167-generic
	Compiler: gcc 10.2.1-6

Fedora 38
	Kernel: Depends on container host
	Compiler: clang 16.0.6

Debian 11 (arm)
	Kernel: Container Host Kernel
	Compiler: gcc 10.2.1

To view detailed results, visit:
https://lab.dpdk.org/results/dashboard/patchsets/29674/

UNH-IOL DPDK Community Lab

To manage your email subscriptions, visit: 
https://lab.dpdk.org/results/dashboard/preferences/subscriptions/