From mboxrd@z Thu Jan  1 00:00:00 1970
Return-Path: <test-report-bounces@dpdk.org>
Received: from mails.dpdk.org (mails.dpdk.org [217.70.189.124])
	by inbox.dpdk.org (Postfix) with ESMTP id 23CA643D6D
	for <public@inbox.dpdk.org>; Thu, 28 Mar 2024 17:16:57 +0100 (CET)
Received: from mails.dpdk.org (localhost [127.0.0.1])
	by mails.dpdk.org (Postfix) with ESMTP id 1D76F41144;
	Thu, 28 Mar 2024 17:16:57 +0100 (CET)
Received: from mail-yb1-f228.google.com (mail-yb1-f228.google.com
 [209.85.219.228])
 by mails.dpdk.org (Postfix) with ESMTP id 751D7410FC
 for <test-report@dpdk.org>; Thu, 28 Mar 2024 17:16:55 +0100 (CET)
Received: by mail-yb1-f228.google.com with SMTP id
 3f1490d57ef6-dcbc6a6808fso1013526276.2
 for <test-report@dpdk.org>; Thu, 28 Mar 2024 09:16:55 -0700 (PDT)
DKIM-Signature: v=1; a=rsa-sha256; c=relaxed/relaxed;
 d=iol.unh.edu; s=unh-iol; t=1711642615; x=1712247415; darn=dpdk.org;
 h=references:in-reply-to:cc:to:from:subject:message-id:date:from:to
 :cc:subject:date:message-id:reply-to;
 bh=8rN+9zvg7CB7R2clQFgyJKlCVxFJKrZaaTL9YfV757Y=;
 b=HuaA1b3KIFzaTfBMe5sceJKLT+wPugdCvCFO+r3b7FJwSua452vnQE1DU35qiPVC/E
 LvWHD8cca8mu9ZObymPpxAoGMCYuYBcDClkABND6MNh5D0Gphr6d14wsMMCPtwYBLXuj
 AJuD0bZtOUwbDKohBSu4/0lvdoywUfMihEeVk=
X-Google-DKIM-Signature: v=1; a=rsa-sha256; c=relaxed/relaxed;
 d=1e100.net; s=20230601; t=1711642615; x=1712247415;
 h=references:in-reply-to:cc:to:from:subject:message-id:date
 :x-gm-message-state:from:to:cc:subject:date:message-id:reply-to;
 bh=8rN+9zvg7CB7R2clQFgyJKlCVxFJKrZaaTL9YfV757Y=;
 b=N8HT3yTnWrHRYNHj4HoH0Q6f64pvdSLy7tN0172JOX6AMXPwx+W9zRZ30+XoMgs78y
 UMe2mIUEXmsxJjwEHQmc9WOVgR60WBwGl0psH/Ji03cnHbDgi8CX4jlYIWJmEbBtP5v1
 IWutbe5unePEtucBWI6Dcei6WtP30ainEXyNZkqFTQUu8+8UCGudAwIznK+4kY7Bkzbv
 3R6IldIguJsXLdUvZLJSpjYTAe+LHzsStKjXG98RgM3hLeCCagUEi1dhNDYh9Wv8kXrx
 IfY+QKaGS0rmUhNkuyqJ+cZvgFutLMmIrAhQOOMoKM22FjBiDv2NxBdqtlHwi0zPKrSJ
 gmaQ==
X-Gm-Message-State: AOJu0YzZNj3o/SMRLF449P3mfyX78aWDPhfAZQQhX8ZSLZTU5Kw88eja
 4Y3j9lsnm4OHoRXMIJ6MpRTsTBCtwQq5lH9Ghp9MeY3ID8nw0/4bchYIKCXMzDOLAd9cN875Uam
 Fh4YcE1x+0Z1rSDpzk9Wr3j8wzdMUvH0CaxKoupJanT3+xb7oaJ6ZgufP
X-Google-Smtp-Source: AGHT+IHQ4sqxMMR7r9atYbVI313n5lEAu26MnuxiUSdvqHkTO5EZPPMbHR9uFsNKE8oyGcHSV4CxR+wYP759
X-Received: by 2002:a5b:80a:0:b0:dcf:afe3:11bf with SMTP id
 x10-20020a5b080a000000b00dcfafe311bfmr3519609ybp.0.1711642614776; 
 Thu, 28 Mar 2024 09:16:54 -0700 (PDT)
Received: from postal.iol.unh.edu (postal.iol.unh.edu.
 [2606:4100:3880:1234::84]) by smtp-relay.gmail.com with ESMTPS id
 p4-20020a056902114400b00dc24333b9e7sm27995ybu.33.2024.03.28.09.16.54
 (version=TLS1_2 cipher=ECDHE-ECDSA-AES128-GCM-SHA256 bits=128/128);
 Thu, 28 Mar 2024 09:16:54 -0700 (PDT)
X-Relaying-Domain: iol.unh.edu
Date: Thu, 28 Mar 2024 09:16:54 -0700 (PDT)
Message-ID: <660597f6.050a0220.900ec.1790SMTPIN_ADDED_MISSING@mx.google.com>
Received: from [172.21.0.7] (unknown [172.18.0.240])
 by postal.iol.unh.edu (Postfix) with ESMTP id 6948D6052471;
 Thu, 28 Mar 2024 12:16:54 -0400 (EDT)
Subject: |SUCCESS| pw138955-138956 [PATCH] [v2,4/4] net/virtio-user: fix cont
From: dpdklab@iol.unh.edu
To: Test Report <test-report@dpdk.org>
Cc: dpdk-test-reports@iol.unh.edu
In-Reply-To: <20240328130813.3696005-5-maxime.coquelin@redhat.com>
References: <20240328130813.3696005-5-maxime.coquelin@redhat.com>
Content-Type: text/plain
X-BeenThere: test-report@dpdk.org
X-Mailman-Version: 2.1.29
Precedence: list
List-Id: automatic DPDK test reports <test-report.dpdk.org>
List-Unsubscribe: <https://mails.dpdk.org/options/test-report>,
 <mailto:test-report-request@dpdk.org?subject=unsubscribe>
List-Archive: <http://mails.dpdk.org/archives/test-report/>
List-Post: <mailto:test-report@dpdk.org>
List-Help: <mailto:test-report-request@dpdk.org?subject=help>
List-Subscribe: <https://mails.dpdk.org/listinfo/test-report>,
 <mailto:test-report-request@dpdk.org?subject=subscribe>
Errors-To: test-report-bounces@dpdk.org

Test-Label: iol-abi-testing
Test-Status: SUCCESS
http://dpdk.org/patch/138956

_Testing PASS_

Submitter: Maxime Coquelin <maxime.coquelin@redhat.com>
Date: Thursday, March 28 2024 13:08:13 
DPDK git baseline: Repo:dpdk
  Branch: master
  CommitID:a9778aad62470a38ccbb4e09a2a6bf0cc2e0e36d

138955-138956 --> testing pass

Test environment and result as below:

+------------------+----------+
|   Environment    | abi_test |
+==================+==========+
| CentOS Stream 8  | PASS     |
+------------------+----------+
| Debian Bullseye  | PASS     |
+------------------+----------+
| Fedora 38        | PASS     |
+------------------+----------+
| Debian 11 (arm)  | PASS     |
+------------------+----------+
| RHEL8            | PASS     |
+------------------+----------+
| Fedora 37        | PASS     |
+------------------+----------+
| Ubuntu 22.04     | PASS     |
+------------------+----------+
| openSUSE Leap 15 | PASS     |
+------------------+----------+


CentOS Stream 8
	Kernel: 5.4.0-167-generic
	Compiler: gcc 8.5.0 20210514

Debian Bullseye
	Kernel: 5.4.0-167-generic
	Compiler: gcc 10.2.1-6

Fedora 38
	Kernel: Depends on container host
	Compiler: clang 16.0.6

Debian 11 (arm)
	Kernel: Container Host Kernel
	Compiler: gcc 10.2.1

RHEL8
	Kernel: 5.4.0-167-generic
	Compiler: gcc 8.5.0 20210514 (Red Hat 8.5.0-20)

Fedora 37
	Kernel: Depends on container host system
	Compiler: gcc 12.3.1

Ubuntu 22.04
	Kernel: 5.4.0-167-generic
	Compiler: gcc 11.4.0

openSUSE Leap 15
	Kernel: 5.4.0-167-generic
	Compiler: gcc 7.5.0

To view detailed results, visit:
https://lab.dpdk.org/results/dashboard/patchsets/29674/

UNH-IOL DPDK Community Lab

To manage your email subscriptions, visit: 
https://lab.dpdk.org/results/dashboard/preferences/subscriptions/