From mboxrd@z Thu Jan  1 00:00:00 1970
Return-Path: <test-report-bounces@dpdk.org>
Received: from mails.dpdk.org (mails.dpdk.org [217.70.189.124])
	by inbox.dpdk.org (Postfix) with ESMTP id C0D8C43D6D
	for <public@inbox.dpdk.org>; Thu, 28 Mar 2024 17:25:31 +0100 (CET)
Received: from mails.dpdk.org (localhost [127.0.0.1])
	by mails.dpdk.org (Postfix) with ESMTP id B913A402E7;
	Thu, 28 Mar 2024 17:25:31 +0100 (CET)
Received: from mail-yw1-f227.google.com (mail-yw1-f227.google.com
 [209.85.128.227])
 by mails.dpdk.org (Postfix) with ESMTP id E7D15402D8
 for <test-report@dpdk.org>; Thu, 28 Mar 2024 17:25:27 +0100 (CET)
Received: by mail-yw1-f227.google.com with SMTP id
 00721157ae682-60a5a11b59dso13468667b3.0
 for <test-report@dpdk.org>; Thu, 28 Mar 2024 09:25:27 -0700 (PDT)
DKIM-Signature: v=1; a=rsa-sha256; c=relaxed/relaxed;
 d=iol.unh.edu; s=unh-iol; t=1711643127; x=1712247927; darn=dpdk.org;
 h=references:in-reply-to:cc:to:from:subject:message-id:date:from:to
 :cc:subject:date:message-id:reply-to;
 bh=v/RDFa9FHGI7AKkEyPUypajBs1+V02PmrS+cckMHngc=;
 b=jnN+Y+xZ60TALMwC+svDfhm4k6qXHCbyr2SD1acOYzHnz6TZOaa/nU9gT/UObXCul/
 CTmNCVzWviYQLN5jQj5Et/ltp2ervG89rWfWLD9sKEcSF/iV5+GHZx11V2L4338pM75E
 3HBqYiwIXrh24TwOad/Bo39o225kY5xzfR7CI=
X-Google-DKIM-Signature: v=1; a=rsa-sha256; c=relaxed/relaxed;
 d=1e100.net; s=20230601; t=1711643127; x=1712247927;
 h=references:in-reply-to:cc:to:from:subject:message-id:date
 :x-gm-message-state:from:to:cc:subject:date:message-id:reply-to;
 bh=v/RDFa9FHGI7AKkEyPUypajBs1+V02PmrS+cckMHngc=;
 b=F5eFQxuLchlkbbzNbYthd0cqf0YtsNp/zLcOOC43BjwoHy1DmmR8ODBZ7hED8nJeAd
 xpPNd6pNa9YVjJR6ePD3rZNLVmbYUj+CQyY+HpGY+e2kQpDjf4U2z49t3cqRKuQ77HkS
 wDeSW6Cjds+6BN7qQfRYeOavjLYjMynjc5bqbER6k3M5MZtPyTPTEK4gJ95yuT9/Hu8B
 /IqPXVjggaJvLWI4TVnKNNdCpmO5AefzJ81PR8+YztvOAy8138yuOrACFMamyDr/JaxR
 vxK+y0Vzm4ay5OxAU6S0zmxvxBgBtth+kSkVvIOxTEH3GZhdCUxF1YRwFU40O7TdX6vo
 bBdQ==
X-Gm-Message-State: AOJu0YzG3D6VDqabMvdbnyZq3cs7fi4aUG5zJQEs0N7Wr/r91VNS/d59
 3RzF6oTSzmOahciU66LJIATGkTBr8vbbb/9hhXmr3fIss018qyDl6LGYVUzwt1GLnYodtEOho8N
 7YTCiQU8sHDUisLbHH8lHlxqQJbjacvnH59CQtBiSHb2qKmnILXsvq1CZ
X-Google-Smtp-Source: AGHT+IE1TOmt5tCax3ue1V6h6OhPAyN+p9Qfrqqj7IoeI9kIaaICo/N5jBdd5rRV35TumM0ACTstVoXOg+58
X-Received: by 2002:a0d:c4c6:0:b0:611:760a:1af3 with SMTP id
 g189-20020a0dc4c6000000b00611760a1af3mr3169844ywd.18.1711643127366; 
 Thu, 28 Mar 2024 09:25:27 -0700 (PDT)
Received: from postal.iol.unh.edu (postal.iol.unh.edu.
 [2606:4100:3880:1234::84]) by smtp-relay.gmail.com with ESMTPS id
 bc5-20020a05690c000500b00611180d7404sm57158ywb.64.2024.03.28.09.25.27
 (version=TLS1_2 cipher=ECDHE-ECDSA-AES128-GCM-SHA256 bits=128/128);
 Thu, 28 Mar 2024 09:25:27 -0700 (PDT)
X-Relaying-Domain: iol.unh.edu
Date: Thu, 28 Mar 2024 09:25:27 -0700 (PDT)
Message-ID: <660599f7.050a0220.9d464.3730SMTPIN_ADDED_MISSING@mx.google.com>
Received: from [172.21.0.7] (unknown [172.18.0.240])
 by postal.iol.unh.edu (Postfix) with ESMTP id 010E96052471;
 Thu, 28 Mar 2024 12:25:27 -0400 (EDT)
Subject: |SUCCESS| pw138955-138956 [PATCH] [v2,4/4] net/virtio-user: fix cont
From: dpdklab@iol.unh.edu
To: Test Report <test-report@dpdk.org>
Cc: dpdk-test-reports@iol.unh.edu
In-Reply-To: <20240328130813.3696005-5-maxime.coquelin@redhat.com>
References: <20240328130813.3696005-5-maxime.coquelin@redhat.com>
Content-Type: text/plain
X-BeenThere: test-report@dpdk.org
X-Mailman-Version: 2.1.29
Precedence: list
List-Id: automatic DPDK test reports <test-report.dpdk.org>
List-Unsubscribe: <https://mails.dpdk.org/options/test-report>,
 <mailto:test-report-request@dpdk.org?subject=unsubscribe>
List-Archive: <http://mails.dpdk.org/archives/test-report/>
List-Post: <mailto:test-report@dpdk.org>
List-Help: <mailto:test-report-request@dpdk.org?subject=help>
List-Subscribe: <https://mails.dpdk.org/listinfo/test-report>,
 <mailto:test-report-request@dpdk.org?subject=subscribe>
Errors-To: test-report-bounces@dpdk.org

Test-Label: iol-abi-testing
Test-Status: SUCCESS
http://dpdk.org/patch/138956

_Testing PASS_

Submitter: Maxime Coquelin <maxime.coquelin@redhat.com>
Date: Thursday, March 28 2024 13:08:13 
DPDK git baseline: Repo:dpdk
  Branch: master
  CommitID:a9778aad62470a38ccbb4e09a2a6bf0cc2e0e36d

138955-138956 --> testing pass

Test environment and result as below:

+------------------+----------+
|   Environment    | abi_test |
+==================+==========+
| CentOS Stream 8  | PASS     |
+------------------+----------+
| Debian Bullseye  | PASS     |
+------------------+----------+
| Fedora 38        | PASS     |
+------------------+----------+
| Debian 11 (arm)  | PASS     |
+------------------+----------+
| RHEL8            | PASS     |
+------------------+----------+
| Fedora 37        | PASS     |
+------------------+----------+
| Ubuntu 22.04     | PASS     |
+------------------+----------+
| openSUSE Leap 15 | PASS     |
+------------------+----------+
| Fedora 39        | PASS     |
+------------------+----------+
| CentOS Stream 9  | PASS     |
+------------------+----------+


CentOS Stream 8
	Kernel: 5.4.0-167-generic
	Compiler: gcc 8.5.0 20210514

Debian Bullseye
	Kernel: 5.4.0-167-generic
	Compiler: gcc 10.2.1-6

Fedora 38
	Kernel: Depends on container host
	Compiler: clang 16.0.6

Debian 11 (arm)
	Kernel: Container Host Kernel
	Compiler: gcc 10.2.1

RHEL8
	Kernel: 5.4.0-167-generic
	Compiler: gcc 8.5.0 20210514 (Red Hat 8.5.0-20)

Fedora 37
	Kernel: Depends on container host system
	Compiler: gcc 12.3.1

Ubuntu 22.04
	Kernel: 5.4.0-167-generic
	Compiler: gcc 11.4.0

openSUSE Leap 15
	Kernel: 5.4.0-167-generic
	Compiler: gcc 7.5.0

Fedora 39
	Kernel: Depends on container host
	Compiler: gcc 13.2.1

CentOS Stream 9
	Kernel: 5.4.0-167-generic
	Compiler: gcc 11.4.1 20230605

To view detailed results, visit:
https://lab.dpdk.org/results/dashboard/patchsets/29674/

UNH-IOL DPDK Community Lab

To manage your email subscriptions, visit: 
https://lab.dpdk.org/results/dashboard/preferences/subscriptions/