From mboxrd@z Thu Jan  1 00:00:00 1970
Return-Path: <test-report-bounces@dpdk.org>
Received: from mails.dpdk.org (mails.dpdk.org [217.70.189.124])
	by inbox.dpdk.org (Postfix) with ESMTP id 1D5EE43D6D
	for <public@inbox.dpdk.org>; Thu, 28 Mar 2024 17:31:35 +0100 (CET)
Received: from mails.dpdk.org (localhost [127.0.0.1])
	by mails.dpdk.org (Postfix) with ESMTP id 19920402E7;
	Thu, 28 Mar 2024 17:31:35 +0100 (CET)
Received: from mail-qt1-f226.google.com (mail-qt1-f226.google.com
 [209.85.160.226])
 by mails.dpdk.org (Postfix) with ESMTP id 4A04A402D8
 for <test-report@dpdk.org>; Thu, 28 Mar 2024 17:31:09 +0100 (CET)
Received: by mail-qt1-f226.google.com with SMTP id
 d75a77b69052e-432b72c706cso5079531cf.1
 for <test-report@dpdk.org>; Thu, 28 Mar 2024 09:31:09 -0700 (PDT)
DKIM-Signature: v=1; a=rsa-sha256; c=relaxed/relaxed;
 d=iol.unh.edu; s=unh-iol; t=1711643468; x=1712248268; darn=dpdk.org;
 h=references:in-reply-to:cc:to:from:subject:message-id:date:from:to
 :cc:subject:date:message-id:reply-to;
 bh=D6NUrsOqrtA0JhT5I8b+ZsJ9keyOKB/ZmBZcAgHMI0c=;
 b=jprKai9e/4Y9rPLjL0mWQnCw5Bt4c3uZFaaIOdAtAKpBn3KK1JuT0Ssdw9C2ZUUbOn
 Y/jWbU7p/MX2qkwp9sSSS+mLZwy/3loAJAJhZDg1e7BSa0QRhN0/jSrvTy41N/95V2XI
 dtGRC0Y66h4KrW3f3zriiixkgnFR2ZRK4FBlw=
X-Google-DKIM-Signature: v=1; a=rsa-sha256; c=relaxed/relaxed;
 d=1e100.net; s=20230601; t=1711643468; x=1712248268;
 h=references:in-reply-to:cc:to:from:subject:message-id:date
 :x-gm-message-state:from:to:cc:subject:date:message-id:reply-to;
 bh=D6NUrsOqrtA0JhT5I8b+ZsJ9keyOKB/ZmBZcAgHMI0c=;
 b=vn/7mkPSruSFBmMzcsOUw/R68q8M20yXZKKgu/iiexW2RRQ9WuGy4ZFrFg65YNVAj2
 luSjlxvMyV8NM9bqRtX/rHHkyLanUmhRVXW/fHjzlyNF0b4ihlTCTKHqTaompGMFdp+g
 THy0J84Qpt+FE17NoFj8sG1SvsGuXie6G4hW64WkNvjw8vlRO5CsEupGyG198DMjJYi4
 ck2ojtvv1qCf02RP6BtMrUWaj8N5C6tQQzHFgUO2tpyeeDeN8DEqjKCrJFf6kQiCA5Gg
 cnvBCiykJliF8av6zO8KSdfnz3KVNY34ebN/R5T6Q1vSk47CcizWSRh8jBePc4UiYWYm
 muNA==
X-Gm-Message-State: AOJu0Yy4ZDqLKPX83zatyDgd2fNi/vubbzr3jdV2YvxcnoGd1Xg7EOIj
 g6yhbV6aaZK6h3GKxa4P+GW650Bt0m1cqD9Vr0MF6yIJ0WZfM5MG6pVwH9Icu70fY0d2238B//6
 66rOqzXGxc6vGv0ZAMrcemk1SmVRCBShaZNGHQc9L
X-Google-Smtp-Source: AGHT+IG3uRqGdricnLpBhoLmra+hsqzbYH7hquCBEzG+41FPUJZNeM4B/UB5qGn+58SPpIIbFUZ4M/hPaK8t
X-Received: by 2002:ac8:584f:0:b0:431:61f9:a38b with SMTP id
 h15-20020ac8584f000000b0043161f9a38bmr4684032qth.33.1711643468712; 
 Thu, 28 Mar 2024 09:31:08 -0700 (PDT)
Received: from postal.iol.unh.edu (postal.iol.unh.edu. [132.177.123.84])
 by smtp-relay.gmail.com with ESMTPS id
 br7-20020a05622a1e0700b0042f517d13a5sm119295qtb.17.2024.03.28.09.31.08
 (version=TLS1_2 cipher=ECDHE-ECDSA-AES128-GCM-SHA256 bits=128/128);
 Thu, 28 Mar 2024 09:31:08 -0700 (PDT)
X-Relaying-Domain: iol.unh.edu
Date: Thu, 28 Mar 2024 09:31:08 -0700 (PDT)
Message-ID: <66059b4c.050a0220.7a145.79b1SMTPIN_ADDED_MISSING@mx.google.com>
Received: from [172.21.0.6] (unknown [172.18.0.240])
 by postal.iol.unh.edu (Postfix) with ESMTP id 66DDA6052471;
 Thu, 28 Mar 2024 12:31:08 -0400 (EDT)
Subject: |SUCCESS| pw138955-138956 [PATCH] [v2,4/4] net/virtio-user: fix cont
From: dpdklab@iol.unh.edu
To: Test Report <test-report@dpdk.org>
Cc: dpdk-test-reports@iol.unh.edu
In-Reply-To: <20240328130813.3696005-5-maxime.coquelin@redhat.com>
References: <20240328130813.3696005-5-maxime.coquelin@redhat.com>
Content-Type: text/plain
X-BeenThere: test-report@dpdk.org
X-Mailman-Version: 2.1.29
Precedence: list
List-Id: automatic DPDK test reports <test-report.dpdk.org>
List-Unsubscribe: <https://mails.dpdk.org/options/test-report>,
 <mailto:test-report-request@dpdk.org?subject=unsubscribe>
List-Archive: <http://mails.dpdk.org/archives/test-report/>
List-Post: <mailto:test-report@dpdk.org>
List-Help: <mailto:test-report-request@dpdk.org?subject=help>
List-Subscribe: <https://mails.dpdk.org/listinfo/test-report>,
 <mailto:test-report-request@dpdk.org?subject=subscribe>
Errors-To: test-report-bounces@dpdk.org

Test-Label: iol-compile-amd64-testing
Test-Status: SUCCESS
http://dpdk.org/patch/138956

_Testing PASS_

Submitter: Maxime Coquelin <maxime.coquelin@redhat.com>
Date: Thursday, March 28 2024 13:08:13 
DPDK git baseline: Repo:dpdk
  Branch: master
  CommitID:a9778aad62470a38ccbb4e09a2a6bf0cc2e0e36d

138955-138956 --> testing pass

Test environment and result as below:

+---------------------+-------------------+--------------------+----------------------+
|     Environment     | dpdk_msvc_compile | dpdk_meson_compile | dpdk_mingw64_compile |
+=====================+===================+====================+======================+
| Windows Server 2022 | PASS              | PASS               | PASS                 |
+---------------------+-------------------+--------------------+----------------------+
| FreeBSD 13.2        | SKIPPED           | PASS               | SKIPPED              |
+---------------------+-------------------+--------------------+----------------------+
| Windows Server 2019 | SKIPPED           | PASS               | PASS                 |
+---------------------+-------------------+--------------------+----------------------+
| CentOS Stream 9     | SKIPPED           | PASS               | SKIPPED              |
+---------------------+-------------------+--------------------+----------------------+
| Debian Bullseye     | SKIPPED           | PASS               | SKIPPED              |
+---------------------+-------------------+--------------------+----------------------+
| Debian 11 (arm)     | SKIPPED           | PASS               | SKIPPED              |
+---------------------+-------------------+--------------------+----------------------+
| Fedora 37           | SKIPPED           | PASS               | SKIPPED              |
+---------------------+-------------------+--------------------+----------------------+
| CentOS Stream 8     | SKIPPED           | PASS               | SKIPPED              |
+---------------------+-------------------+--------------------+----------------------+
| Fedora 38           | SKIPPED           | PASS               | SKIPPED              |
+---------------------+-------------------+--------------------+----------------------+
| Fedora 39           | SKIPPED           | PASS               | SKIPPED              |
+---------------------+-------------------+--------------------+----------------------+


Windows Server 2022
	Kernel: 10.0.20348.2031
	Compiler: clang 15.0.7, gcc 8.1.0 (MinGW), and MSVC VS 17.9

FreeBSD 13.2
	Kernel: 13.2
	Compiler: clang 14.0.5

Windows Server 2019
	Kernel: 10.0.17763
	Compiler: clang 14.0 and gcc 8.1.0 (MinGW)

CentOS Stream 9
	Kernel: 5.4.0-167-generic
	Compiler: gcc 11.4.1 20230605

Debian Bullseye
	Kernel: 5.4.0-167-generic
	Compiler: gcc 10.2.1-6

Debian 11 (arm)
	Kernel: Container Host Kernel
	Compiler: gcc 10.2.1

Fedora 37
	Kernel: Depends on container host system
	Compiler: gcc 12.3.1

CentOS Stream 8
	Kernel: 5.4.0-167-generic
	Compiler: gcc 8.5.0 20210514

Fedora 38
	Kernel: Depends on container host
	Compiler: gcc 13.2.1

Fedora 39
	Kernel: Depends on container host
	Compiler: gcc 13.2.1

To view detailed results, visit:
https://lab.dpdk.org/results/dashboard/patchsets/29674/

UNH-IOL DPDK Community Lab

To manage your email subscriptions, visit: 
https://lab.dpdk.org/results/dashboard/preferences/subscriptions/