From mboxrd@z Thu Jan  1 00:00:00 1970
Return-Path: <test-report-bounces@dpdk.org>
Received: from mails.dpdk.org (mails.dpdk.org [217.70.189.124])
	by inbox.dpdk.org (Postfix) with ESMTP id 8560443D6D
	for <public@inbox.dpdk.org>; Thu, 28 Mar 2024 17:59:22 +0100 (CET)
Received: from mails.dpdk.org (localhost [127.0.0.1])
	by mails.dpdk.org (Postfix) with ESMTP id 81632402E7;
	Thu, 28 Mar 2024 17:59:22 +0100 (CET)
Received: from mail-io1-f98.google.com (mail-io1-f98.google.com
 [209.85.166.98]) by mails.dpdk.org (Postfix) with ESMTP id 8CAD1402D8
 for <test-report@dpdk.org>; Thu, 28 Mar 2024 17:59:20 +0100 (CET)
Received: by mail-io1-f98.google.com with SMTP id
 ca18e2360f4ac-7c7ee7fa1d8so37919939f.1
 for <test-report@dpdk.org>; Thu, 28 Mar 2024 09:59:20 -0700 (PDT)
DKIM-Signature: v=1; a=rsa-sha256; c=relaxed/relaxed;
 d=iol.unh.edu; s=unh-iol; t=1711645160; x=1712249960; darn=dpdk.org;
 h=references:in-reply-to:cc:to:from:subject:message-id:date:from:to
 :cc:subject:date:message-id:reply-to;
 bh=a46G8uoRxnru5OKZJSBVLFmiXl3V4rCjF+7LqrBZRCs=;
 b=R2ePcYwJAzWB4h5K+DR2Lg5icXzswEZcscswhA5GWkPJ/hdKbikAYNCEw6OVD7sYnR
 RT07sAKxeRkTXn3okIWVqTz3TQsSbS0bhMiewRTiw/kLB2Xlv3RcJGrP5vf/svlW03Xu
 BJC9f1QRBOsEY9IQSeudgBtB820W0GuNFK8v0=
X-Google-DKIM-Signature: v=1; a=rsa-sha256; c=relaxed/relaxed;
 d=1e100.net; s=20230601; t=1711645160; x=1712249960;
 h=references:in-reply-to:cc:to:from:subject:message-id:date
 :x-gm-message-state:from:to:cc:subject:date:message-id:reply-to;
 bh=a46G8uoRxnru5OKZJSBVLFmiXl3V4rCjF+7LqrBZRCs=;
 b=Sph1JUafFGHrb/YjuouP0PaHAcv3rmcNDB8jotEg7QbBNRqRHyQY5JpBixGHSr62ND
 vtQlG3O1H5a28pXe0E6s1iuSJj1tCY9s2ZvZNWPx1tl7+pKElu3Q9hEi0DZ6J4H1tJng
 k32ECKLln6ieKZQi7jXF+NPYLZ76TdetZigxuWQqnyJuI+yBHY2qxoyFjwl/fYQ1KOvQ
 DQ9UfV1xIs5XFtQSoKzE/D/GfDpVUs+GLAY83Rr37eqiX05/jjRpuOEJ9p2PaIoFg325
 N3ExOS7G+uuLaD1aF9AHxtsrqIg7HanckffIf3K7sNF0unUpXfT7XIIXEUpvJfqCrFLa
 Tc1A==
X-Gm-Message-State: AOJu0YyBM7eYfSVxrRbUcHQPnTAB23wPUy/WT5KMJulr+2EbMzLdYT4O
 fXPYFepO2PeHwAMQyiopXdj/iR3YruXJDVMuo/sra+NaBE2Byb19/LEPzyTyRGbW/zWbn4jyelf
 HV7sjHy/SxKfBDWzaqEVt5dJEGZUlzgNVCQNeGkPE
X-Google-Smtp-Source: AGHT+IG+akiUCA8JIKFGZxAIeszyPgCP2L1eY8K8jzdpWsUeUJMRWBHwADYSenf7XEbHIWe2slhEdOzZeGo3
X-Received: by 2002:a92:dd05:0:b0:368:a85d:2060 with SMTP id
 n5-20020a92dd05000000b00368a85d2060mr3506883ilm.31.1711645160005; 
 Thu, 28 Mar 2024 09:59:20 -0700 (PDT)
Received: from postal.iol.unh.edu (postal.iol.unh.edu. [132.177.123.84])
 by smtp-relay.gmail.com with ESMTPS id
 s8-20020a056e02216800b0036894786b27sm77601ilv.4.2024.03.28.09.59.19
 (version=TLS1_2 cipher=ECDHE-ECDSA-AES128-GCM-SHA256 bits=128/128);
 Thu, 28 Mar 2024 09:59:19 -0700 (PDT)
X-Relaying-Domain: iol.unh.edu
Date: Thu, 28 Mar 2024 09:59:19 -0700 (PDT)
Message-ID: <6605a1e7.050a0220.3a538.5001SMTPIN_ADDED_MISSING@mx.google.com>
Received: from [172.21.0.6] (unknown [172.18.0.240])
 by postal.iol.unh.edu (Postfix) with ESMTP id 7AA116052471;
 Thu, 28 Mar 2024 12:59:19 -0400 (EDT)
Subject: |SUCCESS| pw138955-138956 [PATCH] [v2,4/4] net/virtio-user: fix cont
From: dpdklab@iol.unh.edu
To: Test Report <test-report@dpdk.org>
Cc: dpdk-test-reports@iol.unh.edu
In-Reply-To: <20240328130813.3696005-5-maxime.coquelin@redhat.com>
References: <20240328130813.3696005-5-maxime.coquelin@redhat.com>
Content-Type: text/plain
X-BeenThere: test-report@dpdk.org
X-Mailman-Version: 2.1.29
Precedence: list
List-Id: automatic DPDK test reports <test-report.dpdk.org>
List-Unsubscribe: <https://mails.dpdk.org/options/test-report>,
 <mailto:test-report-request@dpdk.org?subject=unsubscribe>
List-Archive: <http://mails.dpdk.org/archives/test-report/>
List-Post: <mailto:test-report@dpdk.org>
List-Help: <mailto:test-report-request@dpdk.org?subject=help>
List-Subscribe: <https://mails.dpdk.org/listinfo/test-report>,
 <mailto:test-report-request@dpdk.org?subject=subscribe>
Errors-To: test-report-bounces@dpdk.org

Test-Label: iol-compile-arm64-testing
Test-Status: SUCCESS
http://dpdk.org/patch/138956

_Testing PASS_

Submitter: Maxime Coquelin <maxime.coquelin@redhat.com>
Date: Thursday, March 28 2024 13:08:13 
DPDK git baseline: Repo:dpdk
  Branch: master
  CommitID:a9778aad62470a38ccbb4e09a2a6bf0cc2e0e36d

138955-138956 --> testing pass

Test environment and result as below:

+----------------------------------------+--------------------+
|              Environment               | dpdk_meson_compile |
+========================================+====================+
| Ubuntu 20.04 ARM SVE                   | PASS               |
+----------------------------------------+--------------------+
| Debian 12 with MUSDK                   | PASS               |
+----------------------------------------+--------------------+
| Ubuntu 20.04 ARM GCC Cross Compile     | PASS               |
+----------------------------------------+--------------------+
| Fedora 37 (ARM)                        | PASS               |
+----------------------------------------+--------------------+
| Fedora 38 (ARM)                        | PASS               |
+----------------------------------------+--------------------+
| CentOS Stream 9 (ARM)                  | PASS               |
+----------------------------------------+--------------------+
| Debian 11 (Buster) (ARM)               | PASS               |
+----------------------------------------+--------------------+
| Ubuntu 20.04 aarch32 GCC Cross Compile | PASS               |
+----------------------------------------+--------------------+
| Fedora 39 (ARM)                        | PASS               |
+----------------------------------------+--------------------+
| Ubuntu 20.04 (ARM)                     | PASS               |
+----------------------------------------+--------------------+


Ubuntu 20.04 ARM SVE
	Kernel: 5.4.0-167-generic
	Compiler: gcc (Ubuntu 10.5.0-1ubuntu1~20.04) 10.5.0

Debian 12 with MUSDK
	Kernel: Container Host Kernel
	Compiler: gcc 12.2.0

Ubuntu 20.04 ARM GCC Cross Compile
	Kernel: 5.4.0-167-generic
	Compiler: aarch64-linux-gnu-gcc (Ubuntu 9.4.0-1ubuntu1~20.04.2) 9.4.0

Fedora 37 (ARM)
	Kernel: Depends on container host
	Compiler: gcc 12.3.1

Fedora 38 (ARM)
	Kernel: Depends on container host
	Compiler: gcc 13.2.1

CentOS Stream 9 (ARM)
	Kernel: Container Host Kernel
	Compiler: gcc 11.4.1

Debian 11 (Buster) (ARM)
	Kernel: Container Host Kernel
	Compiler: gcc 10.2.1

Ubuntu 20.04 aarch32 GCC Cross Compile
	Kernel: 5.4.0-167-generic
	Compiler: gcc 9.4.0

Fedora 39 (ARM)
	Kernel: Depends on container host
	Compiler: gcc 13.2.1

Ubuntu 20.04 (ARM)
	Kernel: Container Host Kernel
	Compiler: gcc 9.4.0

To view detailed results, visit:
https://lab.dpdk.org/results/dashboard/patchsets/29674/

UNH-IOL DPDK Community Lab

To manage your email subscriptions, visit: 
https://lab.dpdk.org/results/dashboard/preferences/subscriptions/