From mboxrd@z Thu Jan  1 00:00:00 1970
Return-Path: <test-report-bounces@dpdk.org>
Received: from mails.dpdk.org (mails.dpdk.org [217.70.189.124])
	by inbox.dpdk.org (Postfix) with ESMTP id 6843C43D73
	for <public@inbox.dpdk.org>; Fri, 29 Mar 2024 01:57:49 +0100 (CET)
Received: from mails.dpdk.org (localhost [127.0.0.1])
	by mails.dpdk.org (Postfix) with ESMTP id 63F1640268;
	Fri, 29 Mar 2024 01:57:49 +0100 (CET)
Received: from mail-pf1-f226.google.com (mail-pf1-f226.google.com
 [209.85.210.226])
 by mails.dpdk.org (Postfix) with ESMTP id B6FB340042
 for <test-report@dpdk.org>; Fri, 29 Mar 2024 01:57:34 +0100 (CET)
Received: by mail-pf1-f226.google.com with SMTP id
 d2e1a72fcca58-6e6b5432439so1407669b3a.1
 for <test-report@dpdk.org>; Thu, 28 Mar 2024 17:57:34 -0700 (PDT)
DKIM-Signature: v=1; a=rsa-sha256; c=relaxed/relaxed;
 d=iol.unh.edu; s=unh-iol; t=1711673854; x=1712278654; darn=dpdk.org;
 h=references:in-reply-to:cc:to:from:subject:message-id:date:from:to
 :cc:subject:date:message-id:reply-to;
 bh=Zhj8w+77FNPJlsgVIKdr+sFQtI5DMjuVSWd6hLVGHlk=;
 b=SLoB4oAkYO2rDWpBeV4AeA90LbyEDf9KMgCpfdFdHJ4z4Ym2RnbqvDFmujLmP1dGh+
 71lvi7SCqlwCvND77IIVnxjMEXbIzwGJLojBkzioyHDVdYqqdBhpSiPwG8enqG125gYA
 0+EJdtZeUnJSiQ5fnwno7iK9Amr3ZHwsWW4h4=
X-Google-DKIM-Signature: v=1; a=rsa-sha256; c=relaxed/relaxed;
 d=1e100.net; s=20230601; t=1711673854; x=1712278654;
 h=references:in-reply-to:cc:to:from:subject:message-id:date
 :x-gm-message-state:from:to:cc:subject:date:message-id:reply-to;
 bh=Zhj8w+77FNPJlsgVIKdr+sFQtI5DMjuVSWd6hLVGHlk=;
 b=r5tyDVfkMCn5UzHxBUNbRpDZexCHPY1+7t1Hu6+rj/NOz08+zKX3M8tgYJT2V5o2Bd
 fKhFUz1RBV2Vd9jmgmEc5pGuu2gLQz6A8/X7Kujg+ySBOISJxD2oqro91jphE509S8Rp
 o8X1ZGVTxZA4qZbGgSEYB9Ak3gWZ1wjTR4wpMBEUmsqOWU9zxDNLhpRyDM2clPnpEthw
 FOgH6o8sRlmgVgDJE1+KcKda36gtJT3YNkhYsbY8Xjj6bbIZ9gxxduardVpXMTDtKV3B
 1AtcvSkhHgvcNxZv5fP0d2rlnP8C9xKHXZKACUg2helKjIbesG+wCb2MT2uqbRTzhuNP
 0zEQ==
X-Gm-Message-State: AOJu0YyERsCuz6c4UzUxiilkZisEoX6RrXzP2WSERyc2WP4faoAMA+j0
 QqS+NOPonmtgN//oLWknCyH5WxoqvCOzNBugaHHWGU7pVDpjxfC2yVsBbZv/Fp9H3vTVYdhAYwE
 ZTNwGR8vPkMoppylTAbCNsFxLCXsHRJGylDau5Dau
X-Google-Smtp-Source: AGHT+IFOpctvEE1BKNAK/Wqz5rfgVmTXVm0gP4v6nBhSSErwlimtrsxGGLBEMrmiXibWxWnEGs55plFJ8uPr
X-Received: by 2002:a05:6a20:d805:b0:1a3:bd8a:141f with SMTP id
 iv5-20020a056a20d80500b001a3bd8a141fmr979797pzb.54.1711673854039; 
 Thu, 28 Mar 2024 17:57:34 -0700 (PDT)
Received: from postal.iol.unh.edu (postal.iol.unh.edu. [132.177.123.84])
 by smtp-relay.gmail.com with ESMTPS id
 h6-20020a17090ac38600b002a1f7d257e7sm300643pjt.6.2024.03.28.17.57.33
 (version=TLS1_2 cipher=ECDHE-ECDSA-AES128-GCM-SHA256 bits=128/128);
 Thu, 28 Mar 2024 17:57:34 -0700 (PDT)
X-Relaying-Domain: iol.unh.edu
Date: Thu, 28 Mar 2024 17:57:34 -0700 (PDT)
Message-ID: <660611fe.170a0220.b4016.df03SMTPIN_ADDED_MISSING@mx.google.com>
Received: from [172.21.0.7] (unknown [172.18.0.240])
 by postal.iol.unh.edu (Postfix) with ESMTP id 3C9696052471;
 Thu, 28 Mar 2024 20:57:33 -0400 (EDT)
Subject: |SUCCESS| pw138962-138963 [PATCH] [v2,2/2] net: stop using mmx intri
From: dpdklab@iol.unh.edu
To: Test Report <test-report@dpdk.org>
Cc: dpdk-test-reports@iol.unh.edu
In-Reply-To: <1711642446-6880-3-git-send-email-roretzla@linux.microsoft.com>
References: <1711642446-6880-3-git-send-email-roretzla@linux.microsoft.com>
Content-Type: text/plain
X-BeenThere: test-report@dpdk.org
X-Mailman-Version: 2.1.29
Precedence: list
List-Id: automatic DPDK test reports <test-report.dpdk.org>
List-Unsubscribe: <https://mails.dpdk.org/options/test-report>,
 <mailto:test-report-request@dpdk.org?subject=unsubscribe>
List-Archive: <http://mails.dpdk.org/archives/test-report/>
List-Post: <mailto:test-report@dpdk.org>
List-Help: <mailto:test-report-request@dpdk.org?subject=help>
List-Subscribe: <https://mails.dpdk.org/listinfo/test-report>,
 <mailto:test-report-request@dpdk.org?subject=subscribe>
Errors-To: test-report-bounces@dpdk.org

Test-Label: iol-compile-amd64-testing
Test-Status: SUCCESS
http://dpdk.org/patch/138963

_Testing PASS_

Submitter: Tyler Retzlaff <roretzla@linux.microsoft.com>
Date: Thursday, March 28 2024 16:14:06 
DPDK git baseline: Repo:dpdk
  Branch: master
  CommitID:a9778aad62470a38ccbb4e09a2a6bf0cc2e0e36d

138962-138963 --> testing pass

Test environment and result as below:

+---------------------+--------------------+----------------------+-------------------+
|     Environment     | dpdk_meson_compile | dpdk_mingw64_compile | dpdk_msvc_compile |
+=====================+====================+======================+===================+
| FreeBSD 13.2        | PASS               | SKIPPED              | SKIPPED           |
+---------------------+--------------------+----------------------+-------------------+
| Windows Server 2019 | PASS               | PASS                 | SKIPPED           |
+---------------------+--------------------+----------------------+-------------------+
| Windows Server 2022 | PASS               | PASS                 | PASS              |
+---------------------+--------------------+----------------------+-------------------+


FreeBSD 13.2
	Kernel: 13.2
	Compiler: clang 14.0.5

Windows Server 2019
	Kernel: 10.0.17763
	Compiler: clang 14.0 and gcc 8.1.0 (MinGW)

Windows Server 2022
	Kernel: 10.0.20348.2031
	Compiler: clang 15.0.7, gcc 8.1.0 (MinGW), and MSVC VS 17.9

To view detailed results, visit:
https://lab.dpdk.org/results/dashboard/patchsets/29680/

UNH-IOL DPDK Community Lab

To manage your email subscriptions, visit: 
https://lab.dpdk.org/results/dashboard/preferences/subscriptions/