From mboxrd@z Thu Jan  1 00:00:00 1970
Return-Path: <test-report-bounces@dpdk.org>
Received: from mails.dpdk.org (mails.dpdk.org [217.70.189.124])
	by inbox.dpdk.org (Postfix) with ESMTP id BDE6A43D74
	for <public@inbox.dpdk.org>; Fri, 29 Mar 2024 02:13:40 +0100 (CET)
Received: from mails.dpdk.org (localhost [127.0.0.1])
	by mails.dpdk.org (Postfix) with ESMTP id B3CB740268;
	Fri, 29 Mar 2024 02:13:40 +0100 (CET)
Received: from mail-yb1-f225.google.com (mail-yb1-f225.google.com
 [209.85.219.225])
 by mails.dpdk.org (Postfix) with ESMTP id 598C940042
 for <test-report@dpdk.org>; Fri, 29 Mar 2024 02:13:39 +0100 (CET)
Received: by mail-yb1-f225.google.com with SMTP id
 3f1490d57ef6-dcc71031680so1565804276.2
 for <test-report@dpdk.org>; Thu, 28 Mar 2024 18:13:39 -0700 (PDT)
DKIM-Signature: v=1; a=rsa-sha256; c=relaxed/relaxed;
 d=iol.unh.edu; s=unh-iol; t=1711674819; x=1712279619; darn=dpdk.org;
 h=references:in-reply-to:cc:to:from:subject:message-id:date:from:to
 :cc:subject:date:message-id:reply-to;
 bh=FRfH1g8/DcoP8pqtEHZkxDRC3xbfY9PB/tJ4V+EzWUE=;
 b=DTYC13GI0LZ1Aaqi/CCxOY5d4Ab3SFKv9t41SjToHnF0rtgbG37VOB1cCIawc48b7T
 KS59r3yS2dJfYk9hmLHnxCHd6mgMg6Lq0+4H/BypqgwoybN/n52T8c2RvbA2XfeJoNpG
 glqrc/YsiEeNikXsmnn/rpnFTMSj++n+TdV2Q=
X-Google-DKIM-Signature: v=1; a=rsa-sha256; c=relaxed/relaxed;
 d=1e100.net; s=20230601; t=1711674819; x=1712279619;
 h=references:in-reply-to:cc:to:from:subject:message-id:date
 :x-gm-message-state:from:to:cc:subject:date:message-id:reply-to;
 bh=FRfH1g8/DcoP8pqtEHZkxDRC3xbfY9PB/tJ4V+EzWUE=;
 b=xTNskGiys2yd9TbE0Z/Vroitc5rhC3GEHdIwJtY/GqRtYk6ZFSwLja9lgLVKo3UGUr
 yYenBc0ziEgPAdDYwMEDhW/971+52S8mSKlND0HPfqmVoRmXVQg3TP7BDO8UiK4WzlQh
 f7B9MnF+W2RFV9PHwiOY3a55VjCW2/7zC9juJWzBGlLL0XNvvoE/OfbvleTFPJ/qkbgP
 bvRC2csUFyKCmqDnd4QBrb6zVMRzEPhQlpQRJXDjupoOGZhM0DjD0Y4QAHelC9GPTxRI
 yTxtfWXX1AnyvFmL0NLLLkSXyJGfcxxjD9Cpre4gR4ilzwAQRmnaaIKuYwFXe7TDBtyT
 mftA==
X-Gm-Message-State: AOJu0YyUTVT/5tjsH9Zvl1IuCNGmDrkB0zqXbl4K40428wugBh00ls0m
 XGuO7/0xB5Yk7Ny/6jFjgTxLNwLoE43ZQfVWJWeme9rytULexLW61tjnWwiUpNh2x1Bu39fxyVW
 b3Cff+4SA1kSTLR6MqkBO8wsaSpvmiouC7MmzUPf2gGgLWDAiRVoL71X6
X-Google-Smtp-Source: AGHT+IH4fQB094bqvoQBcVgjzmJPsgQmG+BNujbTKpAiw6lgG1Iu/o49h6x0DlpJpnkVYiCLWgzsb5E/XFMV
X-Received: by 2002:a25:5f4e:0:b0:dcf:c086:dd43 with SMTP id
 h14-20020a255f4e000000b00dcfc086dd43mr1008348ybm.14.1711674818795; 
 Thu, 28 Mar 2024 18:13:38 -0700 (PDT)
Received: from postal.iol.unh.edu (postal.iol.unh.edu.
 [2606:4100:3880:1234::84]) by smtp-relay.gmail.com with ESMTPS id
 t13-20020ad45bcd000000b0068ce579c96fsm137949qvt.54.2024.03.28.18.13.38
 (version=TLS1_2 cipher=ECDHE-ECDSA-AES128-GCM-SHA256 bits=128/128);
 Thu, 28 Mar 2024 18:13:38 -0700 (PDT)
X-Relaying-Domain: iol.unh.edu
Date: Thu, 28 Mar 2024 18:13:38 -0700 (PDT)
Message-ID: <660615c2.d40a0220.cb374.918cSMTPIN_ADDED_MISSING@mx.google.com>
Received: from [172.21.0.6] (unknown [172.18.0.240])
 by postal.iol.unh.edu (Postfix) with ESMTP id 78FBD6052471;
 Thu, 28 Mar 2024 21:13:38 -0400 (EDT)
Subject: |SUCCESS| pw138965 [PATCH] vhost: optimize mbuf allocation in virtio
From: dpdklab@iol.unh.edu
To: Test Report <test-report@dpdk.org>
Cc: dpdk-test-reports@iol.unh.edu
In-Reply-To: <20240328233338.56544-1-rdna@apple.com>
References: <20240328233338.56544-1-rdna@apple.com>
Content-Type: text/plain
X-BeenThere: test-report@dpdk.org
X-Mailman-Version: 2.1.29
Precedence: list
List-Id: automatic DPDK test reports <test-report.dpdk.org>
List-Unsubscribe: <https://mails.dpdk.org/options/test-report>,
 <mailto:test-report-request@dpdk.org?subject=unsubscribe>
List-Archive: <http://mails.dpdk.org/archives/test-report/>
List-Post: <mailto:test-report@dpdk.org>
List-Help: <mailto:test-report-request@dpdk.org?subject=help>
List-Subscribe: <https://mails.dpdk.org/listinfo/test-report>,
 <mailto:test-report-request@dpdk.org?subject=subscribe>
Errors-To: test-report-bounces@dpdk.org

Test-Label: iol-compile-arm64-testing
Test-Status: SUCCESS
http://dpdk.org/patch/138965

_Testing PASS_

Submitter: Andrey Ignatov <rdna@apple.com>
Date: Thursday, March 28 2024 23:33:38 
DPDK git baseline: Repo:dpdk
  Branch: master
  CommitID:deedfb86a7a6e10064d3cccd593f62072de96e36

138965 --> testing pass

Test environment and result as below:

+----------------------------------------+--------------------+
|              Environment               | dpdk_meson_compile |
+========================================+====================+
| Ubuntu 20.04 ARM SVE                   | PASS               |
+----------------------------------------+--------------------+
| Ubuntu 20.04 (ARM)                     | PASS               |
+----------------------------------------+--------------------+
| Debian 12 with MUSDK                   | PASS               |
+----------------------------------------+--------------------+
| Debian 12 (arm)                        | PASS               |
+----------------------------------------+--------------------+
| Ubuntu 20.04 aarch32 GCC Cross Compile | PASS               |
+----------------------------------------+--------------------+
| Debian 11 (Buster) (ARM)               | PASS               |
+----------------------------------------+--------------------+
| Fedora 37 (ARM)                        | PASS               |
+----------------------------------------+--------------------+


Ubuntu 20.04 ARM SVE
	Kernel: 5.4.0-167-generic
	Compiler: gcc (Ubuntu 10.5.0-1ubuntu1~20.04) 10.5.0

Ubuntu 20.04 (ARM)
	Kernel: Container Host Kernel
	Compiler: gcc 9.4.0

Debian 12 with MUSDK
	Kernel: Container Host Kernel
	Compiler: gcc 12.2.0

Debian 12 (arm)
	Kernel: Container Host Kernel
	Compiler: gcc 12.2.0

Ubuntu 20.04 aarch32 GCC Cross Compile
	Kernel: 5.4.0-167-generic
	Compiler: gcc 9.4.0

Debian 11 (Buster) (ARM)
	Kernel: Container Host Kernel
	Compiler: gcc 10.2.1

Fedora 37 (ARM)
	Kernel: Depends on container host
	Compiler: gcc 12.3.1

To view detailed results, visit:
https://lab.dpdk.org/results/dashboard/patchsets/29681/

UNH-IOL DPDK Community Lab

To manage your email subscriptions, visit: 
https://lab.dpdk.org/results/dashboard/preferences/subscriptions/