From mboxrd@z Thu Jan  1 00:00:00 1970
Return-Path: <test-report-bounces@dpdk.org>
Received: from mails.dpdk.org (mails.dpdk.org [217.70.189.124])
	by inbox.dpdk.org (Postfix) with ESMTP id 794E743D74
	for <public@inbox.dpdk.org>; Fri, 29 Mar 2024 02:58:40 +0100 (CET)
Received: from mails.dpdk.org (localhost [127.0.0.1])
	by mails.dpdk.org (Postfix) with ESMTP id 60DB840268;
	Fri, 29 Mar 2024 02:58:40 +0100 (CET)
Received: from mail-qt1-f225.google.com (mail-qt1-f225.google.com
 [209.85.160.225])
 by mails.dpdk.org (Postfix) with ESMTP id 56EC340042
 for <test-report@dpdk.org>; Fri, 29 Mar 2024 02:58:39 +0100 (CET)
Received: by mail-qt1-f225.google.com with SMTP id
 d75a77b69052e-430c41f3f89so14682441cf.0
 for <test-report@dpdk.org>; Thu, 28 Mar 2024 18:58:39 -0700 (PDT)
DKIM-Signature: v=1; a=rsa-sha256; c=relaxed/relaxed;
 d=iol.unh.edu; s=unh-iol; t=1711677518; x=1712282318; darn=dpdk.org;
 h=references:in-reply-to:cc:to:from:subject:message-id:date:from:to
 :cc:subject:date:message-id:reply-to;
 bh=bT89YxommhXIDLOQ50r0zWQ9L/OLOqlYAYDskqdrVvg=;
 b=aNkS4E4BMkK/xRauneyJ/g/bwEV4cmBoZxPFXi5LTDNZIvkyP/yysN8xg9Vuri/qYs
 mY4fU6gpZ925G5xvnimgiYTHnElhIq69Jtpn5Z2RSYPkX9h8HHKF0Nuu9i0hv6b3Qtjg
 CglMmpxss9EP11gRTGPCURIxctgg9/PwNp9IQ=
X-Google-DKIM-Signature: v=1; a=rsa-sha256; c=relaxed/relaxed;
 d=1e100.net; s=20230601; t=1711677519; x=1712282319;
 h=references:in-reply-to:cc:to:from:subject:message-id:date
 :x-gm-message-state:from:to:cc:subject:date:message-id:reply-to;
 bh=bT89YxommhXIDLOQ50r0zWQ9L/OLOqlYAYDskqdrVvg=;
 b=O6NMVBL7zzEG+GBqrYQjlFCo7QECsAkroBv0XbRE81SHFQBtNCHbDz5Flx7AHpOGsO
 a/SoDICM90Cz22OfWGIlaiV9STB8tA1yw0tKH3q8VqqUBDvYo4BtF9zGW9OY08R+jsve
 0I3tE5x1AC0rswFmKw4o3XvOMkWlPyo3L0L+tYP8RVcWOFDYp8UA8rA8kDk60fPu2NbM
 Qnk6g3VVxGKmbGVVKlQmoSgRRzA/gHP1TQYzJPDvTrgXL2zG1jffOpiyh5qDqR1uEkwJ
 2a5fqXCVhrrxqyfEF3i/3/FUPxVtTxKmEKwhAn2Px3s0D5ssTcM0AhWPxcdcVDOYeLO2
 Begw==
X-Gm-Message-State: AOJu0YxB6vCAUz7NvfueMN7cF/ZY7zcl2DYzxKswoql1KXmnmuTZesnB
 QkbiiNxIrokT04nNClzaTKzRB+qBP0bXqd0IF9LHNPZ/G4yIUI5ernJPjfuBrAOPTvXkM3Kmwun
 TxBB4Lb57TCNXJhD9kBdoLbqJyhoHL+dLYcNmN9D6hM7H7Mx9AUqxN2Te
X-Google-Smtp-Source: AGHT+IHi+xVIVZr+345sqawZFDGbH6ls3ZcGtdCp8JLXoXq/GolTssbTEwW3EfEoPE73wZQ4TkOjDEVpMSnf
X-Received: by 2002:a05:622a:138b:b0:430:afdd:30d0 with SMTP id
 o11-20020a05622a138b00b00430afdd30d0mr6928227qtk.9.1711677518783; 
 Thu, 28 Mar 2024 18:58:38 -0700 (PDT)
Received: from postal.iol.unh.edu (postal.iol.unh.edu.
 [2606:4100:3880:1234::84]) by smtp-relay.gmail.com with ESMTPS id
 ec9-20020a05622a5b8900b00430d8e36096sm203216qtb.6.2024.03.28.18.58.38
 (version=TLS1_2 cipher=ECDHE-ECDSA-AES128-GCM-SHA256 bits=128/128);
 Thu, 28 Mar 2024 18:58:38 -0700 (PDT)
X-Relaying-Domain: iol.unh.edu
Date: Thu, 28 Mar 2024 18:58:38 -0700 (PDT)
Message-ID: <6606204e.050a0220.8a76f.c678SMTPIN_ADDED_MISSING@mx.google.com>
Received: from [172.21.0.6] (unknown [172.18.0.240])
 by postal.iol.unh.edu (Postfix) with ESMTP id 7D48A6052471;
 Thu, 28 Mar 2024 21:58:38 -0400 (EDT)
Subject: |SUCCESS| pw138962-138963 [PATCH] [v2,2/2] net: stop using mmx intri
From: dpdklab@iol.unh.edu
To: Test Report <test-report@dpdk.org>
Cc: dpdk-test-reports@iol.unh.edu
In-Reply-To: <1711642446-6880-3-git-send-email-roretzla@linux.microsoft.com>
References: <1711642446-6880-3-git-send-email-roretzla@linux.microsoft.com>
Content-Type: text/plain
X-BeenThere: test-report@dpdk.org
X-Mailman-Version: 2.1.29
Precedence: list
List-Id: automatic DPDK test reports <test-report.dpdk.org>
List-Unsubscribe: <https://mails.dpdk.org/options/test-report>,
 <mailto:test-report-request@dpdk.org?subject=unsubscribe>
List-Archive: <http://mails.dpdk.org/archives/test-report/>
List-Post: <mailto:test-report@dpdk.org>
List-Help: <mailto:test-report-request@dpdk.org?subject=help>
List-Subscribe: <https://mails.dpdk.org/listinfo/test-report>,
 <mailto:test-report-request@dpdk.org?subject=subscribe>
Errors-To: test-report-bounces@dpdk.org

Test-Label: iol-compile-amd64-testing
Test-Status: SUCCESS
http://dpdk.org/patch/138963

_Testing PASS_

Submitter: Tyler Retzlaff <roretzla@linux.microsoft.com>
Date: Thursday, March 28 2024 16:14:06 
DPDK git baseline: Repo:dpdk
  Branch: master
  CommitID:a9778aad62470a38ccbb4e09a2a6bf0cc2e0e36d

138962-138963 --> testing pass

Test environment and result as below:

+---------------------+--------------------+----------------------+-------------------+
|     Environment     | dpdk_meson_compile | dpdk_mingw64_compile | dpdk_msvc_compile |
+=====================+====================+======================+===================+
| FreeBSD 13.2        | PASS               | SKIPPED              | SKIPPED           |
+---------------------+--------------------+----------------------+-------------------+
| Windows Server 2019 | PASS               | PASS                 | SKIPPED           |
+---------------------+--------------------+----------------------+-------------------+
| Windows Server 2022 | PASS               | PASS                 | PASS              |
+---------------------+--------------------+----------------------+-------------------+
| CentOS Stream 8     | PASS               | SKIPPED              | SKIPPED           |
+---------------------+--------------------+----------------------+-------------------+


FreeBSD 13.2
	Kernel: 13.2
	Compiler: clang 14.0.5

Windows Server 2019
	Kernel: 10.0.17763
	Compiler: clang 14.0 and gcc 8.1.0 (MinGW)

Windows Server 2022
	Kernel: 10.0.20348.2031
	Compiler: clang 15.0.7, gcc 8.1.0 (MinGW), and MSVC VS 17.9

CentOS Stream 8
	Kernel: 5.4.0-167-generic
	Compiler: gcc 8.5.0 20210514

To view detailed results, visit:
https://lab.dpdk.org/results/dashboard/patchsets/29680/

UNH-IOL DPDK Community Lab

To manage your email subscriptions, visit: 
https://lab.dpdk.org/results/dashboard/preferences/subscriptions/