From mboxrd@z Thu Jan  1 00:00:00 1970
Return-Path: <test-report-bounces@dpdk.org>
Received: from mails.dpdk.org (mails.dpdk.org [217.70.189.124])
	by inbox.dpdk.org (Postfix) with ESMTP id DBA8D43D74
	for <public@inbox.dpdk.org>; Fri, 29 Mar 2024 03:18:54 +0100 (CET)
Received: from mails.dpdk.org (localhost [127.0.0.1])
	by mails.dpdk.org (Postfix) with ESMTP id D801440268;
	Fri, 29 Mar 2024 03:18:54 +0100 (CET)
Received: from mail-qt1-f228.google.com (mail-qt1-f228.google.com
 [209.85.160.228])
 by mails.dpdk.org (Postfix) with ESMTP id 2C6A140042
 for <test-report@dpdk.org>; Fri, 29 Mar 2024 03:18:53 +0100 (CET)
Received: by mail-qt1-f228.google.com with SMTP id
 d75a77b69052e-432b72c706cso9649861cf.1
 for <test-report@dpdk.org>; Thu, 28 Mar 2024 19:18:53 -0700 (PDT)
DKIM-Signature: v=1; a=rsa-sha256; c=relaxed/relaxed;
 d=iol.unh.edu; s=unh-iol; t=1711678732; x=1712283532; darn=dpdk.org;
 h=references:in-reply-to:cc:to:from:subject:message-id:date:from:to
 :cc:subject:date:message-id:reply-to;
 bh=4/M/E6Kg1HSWfMb1P59sVGvpwGlLK4PtIPLFHWAsquQ=;
 b=WlkOJ9B38eKyltj6f2RxQmiiqsalf2/5WkMbGEoZbYkOozXp8NPS6uPkSnzMJGgqQW
 sRmBlG+aynpisvC4sqNzAFz+JTZBlbDtdr2IqQKK5Jmk+7+Yp2I/AatTguznNoD9Nu+a
 o6wZDukokuG0SVCc5r3JS6LFPAiTMd5Zq1QK4=
X-Google-DKIM-Signature: v=1; a=rsa-sha256; c=relaxed/relaxed;
 d=1e100.net; s=20230601; t=1711678732; x=1712283532;
 h=references:in-reply-to:cc:to:from:subject:message-id:date
 :x-gm-message-state:from:to:cc:subject:date:message-id:reply-to;
 bh=4/M/E6Kg1HSWfMb1P59sVGvpwGlLK4PtIPLFHWAsquQ=;
 b=KIFWZIooIQJYMK1xD0jbZzTTTlG74UE5Bn5MD4XLldxmSg1NiahuigxK8zQoMqlAHY
 qe3M1uigDNFOSqaZ+ZRnhaMxFYFQ8T0PJDk5tKX0QHtY/1JYQa3nVHqQOQ7xjMxpWDfy
 g0d8oTkJRt+Nrq4zlW8tcIX2Z3EyG06el3fWPJ1H2BPd59Q+0DBf2qrcKayh6eYSWeaX
 +SrnlDoSn5UXQbztOFlUgpsYNu7hfyxsGke+T46rBuDf/v8v0vhcMQCJUCH8+BctruCP
 Jw6l3eD2KMqUqMGBMgYCyNKeJDUR93VVuaAOYLNVtx/P9YBowqk0wNydcdJ2O5GfzdJ4
 8+uA==
X-Gm-Message-State: AOJu0Yz/Bp+57zb4unbE+QAUngOVlpkRRILzFLHOSBb6BJWN2zhNIwyI
 J/cisGTeYj/Fbr/2rc84A1ZofbUovZPi6NWGWXsRL3m3bQ2qg85KfBpnP16cVr2to2K2DdMHJn7
 /+anstY9V3J8YqpCqmhSSWgHA3XvU5IXlJ2WiYu1w
X-Google-Smtp-Source: AGHT+IHDFwy8CoDFImM3v/uM6jscZ52AY9myomKs//GUBoviCbdu7fZtgranAmAdvn9dye/dRHrsHkh33UlH
X-Received: by 2002:a05:622a:5b8c:b0:432:b2f8:d244 with SMTP id
 ec12-20020a05622a5b8c00b00432b2f8d244mr6134374qtb.5.1711678732643; 
 Thu, 28 Mar 2024 19:18:52 -0700 (PDT)
Received: from postal.iol.unh.edu (postal.iol.unh.edu. [132.177.123.84])
 by smtp-relay.gmail.com with ESMTPS id
 hb14-20020a05622a2b4e00b00432b58232a4sm173423qtb.16.2024.03.28.19.18.52
 (version=TLS1_2 cipher=ECDHE-ECDSA-AES128-GCM-SHA256 bits=128/128);
 Thu, 28 Mar 2024 19:18:52 -0700 (PDT)
X-Relaying-Domain: iol.unh.edu
Date: Thu, 28 Mar 2024 19:18:52 -0700 (PDT)
Message-ID: <6606250c.050a0220.5fa7d.b6eaSMTPIN_ADDED_MISSING@mx.google.com>
Received: from [172.21.0.6] (unknown [172.18.0.240])
 by postal.iol.unh.edu (Postfix) with ESMTP id 58A526052471;
 Thu, 28 Mar 2024 22:18:52 -0400 (EDT)
Subject: |SUCCESS| pw138962-138963 [PATCH] [v2,2/2] net: stop using mmx intri
From: dpdklab@iol.unh.edu
To: Test Report <test-report@dpdk.org>
Cc: dpdk-test-reports@iol.unh.edu
In-Reply-To: <1711642446-6880-3-git-send-email-roretzla@linux.microsoft.com>
References: <1711642446-6880-3-git-send-email-roretzla@linux.microsoft.com>
Content-Type: text/plain
X-BeenThere: test-report@dpdk.org
X-Mailman-Version: 2.1.29
Precedence: list
List-Id: automatic DPDK test reports <test-report.dpdk.org>
List-Unsubscribe: <https://mails.dpdk.org/options/test-report>,
 <mailto:test-report-request@dpdk.org?subject=unsubscribe>
List-Archive: <http://mails.dpdk.org/archives/test-report/>
List-Post: <mailto:test-report@dpdk.org>
List-Help: <mailto:test-report-request@dpdk.org?subject=help>
List-Subscribe: <https://mails.dpdk.org/listinfo/test-report>,
 <mailto:test-report-request@dpdk.org?subject=subscribe>
Errors-To: test-report-bounces@dpdk.org

Test-Label: iol-compile-amd64-testing
Test-Status: SUCCESS
http://dpdk.org/patch/138963

_Testing PASS_

Submitter: Tyler Retzlaff <roretzla@linux.microsoft.com>
Date: Thursday, March 28 2024 16:14:06 
DPDK git baseline: Repo:dpdk
  Branch: master
  CommitID:a9778aad62470a38ccbb4e09a2a6bf0cc2e0e36d

138962-138963 --> testing pass

Test environment and result as below:

+---------------------+--------------------+----------------------+-------------------+
|     Environment     | dpdk_meson_compile | dpdk_mingw64_compile | dpdk_msvc_compile |
+=====================+====================+======================+===================+
| FreeBSD 13.2        | PASS               | SKIPPED              | SKIPPED           |
+---------------------+--------------------+----------------------+-------------------+
| Windows Server 2019 | PASS               | PASS                 | SKIPPED           |
+---------------------+--------------------+----------------------+-------------------+
| Windows Server 2022 | PASS               | PASS                 | PASS              |
+---------------------+--------------------+----------------------+-------------------+
| CentOS Stream 8     | PASS               | SKIPPED              | SKIPPED           |
+---------------------+--------------------+----------------------+-------------------+
| Debian Bullseye     | PASS               | SKIPPED              | SKIPPED           |
+---------------------+--------------------+----------------------+-------------------+
| Debian 11 (arm)     | PASS               | SKIPPED              | SKIPPED           |
+---------------------+--------------------+----------------------+-------------------+
| CentOS Stream 9     | PASS               | SKIPPED              | SKIPPED           |
+---------------------+--------------------+----------------------+-------------------+
| Fedora 39           | PASS               | SKIPPED              | SKIPPED           |
+---------------------+--------------------+----------------------+-------------------+
| Fedora 38           | PASS               | SKIPPED              | SKIPPED           |
+---------------------+--------------------+----------------------+-------------------+


FreeBSD 13.2
	Kernel: 13.2
	Compiler: clang 14.0.5

Windows Server 2019
	Kernel: 10.0.17763
	Compiler: clang 14.0 and gcc 8.1.0 (MinGW)

Windows Server 2022
	Kernel: 10.0.20348.2031
	Compiler: clang 15.0.7, gcc 8.1.0 (MinGW), and MSVC VS 17.9

CentOS Stream 8
	Kernel: 5.4.0-167-generic
	Compiler: gcc 8.5.0 20210514

Debian Bullseye
	Kernel: 5.4.0-167-generic
	Compiler: gcc 10.2.1-6

Debian 11 (arm)
	Kernel: Container Host Kernel
	Compiler: gcc 10.2.1

CentOS Stream 9
	Kernel: 5.4.0-167-generic
	Compiler: gcc 11.4.1 20230605

Fedora 39
	Kernel: Depends on container host
	Compiler: clang 17.0.6

Fedora 38
	Kernel: Depends on container host
	Compiler: clang 16.0.6

To view detailed results, visit:
https://lab.dpdk.org/results/dashboard/patchsets/29680/

UNH-IOL DPDK Community Lab

To manage your email subscriptions, visit: 
https://lab.dpdk.org/results/dashboard/preferences/subscriptions/