From mboxrd@z Thu Jan  1 00:00:00 1970
Return-Path: <test-report-bounces@dpdk.org>
Received: from mails.dpdk.org (mails.dpdk.org [217.70.189.124])
	by inbox.dpdk.org (Postfix) with ESMTP id B644543D74
	for <public@inbox.dpdk.org>; Fri, 29 Mar 2024 03:47:46 +0100 (CET)
Received: from mails.dpdk.org (localhost [127.0.0.1])
	by mails.dpdk.org (Postfix) with ESMTP id AC5CB40268;
	Fri, 29 Mar 2024 03:47:46 +0100 (CET)
Received: from mail-qt1-f227.google.com (mail-qt1-f227.google.com
 [209.85.160.227])
 by mails.dpdk.org (Postfix) with ESMTP id 5AB7340042
 for <test-report@dpdk.org>; Fri, 29 Mar 2024 03:47:45 +0100 (CET)
Received: by mail-qt1-f227.google.com with SMTP id
 d75a77b69052e-432bfaf533eso2067451cf.2
 for <test-report@dpdk.org>; Thu, 28 Mar 2024 19:47:45 -0700 (PDT)
DKIM-Signature: v=1; a=rsa-sha256; c=relaxed/relaxed;
 d=iol.unh.edu; s=unh-iol; t=1711680464; x=1712285264; darn=dpdk.org;
 h=references:in-reply-to:cc:to:from:subject:message-id:date:from:to
 :cc:subject:date:message-id:reply-to;
 bh=lDtHr30CpyxJKw0qNWu/hfaxr8HHx3KI1TVdDZZSCg0=;
 b=Ego24TaTsX2YNX4UqI1OFsLpMDv9NmWapHQmix7E51h997sEvoLOtuIVZX00EmV41o
 ANZogO7Aid0eIdE0Rudm5oBKPY9UAh5UhlGING68vEXUNmhszrEQq7Hg82AqX0TMWp/P
 HASh0cwm8jc+6t+clkUZyNCauHDTImyFK4e3k=
X-Google-DKIM-Signature: v=1; a=rsa-sha256; c=relaxed/relaxed;
 d=1e100.net; s=20230601; t=1711680464; x=1712285264;
 h=references:in-reply-to:cc:to:from:subject:message-id:date
 :x-gm-message-state:from:to:cc:subject:date:message-id:reply-to;
 bh=lDtHr30CpyxJKw0qNWu/hfaxr8HHx3KI1TVdDZZSCg0=;
 b=sbATcoBZ6SPnr40A0UldCK7jMkwBjQBG2OAGXv2ekO6HkK9CcLsAHLLhOMoQSKlZtI
 vjEkwmxCuz1KlNIL8ikXXlMLNUYKEZsGMSBLbfzhEMDtcLC6MBwoVxzUmMzgbVTvtKXF
 Z2mth79R47VIfvav/i8FgKV4QHRxlIfSl/rR4paj8mFD4cDIuyiZhRXTfSll/TgzQk9G
 dyBd48gBP6jpM/w1seQZ1JUBnvhJpB14W21omqKBBBi3bRZIuoTwk7BOUMf3g7sLXFz6
 /JhRur9s7G3/P55rbrDdADcLR3Xr37TH80c2Pm615nuS7qnAFTnU1pBo8LUArStech5O
 UQuw==
X-Gm-Message-State: AOJu0Yx131JXLEEp9NqMIWvP/Tt0vaDq52vLtqrdiY/bLYdS2ICJJZF9
 GbHMO6cIdLRttRB5dtHVFkd2v8iFXIHXPlvli5HyJs3UyxdTM2lsyKKsOn4l6sE2Y6nykWR1mRI
 8pTCR/41sYrsKAVhX+WM3e05wGmXJvbjSEzGNz7nA
X-Google-Smtp-Source: AGHT+IHgsH4HGcppG2rK52W7EeTv1/2M+vLIAvoaWRXt8FfiVllCxaixE/V9UeVMuFJ9sMjx1lf/4S9YPH/1
X-Received: by 2002:ac8:7d44:0:b0:431:43e0:824e with SMTP id
 h4-20020ac87d44000000b0043143e0824emr1239810qtb.25.1711680464778; 
 Thu, 28 Mar 2024 19:47:44 -0700 (PDT)
Received: from postal.iol.unh.edu (postal.iol.unh.edu. [132.177.123.84])
 by smtp-relay.gmail.com with ESMTPS id
 ea5-20020a05622a5b0500b004317c4ffcf9sm201486qtb.2.2024.03.28.19.47.44
 (version=TLS1_2 cipher=ECDHE-ECDSA-AES128-GCM-SHA256 bits=128/128);
 Thu, 28 Mar 2024 19:47:44 -0700 (PDT)
X-Relaying-Domain: iol.unh.edu
Date: Thu, 28 Mar 2024 19:47:44 -0700 (PDT)
Message-ID: <66062bd0.050a0220.d4cff.c891SMTPIN_ADDED_MISSING@mx.google.com>
Received: from [172.17.0.9] (unknown [172.18.0.217])
 by postal.iol.unh.edu (Postfix) with ESMTP id 6CC956052471;
 Thu, 28 Mar 2024 22:47:44 -0400 (EDT)
Subject: |SUCCESS| pw138962-138963 [PATCH] [v2,2/2] net: stop using mmx intri
From: dpdklab@iol.unh.edu
To: Test Report <test-report@dpdk.org>
Cc: dpdk-test-reports@iol.unh.edu
In-Reply-To: <1711642446-6880-3-git-send-email-roretzla@linux.microsoft.com>
References: <1711642446-6880-3-git-send-email-roretzla@linux.microsoft.com>
Content-Type: text/plain
X-BeenThere: test-report@dpdk.org
X-Mailman-Version: 2.1.29
Precedence: list
List-Id: automatic DPDK test reports <test-report.dpdk.org>
List-Unsubscribe: <https://mails.dpdk.org/options/test-report>,
 <mailto:test-report-request@dpdk.org?subject=unsubscribe>
List-Archive: <http://mails.dpdk.org/archives/test-report/>
List-Post: <mailto:test-report@dpdk.org>
List-Help: <mailto:test-report-request@dpdk.org?subject=help>
List-Subscribe: <https://mails.dpdk.org/listinfo/test-report>,
 <mailto:test-report-request@dpdk.org?subject=subscribe>
Errors-To: test-report-bounces@dpdk.org

Test-Label: iol-unit-amd64-testing
Test-Status: SUCCESS
http://dpdk.org/patch/138963

_Testing PASS_

Submitter: Tyler Retzlaff <roretzla@linux.microsoft.com>
Date: Thursday, March 28 2024 16:14:06 
DPDK git baseline: Repo:dpdk
  Branch: master
  CommitID:a9778aad62470a38ccbb4e09a2a6bf0cc2e0e36d

138962-138963 --> testing pass

Test environment and result as below:

+---------------------+----------------+
|     Environment     | dpdk_unit_test |
+=====================+================+
| Windows Server 2019 | PASS           |
+---------------------+----------------+
| Windows Server 2022 | PASS           |
+---------------------+----------------+
| CentOS Stream 8     | PASS           |
+---------------------+----------------+
| Debian Bullseye     | PASS           |
+---------------------+----------------+
| Debian 11 (arm)     | PASS           |
+---------------------+----------------+
| CentOS Stream 9     | PASS           |
+---------------------+----------------+
| Fedora 37           | PASS           |
+---------------------+----------------+
| Fedora 38           | PASS           |
+---------------------+----------------+
| Fedora 39           | PASS           |
+---------------------+----------------+
| openSUSE Leap 15    | PASS           |
+---------------------+----------------+


Windows Server 2019
	Kernel: 10.0.17763
	Compiler: clang 14.0 and gcc 8.1.0 (MinGW)

Windows Server 2022
	Kernel: 10.0.20348.2031
	Compiler: clang 15.0.7, gcc 8.1.0 (MinGW), and MSVC VS 17.9

CentOS Stream 8
	Kernel: 5.4.0-167-generic
	Compiler: gcc 8.5.0 20210514

Debian Bullseye
	Kernel: 5.4.0-167-generic
	Compiler: gcc 10.2.1-6

Debian 11 (arm)
	Kernel: Container Host Kernel
	Compiler: gcc 10.2.1

CentOS Stream 9
	Kernel: 5.4.0-167-generic
	Compiler: gcc 11.4.1 20230605

Fedora 37
	Kernel: Depends on container host system
	Compiler: gcc 12.3.1

Fedora 38
	Kernel: Depends on container host
	Compiler: gcc 13.2.1

Fedora 39
	Kernel: Depends on container host
	Compiler: clang 17.0.6

openSUSE Leap 15
	Kernel: 5.4.0-167-generic
	Compiler: gcc 7.5.0

To view detailed results, visit:
https://lab.dpdk.org/results/dashboard/patchsets/29680/

UNH-IOL DPDK Community Lab

To manage your email subscriptions, visit: 
https://lab.dpdk.org/results/dashboard/preferences/subscriptions/