From mboxrd@z Thu Jan  1 00:00:00 1970
Return-Path: <test-report-bounces@dpdk.org>
Received: from mails.dpdk.org (mails.dpdk.org [217.70.189.124])
	by inbox.dpdk.org (Postfix) with ESMTP id 026BE43D74
	for <public@inbox.dpdk.org>; Fri, 29 Mar 2024 03:48:37 +0100 (CET)
Received: from mails.dpdk.org (localhost [127.0.0.1])
	by mails.dpdk.org (Postfix) with ESMTP id F1E2A40268;
	Fri, 29 Mar 2024 03:48:36 +0100 (CET)
Received: from mail-qv1-f100.google.com (mail-qv1-f100.google.com
 [209.85.219.100])
 by mails.dpdk.org (Postfix) with ESMTP id 5AFAE40042
 for <test-report@dpdk.org>; Fri, 29 Mar 2024 03:48:35 +0100 (CET)
Received: by mail-qv1-f100.google.com with SMTP id
 6a1803df08f44-690e2d194f6so8916256d6.0
 for <test-report@dpdk.org>; Thu, 28 Mar 2024 19:48:35 -0700 (PDT)
DKIM-Signature: v=1; a=rsa-sha256; c=relaxed/relaxed;
 d=iol.unh.edu; s=unh-iol; t=1711680515; x=1712285315; darn=dpdk.org;
 h=references:in-reply-to:cc:to:from:subject:message-id:date:from:to
 :cc:subject:date:message-id:reply-to;
 bh=zIJTLKswkzMN+kXsJLjbggo+mJdXYKhCuG2f6uoyBM0=;
 b=MAeHeDt8+kOmxDNuNLFrWvfOkovl6MwTewq0LcMT3aSTLrfFCYlBwGl8Qic+wzjPyx
 GJXJQfYCaVICueLzostLAp9GMWlz2UQHJZ3C14jotILhI4s29UaLRCC1v3wF6PlKccUX
 aJAAxv1JmI8XCVkDEU5hd0nbN5XXjikT2Wz38=
X-Google-DKIM-Signature: v=1; a=rsa-sha256; c=relaxed/relaxed;
 d=1e100.net; s=20230601; t=1711680515; x=1712285315;
 h=references:in-reply-to:cc:to:from:subject:message-id:date
 :x-gm-message-state:from:to:cc:subject:date:message-id:reply-to;
 bh=zIJTLKswkzMN+kXsJLjbggo+mJdXYKhCuG2f6uoyBM0=;
 b=XwuG+KsdPhMbOhjujtHkZqf73+kS7dXQGsYN3xU/H0Nzp8+7aK+ix48uXSA/oxyjBn
 t6MNnVG3f3YYx4ClMFn/nznVk4MEuyRk1xhNzoCxTvYBk0w95Ut6ztTLkILtAH4Oo2NE
 HZ4TODsTC+s/cF7WenDtLHUYIYfNvH7otbUUA7x5QsS+AtKzBtRPtc79E3BlIzxMWYH+
 eUjXn5O5E6PU0M3mZHi7MC95xKnXMHLnGD+a+E5vzyHqVDJ3RBW14cvVYqyGpxDQcMac
 kRFHYuQfqDQxoxoaNg7Zz343f5XMXn/ycDSwgxrH6/mf/MdUF9CUfAdwP3qQrYKIXjSJ
 lFdQ==
X-Gm-Message-State: AOJu0YwukwycFptLN+I8ldzqkynD6L28ZTIv5veFNq6nK3phhDxhIM01
 w+RVFl05jlA/yWtp3heLGoHtxHRNBKV1qhXO5pJsAa9Fq5YX1z1BSPzSw32EdK674Piz2lyKc8r
 2kSi0aCV5w+HlOU5cA39IjY+cVlYAvBSjXTnwc/hbl/r7z9OlvkkkVg7y
X-Google-Smtp-Source: AGHT+IEMXX0f83eM/+qfbR4CkDhot3PeQNMW9SLTo3Ffrlu/aIsBB9CwxHrnkEVzd98jyOjYBlfLbh7d/GqO
X-Received: by 2002:ad4:4a6f:0:b0:696:7b16:999e with SMTP id
 cn15-20020ad44a6f000000b006967b16999emr1049022qvb.33.1711680514745; 
 Thu, 28 Mar 2024 19:48:34 -0700 (PDT)
Received: from postal.iol.unh.edu (postal.iol.unh.edu.
 [2606:4100:3880:1234::84]) by smtp-relay.gmail.com with ESMTPS id
 r5-20020a056214212500b0069696dbd1aesm169244qvc.56.2024.03.28.19.48.34
 (version=TLS1_2 cipher=ECDHE-ECDSA-AES128-GCM-SHA256 bits=128/128);
 Thu, 28 Mar 2024 19:48:34 -0700 (PDT)
X-Relaying-Domain: iol.unh.edu
Date: Thu, 28 Mar 2024 19:48:34 -0700 (PDT)
Message-ID: <66062c02.050a0220.3e92b.b18eSMTPIN_ADDED_MISSING@mx.google.com>
Received: from [172.17.0.9] (unknown [172.18.0.217])
 by postal.iol.unh.edu (Postfix) with ESMTP id 727896052471;
 Thu, 28 Mar 2024 22:48:34 -0400 (EDT)
Subject: |SUCCESS| pw138962-138963 [PATCH] [v2,2/2] net: stop using mmx intri
From: dpdklab@iol.unh.edu
To: Test Report <test-report@dpdk.org>
Cc: dpdk-test-reports@iol.unh.edu
In-Reply-To: <1711642446-6880-3-git-send-email-roretzla@linux.microsoft.com>
References: <1711642446-6880-3-git-send-email-roretzla@linux.microsoft.com>
Content-Type: text/plain
X-BeenThere: test-report@dpdk.org
X-Mailman-Version: 2.1.29
Precedence: list
List-Id: automatic DPDK test reports <test-report.dpdk.org>
List-Unsubscribe: <https://mails.dpdk.org/options/test-report>,
 <mailto:test-report-request@dpdk.org?subject=unsubscribe>
List-Archive: <http://mails.dpdk.org/archives/test-report/>
List-Post: <mailto:test-report@dpdk.org>
List-Help: <mailto:test-report-request@dpdk.org?subject=help>
List-Subscribe: <https://mails.dpdk.org/listinfo/test-report>,
 <mailto:test-report-request@dpdk.org?subject=subscribe>
Errors-To: test-report-bounces@dpdk.org

Test-Label: iol-unit-amd64-testing
Test-Status: SUCCESS
http://dpdk.org/patch/138963

_Testing PASS_

Submitter: Tyler Retzlaff <roretzla@linux.microsoft.com>
Date: Thursday, March 28 2024 16:14:06 
DPDK git baseline: Repo:dpdk
  Branch: master
  CommitID:a9778aad62470a38ccbb4e09a2a6bf0cc2e0e36d

138962-138963 --> testing pass

Test environment and result as below:

+---------------------+----------------+
|     Environment     | dpdk_unit_test |
+=====================+================+
| Windows Server 2019 | PASS           |
+---------------------+----------------+
| Windows Server 2022 | PASS           |
+---------------------+----------------+
| CentOS Stream 8     | PASS           |
+---------------------+----------------+
| Debian Bullseye     | PASS           |
+---------------------+----------------+
| Debian 11 (arm)     | PASS           |
+---------------------+----------------+
| CentOS Stream 9     | PASS           |
+---------------------+----------------+
| Fedora 37           | PASS           |
+---------------------+----------------+
| Fedora 38           | PASS           |
+---------------------+----------------+
| Fedora 39           | PASS           |
+---------------------+----------------+
| openSUSE Leap 15    | PASS           |
+---------------------+----------------+
| RHEL8               | PASS           |
+---------------------+----------------+


Windows Server 2019
	Kernel: 10.0.17763
	Compiler: clang 14.0 and gcc 8.1.0 (MinGW)

Windows Server 2022
	Kernel: 10.0.20348.2031
	Compiler: clang 15.0.7, gcc 8.1.0 (MinGW), and MSVC VS 17.9

CentOS Stream 8
	Kernel: 5.4.0-167-generic
	Compiler: gcc 8.5.0 20210514

Debian Bullseye
	Kernel: 5.4.0-167-generic
	Compiler: gcc 10.2.1-6

Debian 11 (arm)
	Kernel: Container Host Kernel
	Compiler: gcc 10.2.1

CentOS Stream 9
	Kernel: 5.4.0-167-generic
	Compiler: gcc 11.4.1 20230605

Fedora 37
	Kernel: Depends on container host system
	Compiler: gcc 12.3.1

Fedora 38
	Kernel: Depends on container host
	Compiler: gcc 13.2.1

Fedora 39
	Kernel: Depends on container host
	Compiler: clang 17.0.6

openSUSE Leap 15
	Kernel: 5.4.0-167-generic
	Compiler: gcc 7.5.0

RHEL8
	Kernel: 5.4.0-167-generic
	Compiler: gcc 8.5.0 20210514 (Red Hat 8.5.0-20)

To view detailed results, visit:
https://lab.dpdk.org/results/dashboard/patchsets/29680/

UNH-IOL DPDK Community Lab

To manage your email subscriptions, visit: 
https://lab.dpdk.org/results/dashboard/preferences/subscriptions/