From mboxrd@z Thu Jan  1 00:00:00 1970
Return-Path: <test-report-bounces@dpdk.org>
Received: from mails.dpdk.org (mails.dpdk.org [217.70.189.124])
	by inbox.dpdk.org (Postfix) with ESMTP id C6FEF43D8B
	for <public@inbox.dpdk.org>; Sat, 30 Mar 2024 05:16:17 +0100 (CET)
Received: from mails.dpdk.org (localhost [127.0.0.1])
	by mails.dpdk.org (Postfix) with ESMTP id B1A62402C9;
	Sat, 30 Mar 2024 05:16:17 +0100 (CET)
Received: from mail-il1-f228.google.com (mail-il1-f228.google.com
 [209.85.166.228])
 by mails.dpdk.org (Postfix) with ESMTP id 90C3A402B0
 for <test-report@dpdk.org>; Sat, 30 Mar 2024 05:16:16 +0100 (CET)
Received: by mail-il1-f228.google.com with SMTP id
 e9e14a558f8ab-3666affcb59so10011265ab.2
 for <test-report@dpdk.org>; Fri, 29 Mar 2024 21:16:16 -0700 (PDT)
DKIM-Signature: v=1; a=rsa-sha256; c=relaxed/relaxed;
 d=iol.unh.edu; s=unh-iol; t=1711772176; x=1712376976; darn=dpdk.org;
 h=references:in-reply-to:cc:to:from:subject:message-id:date:from:to
 :cc:subject:date:message-id:reply-to;
 bh=310tBxlUT3vwDyHow2kS//e9cZV0Ssls6n5BUap8eDs=;
 b=MhG0u/ZbIYM+6VTbs/PVdRDYkHhf+gL7EBMgtCKYawY4gj9LarFRdGIVo2RU+LwODX
 8VvNbp/xyw4jZFIVOXidlt6PSkfyW0Ft0h95PbaGJTOn/yUyS4LjefJIzF6pNbBgIe6k
 /PJEq0/yrgitaQ5M4hGORyDcsvNVTEbqb3kS8=
X-Google-DKIM-Signature: v=1; a=rsa-sha256; c=relaxed/relaxed;
 d=1e100.net; s=20230601; t=1711772176; x=1712376976;
 h=references:in-reply-to:cc:to:from:subject:message-id:date
 :x-gm-message-state:from:to:cc:subject:date:message-id:reply-to;
 bh=310tBxlUT3vwDyHow2kS//e9cZV0Ssls6n5BUap8eDs=;
 b=HgyrivAh2eIk6+WH8O2crXDSuKvEXgoEUBav36JGfWFmPict2ZuuIe87JxwsWg/q6P
 7IBW6xtgiROgfqZW6rpfRbbRwYMPEIar4JcrJfLGcXtn1f17Ar5M5AzmcTSoiuc4sXO5
 pE8zHeQdCTFu2zW6AWZnDffRzQ+YYHWeJZEZ+2QrzRzXKqTwTOSj2ykPoOJBteBdokq3
 St9yl/Nx21Q4C0Mt25Iix98bXsRbzKBnZ8G/Bj6got1uOjpPm2zPoSfxWEt2hYW5zL0T
 6N0hJDkhZOzhRbxTxqSLrcHOhcREs09FRMpZKDtqF6wXAps368DFDkBU/5FPb1bRB9W6
 11+w==
X-Gm-Message-State: AOJu0Yyjr+InG+CY+g/sioDrkX0SUywHyz/DDnALAXpR/5abhxFvVDvq
 Z0UiVVUCyLb4athVPdKoFMQOJiUhYfJG1lKbOEHS16+T842q7lCtX+Cx6547dh2s+CezVfoei7I
 8eKrzG65WF4+uPofv9hu/MdY9bF9Rv+RSDDuWE9qK
X-Google-Smtp-Source: AGHT+IHLXQrIdy0dMQSsyhUzgQvBXgbtlaWjuN2qO/7xIv3QaTa1B5wQDZMLLbaBGOIh82bgStfeXaPTQbTS
X-Received: by 2002:a05:6e02:1a05:b0:368:63bf:fe81 with SMTP id
 s5-20020a056e021a0500b0036863bffe81mr4699782ild.26.1711772175954; 
 Fri, 29 Mar 2024 21:16:15 -0700 (PDT)
Received: from postal.iol.unh.edu (postal.iol.unh.edu. [132.177.123.84])
 by smtp-relay.gmail.com with ESMTPS id
 dj14-20020a056e021fce00b00363d9deea97sm207306ilb.16.2024.03.29.21.16.15
 (version=TLS1_2 cipher=ECDHE-ECDSA-AES128-GCM-SHA256 bits=128/128);
 Fri, 29 Mar 2024 21:16:15 -0700 (PDT)
X-Relaying-Domain: iol.unh.edu
Date: Fri, 29 Mar 2024 21:16:15 -0700 (PDT)
Message-ID: <6607920f.050a0220.ff7da.cbe0SMTPIN_ADDED_MISSING@mx.google.com>
Received: from [172.21.0.6] (unknown [172.18.0.240])
 by postal.iol.unh.edu (Postfix) with ESMTP id 779426052471;
 Sat, 30 Mar 2024 00:16:15 -0400 (EDT)
Subject: |SUCCESS| pw138981-138995 [PATCH] [v19,15/15] log: colorize log outp
From: dpdklab@iol.unh.edu
To: Test Report <test-report@dpdk.org>
Cc: dpdk-test-reports@iol.unh.edu
In-Reply-To: <20240330030429.4630-16-stephen@networkplumber.org>
References: <20240330030429.4630-16-stephen@networkplumber.org>
Content-Type: text/plain
X-BeenThere: test-report@dpdk.org
X-Mailman-Version: 2.1.29
Precedence: list
List-Id: automatic DPDK test reports <test-report.dpdk.org>
List-Unsubscribe: <https://mails.dpdk.org/options/test-report>,
 <mailto:test-report-request@dpdk.org?subject=unsubscribe>
List-Archive: <http://mails.dpdk.org/archives/test-report/>
List-Post: <mailto:test-report@dpdk.org>
List-Help: <mailto:test-report-request@dpdk.org?subject=help>
List-Subscribe: <https://mails.dpdk.org/listinfo/test-report>,
 <mailto:test-report-request@dpdk.org?subject=subscribe>
Errors-To: test-report-bounces@dpdk.org

Test-Label: iol-abi-testing
Test-Status: SUCCESS
http://dpdk.org/patch/138995

_Testing PASS_

Submitter: Stephen Hemminger <stephen@networkplumber.org>
Date: Saturday, March 30 2024 03:00:58 
DPDK git baseline: Repo:dpdk
  Branch: master
  CommitID:a9778aad62470a38ccbb4e09a2a6bf0cc2e0e36d

138981-138995 --> testing pass

Test environment and result as below:

+------------------+----------+
|   Environment    | abi_test |
+==================+==========+
| Fedora 38        | PASS     |
+------------------+----------+
| Fedora 39        | PASS     |
+------------------+----------+
| CentOS Stream 8  | PASS     |
+------------------+----------+
| Ubuntu 22.04     | PASS     |
+------------------+----------+
| CentOS Stream 9  | PASS     |
+------------------+----------+
| Debian Bullseye  | PASS     |
+------------------+----------+
| RHEL8            | PASS     |
+------------------+----------+
| openSUSE Leap 15 | PASS     |
+------------------+----------+
| Fedora 37        | PASS     |
+------------------+----------+
| Debian 11 (arm)  | PASS     |
+------------------+----------+


Fedora 38
	Kernel: Depends on container host
	Compiler: clang 16.0.6

Fedora 39
	Kernel: Depends on container host
	Compiler: clang 17.0.6

CentOS Stream 8
	Kernel: 5.4.0-167-generic
	Compiler: gcc 8.5.0 20210514

Ubuntu 22.04
	Kernel: 5.4.0-167-generic
	Compiler: gcc 11.4.0

CentOS Stream 9
	Kernel: 5.4.0-167-generic
	Compiler: gcc 11.4.1 20230605

Debian Bullseye
	Kernel: 5.4.0-167-generic
	Compiler: gcc 10.2.1-6

RHEL8
	Kernel: 5.4.0-167-generic
	Compiler: gcc 8.5.0 20210514 (Red Hat 8.5.0-20)

openSUSE Leap 15
	Kernel: 5.4.0-167-generic
	Compiler: gcc 7.5.0

Fedora 37
	Kernel: Depends on container host system
	Compiler: gcc 12.3.1

Debian 11 (arm)
	Kernel: Container Host Kernel
	Compiler: gcc 10.2.1

To view detailed results, visit:
https://lab.dpdk.org/results/dashboard/patchsets/29683/

UNH-IOL DPDK Community Lab

To manage your email subscriptions, visit: 
https://lab.dpdk.org/results/dashboard/preferences/subscriptions/