From mboxrd@z Thu Jan  1 00:00:00 1970
Return-Path: <test-report-bounces@dpdk.org>
Received: from mails.dpdk.org (mails.dpdk.org [217.70.189.124])
	by inbox.dpdk.org (Postfix) with ESMTP id 1DEE843D8B
	for <public@inbox.dpdk.org>; Sat, 30 Mar 2024 05:16:45 +0100 (CET)
Received: from mails.dpdk.org (localhost [127.0.0.1])
	by mails.dpdk.org (Postfix) with ESMTP id 197FA402C9;
	Sat, 30 Mar 2024 05:16:45 +0100 (CET)
Received: from mail-qv1-f100.google.com (mail-qv1-f100.google.com
 [209.85.219.100])
 by mails.dpdk.org (Postfix) with ESMTP id B6D26402B0
 for <test-report@dpdk.org>; Sat, 30 Mar 2024 05:16:36 +0100 (CET)
Received: by mail-qv1-f100.google.com with SMTP id
 6a1803df08f44-695df25699fso19928256d6.2
 for <test-report@dpdk.org>; Fri, 29 Mar 2024 21:16:36 -0700 (PDT)
DKIM-Signature: v=1; a=rsa-sha256; c=relaxed/relaxed;
 d=iol.unh.edu; s=unh-iol; t=1711772196; x=1712376996; darn=dpdk.org;
 h=references:in-reply-to:cc:to:from:subject:message-id:date:from:to
 :cc:subject:date:message-id:reply-to;
 bh=310tBxlUT3vwDyHow2kS//e9cZV0Ssls6n5BUap8eDs=;
 b=AaBn6nvzrW0wPTFDNnF1sXydRwYl0fI3yPAzt3kVH/sPAv37aCIIv+jnlcv10J454c
 UhaX35ZMHnoIAfuOFKJbOAdxUy4hiUrLrQTCKyfK9y696cWoLmQVlxh+BJ/v7tevUeTC
 YHH/s4DhU7G34lgBGVQo5mhBSYHdqBZE7ZZHk=
X-Google-DKIM-Signature: v=1; a=rsa-sha256; c=relaxed/relaxed;
 d=1e100.net; s=20230601; t=1711772196; x=1712376996;
 h=references:in-reply-to:cc:to:from:subject:message-id:date
 :x-gm-message-state:from:to:cc:subject:date:message-id:reply-to;
 bh=310tBxlUT3vwDyHow2kS//e9cZV0Ssls6n5BUap8eDs=;
 b=efEd82gQjjvq1IxtIzu89khXsb9UobYjvnq4R+TsBoao8I6Jl3FMQ/1BGHPt451Eo5
 K1Xut/Ga6CNmWpnEcUPBUMflTk+ITHjZgEjlqliaqshbSFnBLUFRPbpEkm3mdYihpNMv
 shrNDSw+/30gZxJkPiS9cuRAoRc+lZYpS/1GqkAbVs8i8yxVyO9D1q5u269GU+SCLiz/
 xHWSwwJLOdUW3RR7W8ZFRfUJ95fkBfuYM/UtZhaWqJX3SMOynYIdvfvTtN5OW7/nZB9V
 FEZC38+iyVfBaOdMeJK7+QstQDPnASt27y4tmDl1If1YrA2MT1QdrMNp5xlNy4cBVgnz
 JDuQ==
X-Gm-Message-State: AOJu0YxA+XV++d1VqP4jJMN63sLU9f1VIaev3nuMVZAGygaY/3In2KHH
 LOGP+h5VHHwZ5jU246hUHoVDF64M5c8m2RloXY5Uo6uyoLdqDdKqHbsDLmVyIWIwKiOxUmEtvks
 9Lc6ML7RMQ6u9mqBoMJl46KmTeT4dnMryebSoW+cRUl+pP1vgjJZsqWU6
X-Google-Smtp-Source: AGHT+IGTJa5X4VUqqcYB32IFU3CaelzO90wo3emyt2CEx0BaoAaFFkC9lP1NmTHFcAlLkz/6DfdKzr0/j/X/
X-Received: by 2002:a05:6214:2cce:b0:698:f6ac:48e2 with SMTP id
 lf14-20020a0562142cce00b00698f6ac48e2mr1869783qvb.59.1711772193962; 
 Fri, 29 Mar 2024 21:16:33 -0700 (PDT)
Received: from postal.iol.unh.edu (postal.iol.unh.edu.
 [2606:4100:3880:1234::84]) by smtp-relay.gmail.com with ESMTPS id
 g7-20020a0562140ac700b00696a37aa0c8sm328657qvi.75.2024.03.29.21.16.33
 (version=TLS1_2 cipher=ECDHE-ECDSA-AES128-GCM-SHA256 bits=128/128);
 Fri, 29 Mar 2024 21:16:33 -0700 (PDT)
X-Relaying-Domain: iol.unh.edu
Date: Fri, 29 Mar 2024 21:16:33 -0700 (PDT)
Message-ID: <66079221.050a0220.4574d.65b0SMTPIN_ADDED_MISSING@mx.google.com>
Received: from [172.21.0.7] (unknown [172.18.0.240])
 by postal.iol.unh.edu (Postfix) with ESMTP id A748F6052471;
 Sat, 30 Mar 2024 00:16:33 -0400 (EDT)
Subject: |SUCCESS| pw138981-138995 [PATCH] [v19,15/15] log: colorize log outp
From: dpdklab@iol.unh.edu
To: Test Report <test-report@dpdk.org>
Cc: dpdk-test-reports@iol.unh.edu
In-Reply-To: <20240330030429.4630-16-stephen@networkplumber.org>
References: <20240330030429.4630-16-stephen@networkplumber.org>
Content-Type: text/plain
X-BeenThere: test-report@dpdk.org
X-Mailman-Version: 2.1.29
Precedence: list
List-Id: automatic DPDK test reports <test-report.dpdk.org>
List-Unsubscribe: <https://mails.dpdk.org/options/test-report>,
 <mailto:test-report-request@dpdk.org?subject=unsubscribe>
List-Archive: <http://mails.dpdk.org/archives/test-report/>
List-Post: <mailto:test-report@dpdk.org>
List-Help: <mailto:test-report-request@dpdk.org?subject=help>
List-Subscribe: <https://mails.dpdk.org/listinfo/test-report>,
 <mailto:test-report-request@dpdk.org?subject=subscribe>
Errors-To: test-report-bounces@dpdk.org

Test-Label: iol-abi-testing
Test-Status: SUCCESS
http://dpdk.org/patch/138995

_Testing PASS_

Submitter: Stephen Hemminger <stephen@networkplumber.org>
Date: Saturday, March 30 2024 03:00:58 
DPDK git baseline: Repo:dpdk
  Branch: master
  CommitID:a9778aad62470a38ccbb4e09a2a6bf0cc2e0e36d

138981-138995 --> testing pass

Test environment and result as below:

+------------------+----------+
|   Environment    | abi_test |
+==================+==========+
| Fedora 38        | PASS     |
+------------------+----------+
| Fedora 39        | PASS     |
+------------------+----------+
| CentOS Stream 8  | PASS     |
+------------------+----------+
| Ubuntu 22.04     | PASS     |
+------------------+----------+
| CentOS Stream 9  | PASS     |
+------------------+----------+
| Debian Bullseye  | PASS     |
+------------------+----------+
| RHEL8            | PASS     |
+------------------+----------+
| openSUSE Leap 15 | PASS     |
+------------------+----------+
| Fedora 37        | PASS     |
+------------------+----------+
| Debian 11 (arm)  | PASS     |
+------------------+----------+


Fedora 38
	Kernel: Depends on container host
	Compiler: clang 16.0.6

Fedora 39
	Kernel: Depends on container host
	Compiler: clang 17.0.6

CentOS Stream 8
	Kernel: 5.4.0-167-generic
	Compiler: gcc 8.5.0 20210514

Ubuntu 22.04
	Kernel: 5.4.0-167-generic
	Compiler: gcc 11.4.0

CentOS Stream 9
	Kernel: 5.4.0-167-generic
	Compiler: gcc 11.4.1 20230605

Debian Bullseye
	Kernel: 5.4.0-167-generic
	Compiler: gcc 10.2.1-6

RHEL8
	Kernel: 5.4.0-167-generic
	Compiler: gcc 8.5.0 20210514 (Red Hat 8.5.0-20)

openSUSE Leap 15
	Kernel: 5.4.0-167-generic
	Compiler: gcc 7.5.0

Fedora 37
	Kernel: Depends on container host system
	Compiler: gcc 12.3.1

Debian 11 (arm)
	Kernel: Container Host Kernel
	Compiler: gcc 10.2.1

To view detailed results, visit:
https://lab.dpdk.org/results/dashboard/patchsets/29683/

UNH-IOL DPDK Community Lab

To manage your email subscriptions, visit: 
https://lab.dpdk.org/results/dashboard/preferences/subscriptions/