From mboxrd@z Thu Jan  1 00:00:00 1970
Return-Path: <test-report-bounces@dpdk.org>
Received: from mails.dpdk.org (mails.dpdk.org [217.70.189.124])
	by inbox.dpdk.org (Postfix) with ESMTP id 6FC5343D81
	for <public@inbox.dpdk.org>; Sat, 30 Mar 2024 18:30:08 +0100 (CET)
Received: from mails.dpdk.org (localhost [127.0.0.1])
	by mails.dpdk.org (Postfix) with ESMTP id 6A61C4025E;
	Sat, 30 Mar 2024 18:30:08 +0100 (CET)
Received: from mail-qv1-f97.google.com (mail-qv1-f97.google.com
 [209.85.219.97]) by mails.dpdk.org (Postfix) with ESMTP id DCE304021D
 for <test-report@dpdk.org>; Sat, 30 Mar 2024 18:30:07 +0100 (CET)
Received: by mail-qv1-f97.google.com with SMTP id
 6a1803df08f44-69675e3be15so17945536d6.1
 for <test-report@dpdk.org>; Sat, 30 Mar 2024 10:30:07 -0700 (PDT)
DKIM-Signature: v=1; a=rsa-sha256; c=relaxed/relaxed;
 d=iol.unh.edu; s=unh-iol; t=1711819807; x=1712424607; darn=dpdk.org;
 h=references:in-reply-to:cc:to:from:subject:message-id:date:from:to
 :cc:subject:date:message-id:reply-to;
 bh=1UV9H4KleUSEJ16u7IYVNhyJ0uQb7pdPxaprxM7T6g4=;
 b=YOaKNIk140OzcSwtkKfmo1V3dCPNjG40wbWSPKMazIfDQPibU8c+7A4qDnhmfVz6vt
 UITP7zVFeJh6InscLT3BHnl8g012Sm/AZ3goDmL6HN6qrTLJEzGSHJBVNjuu6nm8V2J3
 XOTvQGENPfJFozLH8S70wkd98sANeLOdbUARU=
X-Google-DKIM-Signature: v=1; a=rsa-sha256; c=relaxed/relaxed;
 d=1e100.net; s=20230601; t=1711819807; x=1712424607;
 h=references:in-reply-to:cc:to:from:subject:message-id:date
 :x-gm-message-state:from:to:cc:subject:date:message-id:reply-to;
 bh=1UV9H4KleUSEJ16u7IYVNhyJ0uQb7pdPxaprxM7T6g4=;
 b=iw0AdUXP/w5amwOvaBa8D/DTzENq8tWIYOHu7qwAMDQMKuDTL0wSrEhBXCk0KlO2/H
 XShi0AJxNOw8DdOjeJtVwR37ehnFzPgee7Hd7jhvWwzLN6z4/WXJ/8Xnxg5PL2W+C2mw
 CeO1uijVJ5SkJNkr9AUOw07H5yoj0glF+BxfFUcMHsGNmfwHxzgrSH7CpGwE6XXN86EZ
 GKXbOwFVR652CKXL0iZw15nkEI4uXVC6Z30E5vwUTa2D4thO4nr1MgmpcTcKGZ7rl3uw
 NsQKmOLbbBUOit8c4V6Lx9wcId7k76eO9KOdtEibcpqXSGLJnhvtI3GYsGmH+sCva5f2
 q5cw==
X-Gm-Message-State: AOJu0YxGFVTZXthnB6DH8cmjdJOLk8qF/Z4dtYAHxvmIVgmwcoK16Esk
 fO7E3LCdOgiaz2cbpVgPySxkI9X5h2rE6Svsm4whyZOVNnoheOdkVyYOhCSJvIwO2Hesud5nm+K
 MiX+o1LdbBJs+wk4M+BAW5YargB6YOrnly73wtlm8
X-Google-Smtp-Source: AGHT+IHicSCi/NxJoajTTQ1fVbcHIvp/4Fdb2xyjFVw1L8gvGEngzTkwxvAiccvPOGUJCXMcMV2iID/U0m9I
X-Received: by 2002:a05:6214:246:b0:690:c568:8dc9 with SMTP id
 k6-20020a056214024600b00690c5688dc9mr5047469qvt.36.1711819807219; 
 Sat, 30 Mar 2024 10:30:07 -0700 (PDT)
Received: from postal.iol.unh.edu (postal.iol.unh.edu. [132.177.123.84])
 by smtp-relay.gmail.com with ESMTPS id
 r5-20020a056214212500b0069696dbd1aesm427646qvc.56.2024.03.30.10.30.07
 (version=TLS1_2 cipher=ECDHE-ECDSA-AES128-GCM-SHA256 bits=128/128);
 Sat, 30 Mar 2024 10:30:07 -0700 (PDT)
X-Relaying-Domain: iol.unh.edu
Date: Sat, 30 Mar 2024 10:30:07 -0700 (PDT)
Message-ID: <66084c1f.050a0220.3e92b.bad3SMTPIN_ADDED_MISSING@mx.google.com>
Received: from [172.21.0.8] (unknown [172.18.0.240])
 by postal.iol.unh.edu (Postfix) with ESMTP id DE5E96052471;
 Sat, 30 Mar 2024 13:30:06 -0400 (EDT)
Subject: |SUCCESS| pw138997-139010 [PATCH] [v20,14/14] log: colorize log outp
From: dpdklab@iol.unh.edu
To: Test Report <test-report@dpdk.org>
Cc: dpdk-test-reports@iol.unh.edu
In-Reply-To: <20240330164433.50144-15-stephen@networkplumber.org>
References: <20240330164433.50144-15-stephen@networkplumber.org>
Content-Type: text/plain
X-BeenThere: test-report@dpdk.org
X-Mailman-Version: 2.1.29
Precedence: list
List-Id: automatic DPDK test reports <test-report.dpdk.org>
List-Unsubscribe: <https://mails.dpdk.org/options/test-report>,
 <mailto:test-report-request@dpdk.org?subject=unsubscribe>
List-Archive: <http://mails.dpdk.org/archives/test-report/>
List-Post: <mailto:test-report@dpdk.org>
List-Help: <mailto:test-report-request@dpdk.org?subject=help>
List-Subscribe: <https://mails.dpdk.org/listinfo/test-report>,
 <mailto:test-report-request@dpdk.org?subject=subscribe>
Errors-To: test-report-bounces@dpdk.org

Test-Label: iol-compile-amd64-testing
Test-Status: SUCCESS
http://dpdk.org/patch/139010

_Testing PASS_

Submitter: Stephen Hemminger <stephen@networkplumber.org>
Date: Saturday, March 30 2024 16:42:25 
DPDK git baseline: Repo:dpdk
  Branch: master
  CommitID:a9778aad62470a38ccbb4e09a2a6bf0cc2e0e36d

138997-139010 --> testing pass

Test environment and result as below:

+---------------------+--------------------+-------------------+
|     Environment     | dpdk_meson_compile | dpdk_msvc_compile |
+=====================+====================+===================+
| FreeBSD 13.2        | PASS               | SKIPPED           |
+---------------------+--------------------+-------------------+
| Windows Server 2022 | PASS               | PASS              |
+---------------------+--------------------+-------------------+
| CentOS Stream 8     | PASS               | SKIPPED           |
+---------------------+--------------------+-------------------+
| Fedora 37           | PASS               | SKIPPED           |
+---------------------+--------------------+-------------------+
| Windows Server 2019 | PASS               | SKIPPED           |
+---------------------+--------------------+-------------------+


FreeBSD 13.2
	Kernel: 13.2
	Compiler: clang 14.0.5

Windows Server 2022
	Kernel: 10.0.20348.2031
	Compiler: clang 15.0.7, gcc 8.1.0 (MinGW), and MSVC VS 17.9

CentOS Stream 8
	Kernel: 5.4.0-167-generic
	Compiler: gcc 8.5.0 20210514

Fedora 37
	Kernel: Depends on container host system
	Compiler: gcc 12.3.1

Windows Server 2019
	Kernel: 10.0.17763
	Compiler: clang 14.0 and gcc 8.1.0 (MinGW)

To view detailed results, visit:
https://lab.dpdk.org/results/dashboard/patchsets/29685/

UNH-IOL DPDK Community Lab

To manage your email subscriptions, visit: 
https://lab.dpdk.org/results/dashboard/preferences/subscriptions/