From mboxrd@z Thu Jan  1 00:00:00 1970
Return-Path: <test-report-bounces@dpdk.org>
Received: from mails.dpdk.org (mails.dpdk.org [217.70.189.124])
	by inbox.dpdk.org (Postfix) with ESMTP id 0546643D81
	for <public@inbox.dpdk.org>; Sat, 30 Mar 2024 18:33:44 +0100 (CET)
Received: from mails.dpdk.org (localhost [127.0.0.1])
	by mails.dpdk.org (Postfix) with ESMTP id 0094E4025E;
	Sat, 30 Mar 2024 18:33:44 +0100 (CET)
Received: from mail-qv1-f97.google.com (mail-qv1-f97.google.com
 [209.85.219.97]) by mails.dpdk.org (Postfix) with ESMTP id 58C174021D
 for <test-report@dpdk.org>; Sat, 30 Mar 2024 18:33:42 +0100 (CET)
Received: by mail-qv1-f97.google.com with SMTP id
 6a1803df08f44-6962950c6bfso24610326d6.2
 for <test-report@dpdk.org>; Sat, 30 Mar 2024 10:33:42 -0700 (PDT)
DKIM-Signature: v=1; a=rsa-sha256; c=relaxed/relaxed;
 d=iol.unh.edu; s=unh-iol; t=1711820022; x=1712424822; darn=dpdk.org;
 h=references:in-reply-to:cc:to:from:subject:message-id:date:from:to
 :cc:subject:date:message-id:reply-to;
 bh=1UV9H4KleUSEJ16u7IYVNhyJ0uQb7pdPxaprxM7T6g4=;
 b=hLpFiwF7loapSgtdj2eq82KdXAC6z5zASqindgNLrwkSgV6PdMEnGezwGq+7rwW4aA
 Wh1jAog8cG4rCD1B9KrkfE+ws0ngMZol+haxsKwo/i9h1ovmLaNsyQRCg50Atz8htuT2
 JosZi/h4XuROqBIax1kzAI4Fa9w/TbMrLMTxs=
X-Google-DKIM-Signature: v=1; a=rsa-sha256; c=relaxed/relaxed;
 d=1e100.net; s=20230601; t=1711820022; x=1712424822;
 h=references:in-reply-to:cc:to:from:subject:message-id:date
 :x-gm-message-state:from:to:cc:subject:date:message-id:reply-to;
 bh=1UV9H4KleUSEJ16u7IYVNhyJ0uQb7pdPxaprxM7T6g4=;
 b=p2sFjC7ZTkeendshgXO5jTzPF/JJAJk7n3bicKjCqguqaxi34dy0AKJ7c1b36jiCFG
 ERIeOFA/Sth4ie3Wb7B5Y0nW7Ivzjs9GdgxhswGsmxf5j6UfDucuZvyjRXusbi8/NezM
 EpiMU5xQLqmlwRKdwGTw9ekxdz1L7n1FUg2aWwAe3TcP37dvSEL/bKWC2sl+IQ93IFCS
 is1JRKR5Y3GvthDzsnXltRgpwby2axXFqzzfqO7UI5EnwQ6oh+HVPzcxrA1Q3C+aEDlY
 c+GxN3c70jJvEeRX6uI9suqgMyeOMNlq8d7pRJ1VRGrP+zGLAotSoiXLB4dUQqN6K3Cu
 WujA==
X-Gm-Message-State: AOJu0YztU2bnz/5YkGTgR5w4uXsIudDVHw1T5GGJwCLndpp1l3ci/TWG
 RHt4QRHkS7ATg4qdRGthYiuy2gvNxwueQEsiHUUCfV8jVs2ynDTJRPelFYMvc4KFSSR7ijfRweo
 4sg/ivjRWjkw2BE+lnYoRd4MyIvetNIU9CcWUAY3U
X-Google-Smtp-Source: AGHT+IE5UAyGKSYmjytEcjgOyS6QUBsChETn4MtlJ3vPr+CodIENYF6ZlvF8ymL9tvkjugi/3u/nkFgJR63X
X-Received: by 2002:a05:6214:27ca:b0:698:ff22:7db with SMTP id
 ge10-20020a05621427ca00b00698ff2207dbmr1245886qvb.19.1711820021799; 
 Sat, 30 Mar 2024 10:33:41 -0700 (PDT)
Received: from postal.iol.unh.edu (postal.iol.unh.edu. [132.177.123.84])
 by smtp-relay.gmail.com with ESMTPS id
 ib9-20020a0562141c8900b00696ac438cb0sm354620qvb.74.2024.03.30.10.33.41
 (version=TLS1_2 cipher=ECDHE-ECDSA-AES128-GCM-SHA256 bits=128/128);
 Sat, 30 Mar 2024 10:33:41 -0700 (PDT)
X-Relaying-Domain: iol.unh.edu
Date: Sat, 30 Mar 2024 10:33:41 -0700 (PDT)
Message-ID: <66084cf5.050a0220.176e2.70e2SMTPIN_ADDED_MISSING@mx.google.com>
Received: from [172.21.0.8] (unknown [172.18.0.240])
 by postal.iol.unh.edu (Postfix) with ESMTP id 763CB6052471;
 Sat, 30 Mar 2024 13:33:41 -0400 (EDT)
Subject: |SUCCESS| pw138997-139010 [PATCH] [v20,14/14] log: colorize log outp
From: dpdklab@iol.unh.edu
To: Test Report <test-report@dpdk.org>
Cc: dpdk-test-reports@iol.unh.edu
In-Reply-To: <20240330164433.50144-15-stephen@networkplumber.org>
References: <20240330164433.50144-15-stephen@networkplumber.org>
Content-Type: text/plain
X-BeenThere: test-report@dpdk.org
X-Mailman-Version: 2.1.29
Precedence: list
List-Id: automatic DPDK test reports <test-report.dpdk.org>
List-Unsubscribe: <https://mails.dpdk.org/options/test-report>,
 <mailto:test-report-request@dpdk.org?subject=unsubscribe>
List-Archive: <http://mails.dpdk.org/archives/test-report/>
List-Post: <mailto:test-report@dpdk.org>
List-Help: <mailto:test-report-request@dpdk.org?subject=help>
List-Subscribe: <https://mails.dpdk.org/listinfo/test-report>,
 <mailto:test-report-request@dpdk.org?subject=subscribe>
Errors-To: test-report-bounces@dpdk.org

Test-Label: iol-compile-amd64-testing
Test-Status: SUCCESS
http://dpdk.org/patch/139010

_Testing PASS_

Submitter: Stephen Hemminger <stephen@networkplumber.org>
Date: Saturday, March 30 2024 16:42:25 
DPDK git baseline: Repo:dpdk
  Branch: master
  CommitID:a9778aad62470a38ccbb4e09a2a6bf0cc2e0e36d

138997-139010 --> testing pass

Test environment and result as below:

+---------------------+--------------------+-------------------+
|     Environment     | dpdk_meson_compile | dpdk_msvc_compile |
+=====================+====================+===================+
| FreeBSD 13.2        | PASS               | SKIPPED           |
+---------------------+--------------------+-------------------+
| Windows Server 2022 | PASS               | PASS              |
+---------------------+--------------------+-------------------+
| CentOS Stream 8     | PASS               | SKIPPED           |
+---------------------+--------------------+-------------------+
| Fedora 37           | PASS               | SKIPPED           |
+---------------------+--------------------+-------------------+
| Windows Server 2019 | PASS               | SKIPPED           |
+---------------------+--------------------+-------------------+


FreeBSD 13.2
	Kernel: 13.2
	Compiler: clang 14.0.5

Windows Server 2022
	Kernel: 10.0.20348.2031
	Compiler: clang 15.0.7, gcc 8.1.0 (MinGW), and MSVC VS 17.9

CentOS Stream 8
	Kernel: 5.4.0-167-generic
	Compiler: gcc 8.5.0 20210514

Fedora 37
	Kernel: Depends on container host system
	Compiler: gcc 12.3.1

Windows Server 2019
	Kernel: 10.0.17763
	Compiler: clang 14.0 and gcc 8.1.0 (MinGW)

To view detailed results, visit:
https://lab.dpdk.org/results/dashboard/patchsets/29685/

UNH-IOL DPDK Community Lab

To manage your email subscriptions, visit: 
https://lab.dpdk.org/results/dashboard/preferences/subscriptions/