From mboxrd@z Thu Jan  1 00:00:00 1970
Return-Path: <test-report-bounces@dpdk.org>
Received: from mails.dpdk.org (mails.dpdk.org [217.70.189.124])
	by inbox.dpdk.org (Postfix) with ESMTP id 3A49743D87
	for <public@inbox.dpdk.org>; Sat, 30 Mar 2024 18:38:20 +0100 (CET)
Received: from mails.dpdk.org (localhost [127.0.0.1])
	by mails.dpdk.org (Postfix) with ESMTP id 346514025E;
	Sat, 30 Mar 2024 18:38:20 +0100 (CET)
Received: from mail-il1-f226.google.com (mail-il1-f226.google.com
 [209.85.166.226])
 by mails.dpdk.org (Postfix) with ESMTP id B22334021D
 for <test-report@dpdk.org>; Sat, 30 Mar 2024 18:38:18 +0100 (CET)
Received: by mail-il1-f226.google.com with SMTP id
 e9e14a558f8ab-368a603adc3so10824585ab.1
 for <test-report@dpdk.org>; Sat, 30 Mar 2024 10:38:18 -0700 (PDT)
DKIM-Signature: v=1; a=rsa-sha256; c=relaxed/relaxed;
 d=iol.unh.edu; s=unh-iol; t=1711820298; x=1712425098; darn=dpdk.org;
 h=references:in-reply-to:cc:to:from:subject:message-id:date:from:to
 :cc:subject:date:message-id:reply-to;
 bh=S6EliOI8fuhZVFjcsks1xrRKG/u+BgCUw6vXepg2unw=;
 b=BPOmfeFr9wTMyULZPuLA34JGYqwEIbaZb5Ch7KXLNR12vAFSU9BwWv9T0C6k9Cz6oi
 mghRP65v1YuKBl/mAF3VemmiREeOeomz1VAVSvPZfJv1x/oJZdo/2/Kz9ncwcf875HQy
 InlmlPCfVeL1L63pcS6L0+4j5+HtdOKaBJXUg=
X-Google-DKIM-Signature: v=1; a=rsa-sha256; c=relaxed/relaxed;
 d=1e100.net; s=20230601; t=1711820298; x=1712425098;
 h=references:in-reply-to:cc:to:from:subject:message-id:date
 :x-gm-message-state:from:to:cc:subject:date:message-id:reply-to;
 bh=S6EliOI8fuhZVFjcsks1xrRKG/u+BgCUw6vXepg2unw=;
 b=Zr4lMQDtAiIIgq+Q9UvZ8KxJqTriKAsUEuL7HdckF84OP/cSIY8+B5vTKTrRL+iu0l
 0YnGJ8HNOv3bP2uVndjdZyWilaQ++KimuLdAbQsKLu7Xe6/VpCp3QqhNykxrPX1xf3hl
 KQ7cA4sWBSUAFwbdq39ViE+14oATWchYgPeYfULVGaetcUX73PaZnFBW9cjuS+GUPPM7
 kcy4SBWvUMFiYWtzJ3vzpBU8VGdXhq0wKEoMJPtmSpcyNM0e7Lk+UDWO/LL6YtXf79wG
 aVyb9rlmPzL8jTWy5rMhUU3yOYXwCQNa6afS2ARMVVplFnCdGMw4ZyD6+U6mnT+TkaEZ
 /WQQ==
X-Gm-Message-State: AOJu0Ywesa0ZVxuMDHVHHRFB+dsuFDpkliiLp9gbTexr5zj5/44LD+08
 iFkJPoHiNdYXSULyPHBvyRHym39BaZMn62vj+ijU1XBVp+gRWQFfgUyNf5SfYGBiXn2Ece7fw4l
 FQSAxMsWMmbrNd6QCcB/BZG5v58fwXpi4MybTUO/pCslUpowYLXCrN5yq
X-Google-Smtp-Source: AGHT+IHYoiigIuboyAQxJzcTTAb5uY+g07H/rjjSlNHDVs+kFaUskCQmZqj1o/2Gyucpg45SbYmwFku0r9wx
X-Received: by 2002:a05:6e02:12c5:b0:369:4e3f:20f3 with SMTP id
 i5-20020a056e0212c500b003694e3f20f3mr4441012ilm.30.1711820298079; 
 Sat, 30 Mar 2024 10:38:18 -0700 (PDT)
Received: from postal.iol.unh.edu (postal.iol.unh.edu.
 [2606:4100:3880:1234::84]) by smtp-relay.gmail.com with ESMTPS id
 w10-20020a056e021c8a00b0036868e2b809sm254260ill.50.2024.03.30.10.38.17
 (version=TLS1_2 cipher=ECDHE-ECDSA-AES128-GCM-SHA256 bits=128/128);
 Sat, 30 Mar 2024 10:38:18 -0700 (PDT)
X-Relaying-Domain: iol.unh.edu
Date: Sat, 30 Mar 2024 10:38:18 -0700 (PDT)
Message-ID: <66084e0a.050a0220.15236.fff2SMTPIN_ADDED_MISSING@mx.google.com>
Received: from [172.21.0.9] (unknown [172.18.0.240])
 by postal.iol.unh.edu (Postfix) with ESMTP id 37BBF6052471;
 Sat, 30 Mar 2024 13:38:17 -0400 (EDT)
Subject: |SUCCESS| pw138997-139010 [PATCH] [v20,14/14] log: colorize log outp
From: dpdklab@iol.unh.edu
To: Test Report <test-report@dpdk.org>
Cc: dpdk-test-reports@iol.unh.edu
In-Reply-To: <20240330164433.50144-15-stephen@networkplumber.org>
References: <20240330164433.50144-15-stephen@networkplumber.org>
Content-Type: text/plain
X-BeenThere: test-report@dpdk.org
X-Mailman-Version: 2.1.29
Precedence: list
List-Id: automatic DPDK test reports <test-report.dpdk.org>
List-Unsubscribe: <https://mails.dpdk.org/options/test-report>,
 <mailto:test-report-request@dpdk.org?subject=unsubscribe>
List-Archive: <http://mails.dpdk.org/archives/test-report/>
List-Post: <mailto:test-report@dpdk.org>
List-Help: <mailto:test-report-request@dpdk.org?subject=help>
List-Subscribe: <https://mails.dpdk.org/listinfo/test-report>,
 <mailto:test-report-request@dpdk.org?subject=subscribe>
Errors-To: test-report-bounces@dpdk.org

Test-Label: iol-abi-testing
Test-Status: SUCCESS
http://dpdk.org/patch/139010

_Testing PASS_

Submitter: Stephen Hemminger <stephen@networkplumber.org>
Date: Saturday, March 30 2024 16:42:25 
DPDK git baseline: Repo:dpdk
  Branch: master
  CommitID:a9778aad62470a38ccbb4e09a2a6bf0cc2e0e36d

138997-139010 --> testing pass

Test environment and result as below:

+------------------+----------+
|   Environment    | abi_test |
+==================+==========+
| Fedora 37        | PASS     |
+------------------+----------+
| openSUSE Leap 15 | PASS     |
+------------------+----------+
| Fedora 38        | PASS     |
+------------------+----------+
| Fedora 39        | PASS     |
+------------------+----------+
| Debian Bullseye  | PASS     |
+------------------+----------+
| CentOS Stream 9  | PASS     |
+------------------+----------+
| CentOS Stream 8  | PASS     |
+------------------+----------+


Fedora 37
	Kernel: Depends on container host system
	Compiler: gcc 12.3.1

openSUSE Leap 15
	Kernel: 5.4.0-167-generic
	Compiler: gcc 7.5.0

Fedora 38
	Kernel: Depends on container host
	Compiler: clang 16.0.6

Fedora 39
	Kernel: Depends on container host
	Compiler: clang 17.0.6

Debian Bullseye
	Kernel: 5.4.0-167-generic
	Compiler: gcc 10.2.1-6

CentOS Stream 9
	Kernel: 5.4.0-167-generic
	Compiler: gcc 11.4.1 20230605

CentOS Stream 8
	Kernel: 5.4.0-167-generic
	Compiler: gcc 8.5.0 20210514

To view detailed results, visit:
https://lab.dpdk.org/results/dashboard/patchsets/29685/

UNH-IOL DPDK Community Lab

To manage your email subscriptions, visit: 
https://lab.dpdk.org/results/dashboard/preferences/subscriptions/