From mboxrd@z Thu Jan  1 00:00:00 1970
Return-Path: <test-report-bounces@dpdk.org>
Received: from mails.dpdk.org (mails.dpdk.org [217.70.189.124])
	by inbox.dpdk.org (Postfix) with ESMTP id A855243D87
	for <public@inbox.dpdk.org>; Sat, 30 Mar 2024 18:40:34 +0100 (CET)
Received: from mails.dpdk.org (localhost [127.0.0.1])
	by mails.dpdk.org (Postfix) with ESMTP id 9E2194025E;
	Sat, 30 Mar 2024 18:40:34 +0100 (CET)
Received: from mail-qt1-f227.google.com (mail-qt1-f227.google.com
 [209.85.160.227])
 by mails.dpdk.org (Postfix) with ESMTP id 1C9644021D
 for <test-report@dpdk.org>; Sat, 30 Mar 2024 18:40:33 +0100 (CET)
Received: by mail-qt1-f227.google.com with SMTP id
 d75a77b69052e-432c7ecc79eso7147471cf.2
 for <test-report@dpdk.org>; Sat, 30 Mar 2024 10:40:33 -0700 (PDT)
DKIM-Signature: v=1; a=rsa-sha256; c=relaxed/relaxed;
 d=iol.unh.edu; s=unh-iol; t=1711820432; x=1712425232; darn=dpdk.org;
 h=references:in-reply-to:cc:to:from:subject:message-id:date:from:to
 :cc:subject:date:message-id:reply-to;
 bh=NmDlaM1+yecM48lsva/DuqU54MYi2GuBrFnv9GZl954=;
 b=bohE6ZB2ENpjCTFX7gI+cg0gj1TYrN/EzZd//kCzaPc+hQqaRlPFeyYkuOacvCdrso
 6Iorpxmr7hENmVAo9abbf9MGQQ5IEhs73nSSKhm9SgF451Cds0NtklLFGdSLH46BrDgo
 mOemEViG3uV1F6p0MfXq5a7ITNZ/64ADCS+r8=
X-Google-DKIM-Signature: v=1; a=rsa-sha256; c=relaxed/relaxed;
 d=1e100.net; s=20230601; t=1711820432; x=1712425232;
 h=references:in-reply-to:cc:to:from:subject:message-id:date
 :x-gm-message-state:from:to:cc:subject:date:message-id:reply-to;
 bh=NmDlaM1+yecM48lsva/DuqU54MYi2GuBrFnv9GZl954=;
 b=E8geDm5jkfATDfDuf2pybHNJgnwHjbK5+T0o7L7htKM7NMM5KBmRYyXFaz1mqfZud+
 77ibO4gzbDz08MKQdDgA658H8BEFNVVTyLmcXMCycsrdCRmq9uPmxd6pP6HjTYDKPdiQ
 UsQbz4VSwxXLDjC0s4rybQsMtLEZYGgPfMuO2uS7nqZK69Fd8r98mLCRclJc5Hb4oo/S
 JZIz5U1+FxLmq2j1zqTXR2iq5T8SBqXh+x0B6Yp/NfVplLGyuk/Hq6LzyvwxK53B+sMp
 cwDjFF8fichjjfDYcsShsQb6j4A42CvG2cbiciMHqXdORE4ZrOT5YXJWeEEjt6ET9F5g
 /RCQ==
X-Gm-Message-State: AOJu0YwSCuRYEXDOxXR1QC2JWm2x4/gGQNsVPs46ZI8GOffiIZtif+Xr
 biwzHlPqvaIdS9yMo3xiXK6KNNb8WwbG5d4okHzU5g3GDds+Zx70fuP4fdBWx7dTJbu5djORXEi
 MJ7aIS5/RUM6MtCqarIwdNIME2XcFmsA/DCKz5mrT
X-Google-Smtp-Source: AGHT+IH5fjiqVkXROB/U0xz5o4lc36kZWuDyL6+4z6gcHPM8SIUaZeasXRBhRlqOH56ywFuXQMNnoe9K35RM
X-Received: by 2002:a05:622a:1c0e:b0:432:cedd:1c53 with SMTP id
 bq14-20020a05622a1c0e00b00432cedd1c53mr2744745qtb.58.1711820432471; 
 Sat, 30 Mar 2024 10:40:32 -0700 (PDT)
Received: from postal.iol.unh.edu (postal.iol.unh.edu. [132.177.123.84])
 by smtp-relay.gmail.com with ESMTPS id
 et26-20020a05622a4b1a00b00430c80b507dsm496529qtb.0.2024.03.30.10.40.32
 (version=TLS1_2 cipher=ECDHE-ECDSA-AES128-GCM-SHA256 bits=128/128);
 Sat, 30 Mar 2024 10:40:32 -0700 (PDT)
X-Relaying-Domain: iol.unh.edu
Date: Sat, 30 Mar 2024 10:40:32 -0700 (PDT)
Message-ID: <66084e90.050a0220.36223.e21bSMTPIN_ADDED_MISSING@mx.google.com>
Received: from [172.21.0.7] (unknown [172.18.0.240])
 by postal.iol.unh.edu (Postfix) with ESMTP id D39326052471;
 Sat, 30 Mar 2024 13:40:31 -0400 (EDT)
Subject: |SUCCESS| pw138997-139010 [PATCH] [v20,14/14] log: colorize log outp
From: dpdklab@iol.unh.edu
To: Test Report <test-report@dpdk.org>
Cc: dpdk-test-reports@iol.unh.edu
In-Reply-To: <20240330164433.50144-15-stephen@networkplumber.org>
References: <20240330164433.50144-15-stephen@networkplumber.org>
Content-Type: text/plain
X-BeenThere: test-report@dpdk.org
X-Mailman-Version: 2.1.29
Precedence: list
List-Id: automatic DPDK test reports <test-report.dpdk.org>
List-Unsubscribe: <https://mails.dpdk.org/options/test-report>,
 <mailto:test-report-request@dpdk.org?subject=unsubscribe>
List-Archive: <http://mails.dpdk.org/archives/test-report/>
List-Post: <mailto:test-report@dpdk.org>
List-Help: <mailto:test-report-request@dpdk.org?subject=help>
List-Subscribe: <https://mails.dpdk.org/listinfo/test-report>,
 <mailto:test-report-request@dpdk.org?subject=subscribe>
Errors-To: test-report-bounces@dpdk.org

Test-Label: iol-unit-arm64-testing
Test-Status: SUCCESS
http://dpdk.org/patch/139010

_Testing PASS_

Submitter: Stephen Hemminger <stephen@networkplumber.org>
Date: Saturday, March 30 2024 16:42:25 
DPDK git baseline: Repo:dpdk
  Branch: master
  CommitID:a9778aad62470a38ccbb4e09a2a6bf0cc2e0e36d

138997-139010 --> testing pass

Test environment and result as below:

+--------------------------+----------------+
|       Environment        | dpdk_unit_test |
+==========================+================+
| CentOS Stream 9 (ARM)    | PASS           |
+--------------------------+----------------+
| Debian 12 (arm)          | PASS           |
+--------------------------+----------------+
| Debian 11 (Buster) (ARM) | PASS           |
+--------------------------+----------------+
| Fedora 37 (ARM)          | PASS           |
+--------------------------+----------------+


CentOS Stream 9 (ARM)
	Kernel: Container Host Kernel
	Compiler: gcc 11.4.1

Debian 12 (arm)
	Kernel: Container Host Kernel
	Compiler: gcc 12.2.0

Debian 11 (Buster) (ARM)
	Kernel: Container Host Kernel
	Compiler: gcc 10.2.1

Fedora 37 (ARM)
	Kernel: Depends on container host
	Compiler: gcc 12.3.1

To view detailed results, visit:
https://lab.dpdk.org/results/dashboard/patchsets/29685/

UNH-IOL DPDK Community Lab

To manage your email subscriptions, visit: 
https://lab.dpdk.org/results/dashboard/preferences/subscriptions/