From mboxrd@z Thu Jan  1 00:00:00 1970
Return-Path: <test-report-bounces@dpdk.org>
Received: from mails.dpdk.org (mails.dpdk.org [217.70.189.124])
	by inbox.dpdk.org (Postfix) with ESMTP id D3ED343D87
	for <public@inbox.dpdk.org>; Sat, 30 Mar 2024 18:45:30 +0100 (CET)
Received: from mails.dpdk.org (localhost [127.0.0.1])
	by mails.dpdk.org (Postfix) with ESMTP id CAC3E4025E;
	Sat, 30 Mar 2024 18:45:30 +0100 (CET)
Received: from mail-yw1-f227.google.com (mail-yw1-f227.google.com
 [209.85.128.227])
 by mails.dpdk.org (Postfix) with ESMTP id E61A84021D
 for <test-report@dpdk.org>; Sat, 30 Mar 2024 18:45:28 +0100 (CET)
Received: by mail-yw1-f227.google.com with SMTP id
 00721157ae682-611639a0e4eso24443737b3.0
 for <test-report@dpdk.org>; Sat, 30 Mar 2024 10:45:28 -0700 (PDT)
DKIM-Signature: v=1; a=rsa-sha256; c=relaxed/relaxed;
 d=iol.unh.edu; s=unh-iol; t=1711820728; x=1712425528; darn=dpdk.org;
 h=references:in-reply-to:cc:to:from:subject:message-id:date:from:to
 :cc:subject:date:message-id:reply-to;
 bh=fb+OJ8cu1tC84ClptfCPjMTSV22PNWEjFcb5VNdpH3E=;
 b=WjmrR9AfGkUnPJsemjsswvm24Fg5b4dY1aDgjzsEZPf7A9CIeE1v2lCbt1rv2SWBc8
 OBJD/0eCibuMUIr/5hLiMjUv8brBcKX7EEfKqVrawkMh4MGJIDBkSSFoR9xGVUoKOKYy
 8117KazXOEeo5Vc/ZeLsd5N9OG2nT0mG/NPbg=
X-Google-DKIM-Signature: v=1; a=rsa-sha256; c=relaxed/relaxed;
 d=1e100.net; s=20230601; t=1711820728; x=1712425528;
 h=references:in-reply-to:cc:to:from:subject:message-id:date
 :x-gm-message-state:from:to:cc:subject:date:message-id:reply-to;
 bh=fb+OJ8cu1tC84ClptfCPjMTSV22PNWEjFcb5VNdpH3E=;
 b=KuuyjHvUMgEyKgzuDVp19BVK+AtnViDqK2/SabGuTHXlYsZrhM0ZDLBMiAldnkQpx3
 QZv7yZX5/m59m04cukNqy65exf2uq2eK+muYB6ok3hB+fgZc+eYbYMIUHeOYX/G+PnKY
 N6rk1VEKQdNSEUIp6tAgrOYjGTjx/aBE2HXo21m+mvtUNjirVjCdhs9ZsqIDE3erRxTJ
 SjWcDjTP8eLI2C8Snp7JF7jrJEOjS30UUhrD1TrzdfDJQZz/Ngm2GSRUBLS5aSbdIFMh
 CNSnNOIGISrAzsPXD7odpeh0WwUEEatG5cKr0kAW/8DAlnvQmnZrq2pOnJ7mnb8dj1pe
 sZEA==
X-Gm-Message-State: AOJu0YzV1HvW9IAE2kSyGBvV9k+nJZHXbO22mfv+Z9HNdVbSnd59Af5h
 PLevs4iRCY+c1zeCN9d9SpYu9qDdYvnct6ixZFu+nRFIjcaLVmCha9WyaVrxVUXvz9B4nU/onEy
 GMK151iIrI5KeK+FatTmI6xD/ZzFdZpigoZarai/kCPfKZ8JRsyLgnJvA
X-Google-Smtp-Source: AGHT+IFAMEKgyM9nZOpCGCFDTvBhPxUmwYBFkMsXm13ABG33+2rWzkFrq83WroAr7Q5hhG3b+nrsZ7Yf9Nqm
X-Received: by 2002:a0d:d489:0:b0:614:5a82:387c with SMTP id
 w131-20020a0dd489000000b006145a82387cmr2331621ywd.15.1711820728380; 
 Sat, 30 Mar 2024 10:45:28 -0700 (PDT)
Received: from postal.iol.unh.edu (postal.iol.unh.edu.
 [2606:4100:3880:1234::84]) by smtp-relay.gmail.com with ESMTPS id
 hq2-20020a05690c63c200b006145306dc84sm162262ywb.72.2024.03.30.10.45.28
 (version=TLS1_2 cipher=ECDHE-ECDSA-AES128-GCM-SHA256 bits=128/128);
 Sat, 30 Mar 2024 10:45:28 -0700 (PDT)
X-Relaying-Domain: iol.unh.edu
Date: Sat, 30 Mar 2024 10:45:28 -0700 (PDT)
Message-ID: <66084fb8.050a0220.621fe.9fd6SMTPIN_ADDED_MISSING@mx.google.com>
Received: from [172.21.0.6] (unknown [172.18.0.240])
 by postal.iol.unh.edu (Postfix) with ESMTP id 062BE6052471;
 Sat, 30 Mar 2024 13:45:28 -0400 (EDT)
Subject: |SUCCESS| pw138997-139010 [PATCH] [v20,14/14] log: colorize log outp
From: dpdklab@iol.unh.edu
To: Test Report <test-report@dpdk.org>
Cc: dpdk-test-reports@iol.unh.edu
In-Reply-To: <20240330164433.50144-15-stephen@networkplumber.org>
References: <20240330164433.50144-15-stephen@networkplumber.org>
Content-Type: text/plain
X-BeenThere: test-report@dpdk.org
X-Mailman-Version: 2.1.29
Precedence: list
List-Id: automatic DPDK test reports <test-report.dpdk.org>
List-Unsubscribe: <https://mails.dpdk.org/options/test-report>,
 <mailto:test-report-request@dpdk.org?subject=unsubscribe>
List-Archive: <http://mails.dpdk.org/archives/test-report/>
List-Post: <mailto:test-report@dpdk.org>
List-Help: <mailto:test-report-request@dpdk.org?subject=help>
List-Subscribe: <https://mails.dpdk.org/listinfo/test-report>,
 <mailto:test-report-request@dpdk.org?subject=subscribe>
Errors-To: test-report-bounces@dpdk.org

Test-Label: iol-abi-testing
Test-Status: SUCCESS
http://dpdk.org/patch/139010

_Testing PASS_

Submitter: Stephen Hemminger <stephen@networkplumber.org>
Date: Saturday, March 30 2024 16:42:25 
DPDK git baseline: Repo:dpdk
  Branch: master
  CommitID:a9778aad62470a38ccbb4e09a2a6bf0cc2e0e36d

138997-139010 --> testing pass

Test environment and result as below:

+------------------+----------+
|   Environment    | abi_test |
+==================+==========+
| Fedora 37        | PASS     |
+------------------+----------+
| openSUSE Leap 15 | PASS     |
+------------------+----------+
| Fedora 38        | PASS     |
+------------------+----------+
| Fedora 39        | PASS     |
+------------------+----------+
| Debian Bullseye  | PASS     |
+------------------+----------+
| CentOS Stream 9  | PASS     |
+------------------+----------+
| CentOS Stream 8  | PASS     |
+------------------+----------+
| Ubuntu 22.04     | PASS     |
+------------------+----------+
| RHEL8            | PASS     |
+------------------+----------+
| Debian 11 (arm)  | PASS     |
+------------------+----------+


Fedora 37
	Kernel: Depends on container host system
	Compiler: gcc 12.3.1

openSUSE Leap 15
	Kernel: 5.4.0-167-generic
	Compiler: gcc 7.5.0

Fedora 38
	Kernel: Depends on container host
	Compiler: clang 16.0.6

Fedora 39
	Kernel: Depends on container host
	Compiler: clang 17.0.6

Debian Bullseye
	Kernel: 5.4.0-167-generic
	Compiler: gcc 10.2.1-6

CentOS Stream 9
	Kernel: 5.4.0-167-generic
	Compiler: gcc 11.4.1 20230605

CentOS Stream 8
	Kernel: 5.4.0-167-generic
	Compiler: gcc 8.5.0 20210514

Ubuntu 22.04
	Kernel: 5.4.0-167-generic
	Compiler: gcc 11.4.0

RHEL8
	Kernel: 5.4.0-167-generic
	Compiler: gcc 8.5.0 20210514 (Red Hat 8.5.0-20)

Debian 11 (arm)
	Kernel: Container Host Kernel
	Compiler: gcc 10.2.1

To view detailed results, visit:
https://lab.dpdk.org/results/dashboard/patchsets/29685/

UNH-IOL DPDK Community Lab

To manage your email subscriptions, visit: 
https://lab.dpdk.org/results/dashboard/preferences/subscriptions/