From mboxrd@z Thu Jan  1 00:00:00 1970
Return-Path: <test-report-bounces@dpdk.org>
Received: from mails.dpdk.org (mails.dpdk.org [217.70.189.124])
	by inbox.dpdk.org (Postfix) with ESMTP id 6059943D87
	for <public@inbox.dpdk.org>; Sat, 30 Mar 2024 18:48:02 +0100 (CET)
Received: from mails.dpdk.org (localhost [127.0.0.1])
	by mails.dpdk.org (Postfix) with ESMTP id 5A07E4025E;
	Sat, 30 Mar 2024 18:48:02 +0100 (CET)
Received: from mail-yw1-f226.google.com (mail-yw1-f226.google.com
 [209.85.128.226])
 by mails.dpdk.org (Postfix) with ESMTP id AF9F14021D
 for <test-report@dpdk.org>; Sat, 30 Mar 2024 18:47:59 +0100 (CET)
Received: by mail-yw1-f226.google.com with SMTP id
 00721157ae682-6143542f74eso16081447b3.1
 for <test-report@dpdk.org>; Sat, 30 Mar 2024 10:47:59 -0700 (PDT)
DKIM-Signature: v=1; a=rsa-sha256; c=relaxed/relaxed;
 d=iol.unh.edu; s=unh-iol; t=1711820879; x=1712425679; darn=dpdk.org;
 h=references:in-reply-to:cc:to:from:subject:message-id:date:from:to
 :cc:subject:date:message-id:reply-to;
 bh=NAhNpWCnKcivfyBFw3SRXPq7/+mDPIQ5QehphRxyh80=;
 b=FklQrLMuAvvg3oO1dxMKR9NcgOD0Fh2UiUIMlcRrVJrL62wgaRT1ZBrqXPy0gduwQN
 SywXV5YXMZQ3pKK4dHYazcl/9otonWgXQ5ufXuJHdFZK2vpo2NILnoDAAyBJ16iuMQ6m
 p7sWZfSVLiBZGKql5Blgo0ZOhsJqBGEpFmFls=
X-Google-DKIM-Signature: v=1; a=rsa-sha256; c=relaxed/relaxed;
 d=1e100.net; s=20230601; t=1711820879; x=1712425679;
 h=references:in-reply-to:cc:to:from:subject:message-id:date
 :x-gm-message-state:from:to:cc:subject:date:message-id:reply-to;
 bh=NAhNpWCnKcivfyBFw3SRXPq7/+mDPIQ5QehphRxyh80=;
 b=sNNYRcIlSnI4FePpde9XaFpKGhntn/XUGZeblBiU6qHHo7qvQq1p1tF8IiVqZBbki7
 n1TJwlf0GBewzbKk35WoMhciFb0EIxkxLzovQoDRwP96MIc16KSZ5W7Ho/MbdBZfb2c8
 ehEb89irnbwhRUazt7iJgqgQftjdshZcsalPu/9KYKxx87YbOex1lsGDptkgJePiqIOe
 ci5MB/OIH9BGeHWtwWLthGbbvyM46+ApunfXJogWeyHgUFxJoygfYHOPAMXa+yBZUeL2
 8eyjC2E219K/XD+yjllfoAdHkYqg9hSMl48KcpumG4MEmjzGrEE8MI+dqBA0fW7tmZ1l
 WyCw==
X-Gm-Message-State: AOJu0YzhfjEK3GC+mxO07Ej9Y3KI56njitji03fP49ooC0UkJtKM62uM
 yGny5Pgcbs83BJ1Ry0cuhBri5lSwiQdsLvh2+Ie4Tjwp+AOskKjcequhkH0rAFD30IZLyIIqiN0
 u5dBwZ60drzkUCCviH0sJh+Aio/nk3/vj1d9Cgv+o
X-Google-Smtp-Source: AGHT+IEml41kplAHDLGj2WvmQJqnJVme/2XC+WDtmjfuHK5Uv4A19lImVvG3Mw1fgP9GytECCEr7bSOJ4gLe
X-Received: by 2002:a0d:ea84:0:b0:60a:a1e:6e11 with SMTP id
 t126-20020a0dea84000000b0060a0a1e6e11mr5342931ywe.45.1711820879154; 
 Sat, 30 Mar 2024 10:47:59 -0700 (PDT)
Received: from postal.iol.unh.edu (postal.iol.unh.edu. [132.177.123.84])
 by smtp-relay.gmail.com with ESMTPS id
 bp9-20020a05690c068900b006143ed51954sm197345ywb.65.2024.03.30.10.47.59
 (version=TLS1_2 cipher=ECDHE-ECDSA-AES128-GCM-SHA256 bits=128/128);
 Sat, 30 Mar 2024 10:47:59 -0700 (PDT)
X-Relaying-Domain: iol.unh.edu
Date: Sat, 30 Mar 2024 10:47:59 -0700 (PDT)
Message-ID: <6608504f.050a0220.7cf52.c4e7SMTPIN_ADDED_MISSING@mx.google.com>
Received: from [172.17.0.7] (unknown [172.18.0.217])
 by postal.iol.unh.edu (Postfix) with ESMTP id D407E6052471;
 Sat, 30 Mar 2024 13:47:58 -0400 (EDT)
Subject: |SUCCESS| pw138997-139010 [PATCH] [v20,14/14] log: colorize log outp
From: dpdklab@iol.unh.edu
To: Test Report <test-report@dpdk.org>
Cc: dpdk-test-reports@iol.unh.edu
In-Reply-To: <20240330164433.50144-15-stephen@networkplumber.org>
References: <20240330164433.50144-15-stephen@networkplumber.org>
Content-Type: text/plain
X-BeenThere: test-report@dpdk.org
X-Mailman-Version: 2.1.29
Precedence: list
List-Id: automatic DPDK test reports <test-report.dpdk.org>
List-Unsubscribe: <https://mails.dpdk.org/options/test-report>,
 <mailto:test-report-request@dpdk.org?subject=unsubscribe>
List-Archive: <http://mails.dpdk.org/archives/test-report/>
List-Post: <mailto:test-report@dpdk.org>
List-Help: <mailto:test-report-request@dpdk.org?subject=help>
List-Subscribe: <https://mails.dpdk.org/listinfo/test-report>,
 <mailto:test-report-request@dpdk.org?subject=subscribe>
Errors-To: test-report-bounces@dpdk.org

Test-Label: iol-unit-arm64-testing
Test-Status: SUCCESS
http://dpdk.org/patch/139010

_Testing PASS_

Submitter: Stephen Hemminger <stephen@networkplumber.org>
Date: Saturday, March 30 2024 16:42:25 
DPDK git baseline: Repo:dpdk
  Branch: master
  CommitID:a9778aad62470a38ccbb4e09a2a6bf0cc2e0e36d

138997-139010 --> testing pass

Test environment and result as below:

+--------------------------+----------------+
|       Environment        | dpdk_unit_test |
+==========================+================+
| CentOS Stream 9 (ARM)    | PASS           |
+--------------------------+----------------+
| Debian 12 (arm)          | PASS           |
+--------------------------+----------------+
| Debian 11 (Buster) (ARM) | PASS           |
+--------------------------+----------------+
| Fedora 37 (ARM)          | PASS           |
+--------------------------+----------------+
| Fedora 38 (ARM)          | PASS           |
+--------------------------+----------------+
| Fedora 39 (ARM)          | PASS           |
+--------------------------+----------------+


CentOS Stream 9 (ARM)
	Kernel: Container Host Kernel
	Compiler: gcc 11.4.1

Debian 12 (arm)
	Kernel: Container Host Kernel
	Compiler: gcc 12.2.0

Debian 11 (Buster) (ARM)
	Kernel: Container Host Kernel
	Compiler: gcc 10.2.1

Fedora 37 (ARM)
	Kernel: Depends on container host
	Compiler: gcc 12.3.1

Fedora 38 (ARM)
	Kernel: Depends on container host
	Compiler: gcc 13.2.1

Fedora 39 (ARM)
	Kernel: Depends on container host
	Compiler: gcc 13.2.1

To view detailed results, visit:
https://lab.dpdk.org/results/dashboard/patchsets/29685/

UNH-IOL DPDK Community Lab

To manage your email subscriptions, visit: 
https://lab.dpdk.org/results/dashboard/preferences/subscriptions/