From mboxrd@z Thu Jan  1 00:00:00 1970
Return-Path: <test-report-bounces@dpdk.org>
Received: from mails.dpdk.org (mails.dpdk.org [217.70.189.124])
	by inbox.dpdk.org (Postfix) with ESMTP id 63FBC43D87
	for <public@inbox.dpdk.org>; Sat, 30 Mar 2024 18:52:50 +0100 (CET)
Received: from mails.dpdk.org (localhost [127.0.0.1])
	by mails.dpdk.org (Postfix) with ESMTP id 4917340633;
	Sat, 30 Mar 2024 18:52:50 +0100 (CET)
Received: from mail-oo1-f98.google.com (mail-oo1-f98.google.com
 [209.85.161.98]) by mails.dpdk.org (Postfix) with ESMTP id EA20D4021D
 for <test-report@dpdk.org>; Sat, 30 Mar 2024 18:52:05 +0100 (CET)
Received: by mail-oo1-f98.google.com with SMTP id
 006d021491bc7-5a58009fe88so1753181eaf.0
 for <test-report@dpdk.org>; Sat, 30 Mar 2024 10:52:05 -0700 (PDT)
DKIM-Signature: v=1; a=rsa-sha256; c=relaxed/relaxed;
 d=iol.unh.edu; s=unh-iol; t=1711821125; x=1712425925; darn=dpdk.org;
 h=references:in-reply-to:cc:to:from:subject:message-id:date:from:to
 :cc:subject:date:message-id:reply-to;
 bh=nvM14mSx6xFH3t7/kVqhUtJ3LlJiYGtJR3WwgVJXXHw=;
 b=g2c9IfY4TcZXfDECV0P8xLZiREe2ls+8pp6wEWv4BUXTeMXsmBozgUoAbJK03+Yc+o
 H4Jk8stX0dunBUROe1iO4LmS1QkK86JvjWkodY3zAN22Y7dMQOYqGGjs7G5tJdLVZVfI
 iwRUfR8xzgh7fNveESC+0gjdETbrXASOD0vmU=
X-Google-DKIM-Signature: v=1; a=rsa-sha256; c=relaxed/relaxed;
 d=1e100.net; s=20230601; t=1711821125; x=1712425925;
 h=references:in-reply-to:cc:to:from:subject:message-id:date
 :x-gm-message-state:from:to:cc:subject:date:message-id:reply-to;
 bh=nvM14mSx6xFH3t7/kVqhUtJ3LlJiYGtJR3WwgVJXXHw=;
 b=Dv3HIrFdNAZNAm0llKSqn7Y6ucTJ+1eF8Z8U5bpw467f4RIEwUHcv9Rmm8KmGH057s
 kMwmYvdQD917DObwHIilZmeW6B7X7glx0500WYYJkQYMWTXZb3HWAmVX7ZwF1JY9le/J
 zAakJ2RLD01bFhFzMAd+fvzvk6i6skD6/B9a3/E5K3zm1vTfg2qVXYumT8KQjGkzX67l
 O3VKv9XJyirxmgLEH5eSz5tuLz9mF6aaK6dahG7WsjACc6WKipmVg3hiNCnHQ5MbuW9a
 OTIXQZk8m00uoV/yWaDG3xyegidjYsbGnDQ8LpsbzxDJGFHFgTHMHulLj4696Yry+3T7
 NC9Q==
X-Gm-Message-State: AOJu0YyMm5s37/Rn2ytxDutLOfFARWjWTV71APz9igOHcbPA5JLlsPzf
 UA8o5ua6U3LeotjGsEYrJAqNzLxmZNZUQ2Fri/nlrqujiqx4H0638Lrofguk75zR2B1SI8xidhi
 5NZnGqwbMq9A8M54xffhkeKoj1LmmKnpsICeglWmyR0C4TMNY2QEC+D7R
X-Google-Smtp-Source: AGHT+IGY+48yjJ9S6u69ZZbo5HUuStC4PlDciJh2kWZUSZf4Hs0FfkKDW/DIi0e9POraDIQYzZ11cnQBFG5B
X-Received: by 2002:a05:6358:310d:b0:183:78c9:355b with SMTP id
 c13-20020a056358310d00b0018378c9355bmr5352460rwe.8.1711821125251; 
 Sat, 30 Mar 2024 10:52:05 -0700 (PDT)
Received: from postal.iol.unh.edu (postal.iol.unh.edu.
 [2606:4100:3880:1234::84]) by smtp-relay.gmail.com with ESMTPS id
 i5-20020a63d445000000b005dccf9561c1sm280367pgj.10.2024.03.30.10.52.05
 (version=TLS1_2 cipher=ECDHE-ECDSA-AES128-GCM-SHA256 bits=128/128);
 Sat, 30 Mar 2024 10:52:05 -0700 (PDT)
X-Relaying-Domain: iol.unh.edu
Date: Sat, 30 Mar 2024 10:52:05 -0700 (PDT)
Message-ID: <66085145.630a0220.7a083.2be4SMTPIN_ADDED_MISSING@mx.google.com>
Received: from [172.17.0.9] (unknown [172.18.0.217])
 by postal.iol.unh.edu (Postfix) with ESMTP id B0AEE6052471;
 Sat, 30 Mar 2024 13:52:04 -0400 (EDT)
Subject: |SUCCESS| pw138997-139010 [PATCH] [v20,14/14] log: colorize log outp
From: dpdklab@iol.unh.edu
To: Test Report <test-report@dpdk.org>
Cc: dpdk-test-reports@iol.unh.edu
In-Reply-To: <20240330164433.50144-15-stephen@networkplumber.org>
References: <20240330164433.50144-15-stephen@networkplumber.org>
Content-Type: text/plain
X-BeenThere: test-report@dpdk.org
X-Mailman-Version: 2.1.29
Precedence: list
List-Id: automatic DPDK test reports <test-report.dpdk.org>
List-Unsubscribe: <https://mails.dpdk.org/options/test-report>,
 <mailto:test-report-request@dpdk.org?subject=unsubscribe>
List-Archive: <http://mails.dpdk.org/archives/test-report/>
List-Post: <mailto:test-report@dpdk.org>
List-Help: <mailto:test-report-request@dpdk.org?subject=help>
List-Subscribe: <https://mails.dpdk.org/listinfo/test-report>,
 <mailto:test-report-request@dpdk.org?subject=subscribe>
Errors-To: test-report-bounces@dpdk.org

Test-Label: iol-unit-amd64-testing
Test-Status: SUCCESS
http://dpdk.org/patch/139010

_Testing PASS_

Submitter: Stephen Hemminger <stephen@networkplumber.org>
Date: Saturday, March 30 2024 16:42:25 
DPDK git baseline: Repo:dpdk
  Branch: master
  CommitID:a9778aad62470a38ccbb4e09a2a6bf0cc2e0e36d

138997-139010 --> testing pass

Test environment and result as below:

+---------------------+----------------+
|     Environment     | dpdk_unit_test |
+=====================+================+
| Windows Server 2019 | PASS           |
+---------------------+----------------+
| CentOS Stream 8     | PASS           |
+---------------------+----------------+
| CentOS Stream 9     | PASS           |
+---------------------+----------------+
| Debian Bullseye     | PASS           |
+---------------------+----------------+
| Debian 11 (arm)     | PASS           |
+---------------------+----------------+
| Fedora 37           | PASS           |
+---------------------+----------------+
| Windows Server 2022 | PASS           |
+---------------------+----------------+


Windows Server 2019
	Kernel: 10.0.17763
	Compiler: clang 14.0 and gcc 8.1.0 (MinGW)

CentOS Stream 8
	Kernel: 5.4.0-167-generic
	Compiler: gcc 8.5.0 20210514

CentOS Stream 9
	Kernel: 5.4.0-167-generic
	Compiler: gcc 11.4.1 20230605

Debian Bullseye
	Kernel: 5.4.0-167-generic
	Compiler: gcc 10.2.1-6

Debian 11 (arm)
	Kernel: Container Host Kernel
	Compiler: gcc 10.2.1

Fedora 37
	Kernel: Depends on container host system
	Compiler: gcc 12.3.1

Windows Server 2022
	Kernel: 10.0.20348.2031
	Compiler: clang 15.0.7, gcc 8.1.0 (MinGW), and MSVC VS 17.9

To view detailed results, visit:
https://lab.dpdk.org/results/dashboard/patchsets/29685/

UNH-IOL DPDK Community Lab

To manage your email subscriptions, visit: 
https://lab.dpdk.org/results/dashboard/preferences/subscriptions/