From mboxrd@z Thu Jan  1 00:00:00 1970
Return-Path: <test-report-bounces@dpdk.org>
Received: from mails.dpdk.org (mails.dpdk.org [217.70.189.124])
	by inbox.dpdk.org (Postfix) with ESMTP id DD6DB43D87
	for <public@inbox.dpdk.org>; Sat, 30 Mar 2024 18:55:06 +0100 (CET)
Received: from mails.dpdk.org (localhost [127.0.0.1])
	by mails.dpdk.org (Postfix) with ESMTP id C113F4025E;
	Sat, 30 Mar 2024 18:55:06 +0100 (CET)
Received: from mail-yb1-f227.google.com (mail-yb1-f227.google.com
 [209.85.219.227])
 by mails.dpdk.org (Postfix) with ESMTP id 3F19F4025E
 for <test-report@dpdk.org>; Sat, 30 Mar 2024 18:52:54 +0100 (CET)
Received: by mail-yb1-f227.google.com with SMTP id
 3f1490d57ef6-dc745927098so2772739276.3
 for <test-report@dpdk.org>; Sat, 30 Mar 2024 10:52:54 -0700 (PDT)
DKIM-Signature: v=1; a=rsa-sha256; c=relaxed/relaxed;
 d=iol.unh.edu; s=unh-iol; t=1711821173; x=1712425973; darn=dpdk.org;
 h=references:in-reply-to:cc:to:from:subject:message-id:date:from:to
 :cc:subject:date:message-id:reply-to;
 bh=rYFGOG9Mu1E5j3nFSTO0zdSzfxOyhvUbxiEBU0H353Y=;
 b=FQpuOSUBMY2i+nw3i7KM95zhu0MxgIyZd1NG2QIjooCqu5LWgbseSujgaOuwl3UIzf
 jn8X5TP5fD2fbfxfVM9OdVDLXgdgDkl1JUJFdaqyM0sG70ChK884/1IDV364Z5wCTaFs
 R2Y215jBqZ+TodgJb0IZ7HNQwJRyt50O8iyYw=
X-Google-DKIM-Signature: v=1; a=rsa-sha256; c=relaxed/relaxed;
 d=1e100.net; s=20230601; t=1711821173; x=1712425973;
 h=references:in-reply-to:cc:to:from:subject:message-id:date
 :x-gm-message-state:from:to:cc:subject:date:message-id:reply-to;
 bh=rYFGOG9Mu1E5j3nFSTO0zdSzfxOyhvUbxiEBU0H353Y=;
 b=Nk5tcRQX2mBeCaHs/6gb+mJR1OM501b81o92XlExMrK4HODvg2q1FYV6bBvxX/8DET
 D87tQ06jpZ2CsbgclWfxk+Zj/VyD5WEBDjlrYQaPW7EZ3n68+JKuQvYjDRYqCifAdi1/
 zcJbMBoLlIPPCGbF3zuYXz5mBvSKV7RMhzsHlgSc+8OeYVQhyC/BrjQEakI5UoVwS4Dx
 /fHYTpVzEJDgPbNKSfuqSeOYH8k6YUEGHe4tDBFxwHjOXBgMk9WgBCN4z9/fMIwXHOeJ
 deny5B3XZU9wlSMCZGJ4TWWLd21vAG7DLZFOYG1aKyZFTekOb5H7zCCO1vVcx0klQIif
 HmMg==
X-Gm-Message-State: AOJu0Yz9Ox1hvX3F9ftBu9Hnh4TjWmYh9EwKubPBOMsXOeJxNOgFJWZS
 eJb340niamzzjzxdrrAqYLwt+EF9ssDT+Q2PUGY3kqG91RzgRVdB+c6WWlOmIBsRCzNF2tqfMxJ
 qCXsHgB5lgDq66FmsQhlz/eUQDQ8hJfGrMGW19evn2QGyB4r6nF4utLJN
X-Google-Smtp-Source: AGHT+IHZfhAa5V9wmmEYq4v/fePF6FFezMImp3+8Ho12AXd6lHSum53ZTpv2pU/kuw9ghybVO/ilYAP2FtvK
X-Received: by 2002:a25:adc6:0:b0:dcc:f3fe:19c with SMTP id
 d6-20020a25adc6000000b00dccf3fe019cmr4719185ybe.59.1711821173646; 
 Sat, 30 Mar 2024 10:52:53 -0700 (PDT)
Received: from postal.iol.unh.edu (postal.iol.unh.edu.
 [2606:4100:3880:1234::84]) by smtp-relay.gmail.com with ESMTPS id
 u14-20020a25ab0e000000b00dce07d31891sm243255ybi.7.2024.03.30.10.52.53
 (version=TLS1_2 cipher=ECDHE-ECDSA-AES128-GCM-SHA256 bits=128/128);
 Sat, 30 Mar 2024 10:52:53 -0700 (PDT)
X-Relaying-Domain: iol.unh.edu
Date: Sat, 30 Mar 2024 10:52:53 -0700 (PDT)
Message-ID: <66085175.250a0220.1bd78.e750SMTPIN_ADDED_MISSING@mx.google.com>
Received: from [172.17.0.6] (unknown [172.18.0.217])
 by postal.iol.unh.edu (Postfix) with ESMTP id 469CD6052471;
 Sat, 30 Mar 2024 13:52:53 -0400 (EDT)
Subject: |SUCCESS| pw138997-139010 [PATCH] [v20,14/14] log: colorize log outp
From: dpdklab@iol.unh.edu
To: Test Report <test-report@dpdk.org>
Cc: dpdk-test-reports@iol.unh.edu
In-Reply-To: <20240330164433.50144-15-stephen@networkplumber.org>
References: <20240330164433.50144-15-stephen@networkplumber.org>
Content-Type: text/plain
X-BeenThere: test-report@dpdk.org
X-Mailman-Version: 2.1.29
Precedence: list
List-Id: automatic DPDK test reports <test-report.dpdk.org>
List-Unsubscribe: <https://mails.dpdk.org/options/test-report>,
 <mailto:test-report-request@dpdk.org?subject=unsubscribe>
List-Archive: <http://mails.dpdk.org/archives/test-report/>
List-Post: <mailto:test-report@dpdk.org>
List-Help: <mailto:test-report-request@dpdk.org?subject=help>
List-Subscribe: <https://mails.dpdk.org/listinfo/test-report>,
 <mailto:test-report-request@dpdk.org?subject=subscribe>
Errors-To: test-report-bounces@dpdk.org

Test-Label: iol-unit-amd64-testing
Test-Status: SUCCESS
http://dpdk.org/patch/139010

_Testing PASS_

Submitter: Stephen Hemminger <stephen@networkplumber.org>
Date: Saturday, March 30 2024 16:42:25 
DPDK git baseline: Repo:dpdk
  Branch: master
  CommitID:a9778aad62470a38ccbb4e09a2a6bf0cc2e0e36d

138997-139010 --> testing pass

Test environment and result as below:

+---------------------+----------------+
|     Environment     | dpdk_unit_test |
+=====================+================+
| Windows Server 2019 | PASS           |
+---------------------+----------------+
| CentOS Stream 8     | PASS           |
+---------------------+----------------+
| CentOS Stream 9     | PASS           |
+---------------------+----------------+
| Debian Bullseye     | PASS           |
+---------------------+----------------+
| Debian 11 (arm)     | PASS           |
+---------------------+----------------+
| Fedora 37           | PASS           |
+---------------------+----------------+
| Windows Server 2022 | PASS           |
+---------------------+----------------+
| Fedora 39           | PASS           |
+---------------------+----------------+


Windows Server 2019
	Kernel: 10.0.17763
	Compiler: clang 14.0 and gcc 8.1.0 (MinGW)

CentOS Stream 8
	Kernel: 5.4.0-167-generic
	Compiler: gcc 8.5.0 20210514

CentOS Stream 9
	Kernel: 5.4.0-167-generic
	Compiler: gcc 11.4.1 20230605

Debian Bullseye
	Kernel: 5.4.0-167-generic
	Compiler: gcc 10.2.1-6

Debian 11 (arm)
	Kernel: Container Host Kernel
	Compiler: gcc 10.2.1

Fedora 37
	Kernel: Depends on container host system
	Compiler: gcc 12.3.1

Windows Server 2022
	Kernel: 10.0.20348.2031
	Compiler: clang 15.0.7, gcc 8.1.0 (MinGW), and MSVC VS 17.9

Fedora 39
	Kernel: Depends on container host
	Compiler: gcc 13.2.1

To view detailed results, visit:
https://lab.dpdk.org/results/dashboard/patchsets/29685/

UNH-IOL DPDK Community Lab

To manage your email subscriptions, visit: 
https://lab.dpdk.org/results/dashboard/preferences/subscriptions/