From mboxrd@z Thu Jan  1 00:00:00 1970
Return-Path: <test-report-bounces@dpdk.org>
Received: from mails.dpdk.org (mails.dpdk.org [217.70.189.124])
	by inbox.dpdk.org (Postfix) with ESMTP id 1BD5A43D87
	for <public@inbox.dpdk.org>; Sat, 30 Mar 2024 19:02:25 +0100 (CET)
Received: from mails.dpdk.org (localhost [127.0.0.1])
	by mails.dpdk.org (Postfix) with ESMTP id 1803140271;
	Sat, 30 Mar 2024 19:02:25 +0100 (CET)
Received: from mail-qv1-f100.google.com (mail-qv1-f100.google.com
 [209.85.219.100])
 by mails.dpdk.org (Postfix) with ESMTP id 8C9FA4025E
 for <test-report@dpdk.org>; Sat, 30 Mar 2024 19:02:23 +0100 (CET)
Received: by mail-qv1-f100.google.com with SMTP id
 6a1803df08f44-690bff9d4a6so18096326d6.1
 for <test-report@dpdk.org>; Sat, 30 Mar 2024 11:02:23 -0700 (PDT)
DKIM-Signature: v=1; a=rsa-sha256; c=relaxed/relaxed;
 d=iol.unh.edu; s=unh-iol; t=1711821743; x=1712426543; darn=dpdk.org;
 h=references:in-reply-to:cc:to:from:subject:message-id:date:from:to
 :cc:subject:date:message-id:reply-to;
 bh=OJJQMOjLcEXljO+pKcrAUN8Q3zHiCiTf4tpPjN6gIOY=;
 b=MbPWx3NQemvTRBpvdYV6EtgALpibztDPmTAAJ2KL96hND/IAHtyTnl8iZuIhr8lUPK
 upjtkzybx3Wp1hr83I0waKv1loyUSVN1kHOqU2Yubxzhx8wndDzeN4gF3/x8th4aXonX
 xKCNZDClsOo1smso84uKtVpFDu8lVE0lKUMuk=
X-Google-DKIM-Signature: v=1; a=rsa-sha256; c=relaxed/relaxed;
 d=1e100.net; s=20230601; t=1711821743; x=1712426543;
 h=references:in-reply-to:cc:to:from:subject:message-id:date
 :x-gm-message-state:from:to:cc:subject:date:message-id:reply-to;
 bh=OJJQMOjLcEXljO+pKcrAUN8Q3zHiCiTf4tpPjN6gIOY=;
 b=M0boojCFMgQeEN4Yraw7w2POeSzv7W1xZ8krzQpa12JltgQvD8gM5vWLrCewYgQ4xs
 E7h5ugvonW/28+0L35Bpsnpfp2PgpQ3+GV/9frsqdgfB/aB/swPvqDSR/zPLPxPk/mzA
 4Fo+B2qK5beL0564ttbw+k5xlf4HqCR/ZwOqAoaAfrtt+1kz+sR0/55JSoj9ajU/Di02
 G8+BwMVyOdueY4dcSffJ4nbSNdNz0kmcijFqB0X8XLCfElqosubfhs4RjGYcUNoOzmWx
 SKMzI55JS34dNPvZ++rlGRP0o+oLxUepPI/oAV/h4cPOlyKspcMMlWW4W9kzZMnpDl83
 ymhQ==
X-Gm-Message-State: AOJu0Yx20xtu3D1mT7CB5kZuVJw9HsuSFRxFG7GahlHn5sL6NGvCITBJ
 Q5NdRK5KjhRi7MocFx4CC3KOmV18Z8CvIM0L7fgb5vuzQdpkMT9cc5MXcavve56fVSB7fStJRqj
 fZUL/8a2inOdMpSV3HYILrVW77O30961BTHUNRp6x
X-Google-Smtp-Source: AGHT+IEmGkYKqqhgMIGII3CGfu9C1q0a9mBlmlufHHGtICdrYqTvxvjvHzp+l1nkeu+suYJ86u8ZzroesawQ
X-Received: by 2002:a05:6214:4344:b0:696:b0fc:3d6a with SMTP id
 of4-20020a056214434400b00696b0fc3d6amr6771331qvb.7.1711821743042; 
 Sat, 30 Mar 2024 11:02:23 -0700 (PDT)
Received: from postal.iol.unh.edu (postal.iol.unh.edu. [132.177.123.84])
 by smtp-relay.gmail.com with ESMTPS id
 10-20020a0562140d4a00b00698f373d20asm239173qvr.50.2024.03.30.11.02.22
 (version=TLS1_2 cipher=ECDHE-ECDSA-AES128-GCM-SHA256 bits=128/128);
 Sat, 30 Mar 2024 11:02:23 -0700 (PDT)
X-Relaying-Domain: iol.unh.edu
Date: Sat, 30 Mar 2024 11:02:23 -0700 (PDT)
Message-ID: <660853af.050a0220.a5118.f02cSMTPIN_ADDED_MISSING@mx.google.com>
Received: from [172.17.0.8] (unknown [172.18.0.217])
 by postal.iol.unh.edu (Postfix) with ESMTP id B8A336052471;
 Sat, 30 Mar 2024 14:02:22 -0400 (EDT)
Subject: |SUCCESS| pw138997-139010 [PATCH] [v20,14/14] log: colorize log outp
From: dpdklab@iol.unh.edu
To: Test Report <test-report@dpdk.org>
Cc: dpdk-test-reports@iol.unh.edu
In-Reply-To: <20240330164433.50144-15-stephen@networkplumber.org>
References: <20240330164433.50144-15-stephen@networkplumber.org>
Content-Type: text/plain
X-BeenThere: test-report@dpdk.org
X-Mailman-Version: 2.1.29
Precedence: list
List-Id: automatic DPDK test reports <test-report.dpdk.org>
List-Unsubscribe: <https://mails.dpdk.org/options/test-report>,
 <mailto:test-report-request@dpdk.org?subject=unsubscribe>
List-Archive: <http://mails.dpdk.org/archives/test-report/>
List-Post: <mailto:test-report@dpdk.org>
List-Help: <mailto:test-report-request@dpdk.org?subject=help>
List-Subscribe: <https://mails.dpdk.org/listinfo/test-report>,
 <mailto:test-report-request@dpdk.org?subject=subscribe>
Errors-To: test-report-bounces@dpdk.org

Test-Label: iol-unit-amd64-testing
Test-Status: SUCCESS
http://dpdk.org/patch/139010

_Testing PASS_

Submitter: Stephen Hemminger <stephen@networkplumber.org>
Date: Saturday, March 30 2024 16:42:25 
DPDK git baseline: Repo:dpdk
  Branch: master
  CommitID:a9778aad62470a38ccbb4e09a2a6bf0cc2e0e36d

138997-139010 --> testing pass

Test environment and result as below:

+---------------------+----------------+
|     Environment     | dpdk_unit_test |
+=====================+================+
| Windows Server 2019 | PASS           |
+---------------------+----------------+
| CentOS Stream 8     | PASS           |
+---------------------+----------------+
| CentOS Stream 9     | PASS           |
+---------------------+----------------+
| Debian Bullseye     | PASS           |
+---------------------+----------------+
| Debian 11 (arm)     | PASS           |
+---------------------+----------------+
| Fedora 37           | PASS           |
+---------------------+----------------+
| Windows Server 2022 | PASS           |
+---------------------+----------------+
| Fedora 39           | PASS           |
+---------------------+----------------+
| Fedora 38           | PASS           |
+---------------------+----------------+
| openSUSE Leap 15    | PASS           |
+---------------------+----------------+
| Ubuntu 20.04        | PASS           |
+---------------------+----------------+


Windows Server 2019
	Kernel: 10.0.17763
	Compiler: clang 14.0 and gcc 8.1.0 (MinGW)

CentOS Stream 8
	Kernel: 5.4.0-167-generic
	Compiler: gcc 8.5.0 20210514

CentOS Stream 9
	Kernel: 5.4.0-167-generic
	Compiler: gcc 11.4.1 20230605

Debian Bullseye
	Kernel: 5.4.0-167-generic
	Compiler: gcc 10.2.1-6

Debian 11 (arm)
	Kernel: Container Host Kernel
	Compiler: gcc 10.2.1

Fedora 37
	Kernel: Depends on container host system
	Compiler: gcc 12.3.1

Windows Server 2022
	Kernel: 10.0.20348.2031
	Compiler: clang 15.0.7, gcc 8.1.0 (MinGW), and MSVC VS 17.9

Fedora 39
	Kernel: Depends on container host
	Compiler: gcc 13.2.1

Fedora 38
	Kernel: Depends on container host
	Compiler: gcc 13.2.1

openSUSE Leap 15
	Kernel: 5.4.0-167-generic
	Compiler: gcc 7.5.0

Ubuntu 20.04
	Kernel: 5.4.0-167-generic
	Compiler: gcc 9.4.0-1ubuntu1~20.04.1

To view detailed results, visit:
https://lab.dpdk.org/results/dashboard/patchsets/29685/

UNH-IOL DPDK Community Lab

To manage your email subscriptions, visit: 
https://lab.dpdk.org/results/dashboard/preferences/subscriptions/