From mboxrd@z Thu Jan  1 00:00:00 1970
Return-Path: <test-report-bounces@dpdk.org>
Received: from mails.dpdk.org (mails.dpdk.org [217.70.189.124])
	by inbox.dpdk.org (Postfix) with ESMTP id 4D03843D87
	for <public@inbox.dpdk.org>; Sat, 30 Mar 2024 19:15:27 +0100 (CET)
Received: from mails.dpdk.org (localhost [127.0.0.1])
	by mails.dpdk.org (Postfix) with ESMTP id 46C514025E;
	Sat, 30 Mar 2024 19:15:27 +0100 (CET)
Received: from mail-oo1-f98.google.com (mail-oo1-f98.google.com
 [209.85.161.98]) by mails.dpdk.org (Postfix) with ESMTP id 3AF204021D
 for <test-report@dpdk.org>; Sat, 30 Mar 2024 19:15:25 +0100 (CET)
Received: by mail-oo1-f98.google.com with SMTP id
 006d021491bc7-5a485724ddaso2002608eaf.1
 for <test-report@dpdk.org>; Sat, 30 Mar 2024 11:15:25 -0700 (PDT)
DKIM-Signature: v=1; a=rsa-sha256; c=relaxed/relaxed;
 d=iol.unh.edu; s=unh-iol; t=1711822524; x=1712427324; darn=dpdk.org;
 h=references:in-reply-to:cc:to:from:subject:message-id:date:from:to
 :cc:subject:date:message-id:reply-to;
 bh=4zJu05M8Th4WMbFa1IJrfS6K8xnCtx14KDTD1yfKvc0=;
 b=V2PwtfSIzkvcYGvNGp3NhemVZAQgYL/eoOfdNlVKB2+4ZiaKFGTwS+he4UEQWBeNmm
 hvNLBUraOYtJRGWc9+MHyuYQcIBZLb0j6KEs+jrvU+Xndx7NnUDq6DRE51CMWQML5X3p
 4JdjXY0bLpgYcP6Ohu5U7EydhkOrL+MfaqC0A=
X-Google-DKIM-Signature: v=1; a=rsa-sha256; c=relaxed/relaxed;
 d=1e100.net; s=20230601; t=1711822524; x=1712427324;
 h=references:in-reply-to:cc:to:from:subject:message-id:date
 :x-gm-message-state:from:to:cc:subject:date:message-id:reply-to;
 bh=4zJu05M8Th4WMbFa1IJrfS6K8xnCtx14KDTD1yfKvc0=;
 b=SldRgve+vXaIlsNFkxz14eBNS4fER3xjg9nA95JBPy9WGkzsHqwef55Y4ulNgx1eiK
 szJHYQoJq77FDlUX0Zm8QSHCwYPuyZTnSUxKCajUbxPurAbx3YMpTFqlyVJwqOx0HDWQ
 ldnpEBiYaYDfXHYWCBYRQyNTLRK/lg8YRBRq1Lsx2Y+cs5To7/SLNvBN02mzhA76I3md
 Tid1YVFjT3l+Owt2jZJFI3Y1BwBfnLJQANBiW+ScD3cQBwvrEBdJqxJtW6fjB7rN2fMr
 K4FZjB5X4rxiLuNr55l5YStwbOOu5gk7aEX28VpdpJPsGedTFSzzAl1Gm/L2747UuZad
 qQVQ==
X-Gm-Message-State: AOJu0Yytl2PEDlvlKm8aU6VU6Dfa97HgYGTok7mnS47SAcUkygb/dBP3
 vPB0n4RKvMuN0xn/g96h+QVKwUtEdsaQ4PoV15RDYx0h4iVEFm7AZU1NCADIn3xXguOL+XjRvWC
 1uVXoIL4SNhJorYjMovHj8w6YDZXtfJaGEZQHtjVj
X-Google-Smtp-Source: AGHT+IF6QxSIp9VNI3CH98y9uYD3cunTk1UPAT/nfDpCZYOc1iZg4zWYKrKkEkFqZZySZP4Q/LNH610tAbVm
X-Received: by 2002:a05:6358:2808:b0:183:8bc6:82b with SMTP id
 k8-20020a056358280800b001838bc6082bmr3761839rwb.28.1711822524440; 
 Sat, 30 Mar 2024 11:15:24 -0700 (PDT)
Received: from postal.iol.unh.edu (postal.iol.unh.edu. [132.177.123.84])
 by smtp-relay.gmail.com with ESMTPS id
 s72-20020a25aa4e000000b00dcf59d26e55sm250741ybi.12.2024.03.30.11.15.24
 (version=TLS1_2 cipher=ECDHE-ECDSA-AES128-GCM-SHA256 bits=128/128);
 Sat, 30 Mar 2024 11:15:24 -0700 (PDT)
X-Relaying-Domain: iol.unh.edu
Date: Sat, 30 Mar 2024 11:15:24 -0700 (PDT)
Message-ID: <660856bc.250a0220.f90ad.fac4SMTPIN_ADDED_MISSING@mx.google.com>
Received: from [172.17.0.6] (unknown [172.18.0.217])
 by postal.iol.unh.edu (Postfix) with ESMTP id 12A716052471;
 Sat, 30 Mar 2024 14:15:24 -0400 (EDT)
Subject: |SUCCESS| pw138997-139010 [PATCH] [v20,14/14] log: colorize log outp
From: dpdklab@iol.unh.edu
To: Test Report <test-report@dpdk.org>
Cc: dpdk-test-reports@iol.unh.edu
In-Reply-To: <20240330164433.50144-15-stephen@networkplumber.org>
References: <20240330164433.50144-15-stephen@networkplumber.org>
Content-Type: text/plain
X-BeenThere: test-report@dpdk.org
X-Mailman-Version: 2.1.29
Precedence: list
List-Id: automatic DPDK test reports <test-report.dpdk.org>
List-Unsubscribe: <https://mails.dpdk.org/options/test-report>,
 <mailto:test-report-request@dpdk.org?subject=unsubscribe>
List-Archive: <http://mails.dpdk.org/archives/test-report/>
List-Post: <mailto:test-report@dpdk.org>
List-Help: <mailto:test-report-request@dpdk.org?subject=help>
List-Subscribe: <https://mails.dpdk.org/listinfo/test-report>,
 <mailto:test-report-request@dpdk.org?subject=subscribe>
Errors-To: test-report-bounces@dpdk.org

Test-Label: iol-unit-arm64-testing
Test-Status: SUCCESS
http://dpdk.org/patch/139010

_Testing PASS_

Submitter: Stephen Hemminger <stephen@networkplumber.org>
Date: Saturday, March 30 2024 16:42:25 
DPDK git baseline: Repo:dpdk
  Branch: master
  CommitID:a9778aad62470a38ccbb4e09a2a6bf0cc2e0e36d

138997-139010 --> testing pass

Test environment and result as below:

+-----------------------------+----------------+------------------------------+---------------------------+--------------+
|         Environment         | dpdk_unit_test | cryptodev_sw_snow3g_autotest | cryptodev_sw_zuc_autotest | lpm_autotest |
+=============================+================+==============================+===========================+==============+
| CentOS Stream 9 (ARM)       | PASS           | SKIPPED                      | SKIPPED                   | SKIPPED      |
+-----------------------------+----------------+------------------------------+---------------------------+--------------+
| Debian 12 (arm)             | PASS           | PASS                         | PASS                      | SKIPPED      |
+-----------------------------+----------------+------------------------------+---------------------------+--------------+
| Debian 11 (Buster) (ARM)    | PASS           | SKIPPED                      | SKIPPED                   | SKIPPED      |
+-----------------------------+----------------+------------------------------+---------------------------+--------------+
| Fedora 37 (ARM)             | PASS           | SKIPPED                      | SKIPPED                   | SKIPPED      |
+-----------------------------+----------------+------------------------------+---------------------------+--------------+
| Fedora 38 (ARM)             | PASS           | SKIPPED                      | SKIPPED                   | SKIPPED      |
+-----------------------------+----------------+------------------------------+---------------------------+--------------+
| Fedora 39 (ARM)             | PASS           | SKIPPED                      | SKIPPED                   | SKIPPED      |
+-----------------------------+----------------+------------------------------+---------------------------+--------------+
| 32-bit Ubuntu 20.04.4 (ARM) | PASS           | SKIPPED                      | SKIPPED                   | SKIPPED      |
+-----------------------------+----------------+------------------------------+---------------------------+--------------+
| Ubuntu 20.04 (ARM)          | PASS           | SKIPPED                      | SKIPPED                   | SKIPPED      |
+-----------------------------+----------------+------------------------------+---------------------------+--------------+
| Fedora 38 (ARM Clang)       | PASS           | SKIPPED                      | SKIPPED                   | SKIPPED      |
+-----------------------------+----------------+------------------------------+---------------------------+--------------+
| Fedora 39 (ARM Clang)       | PASS           | SKIPPED                      | SKIPPED                   | SKIPPED      |
+-----------------------------+----------------+------------------------------+---------------------------+--------------+
| Ubuntu 20.04 ARM SVE        | SKIPPED        | SKIPPED                      | SKIPPED                   | PASS         |
+-----------------------------+----------------+------------------------------+---------------------------+--------------+


CentOS Stream 9 (ARM)
	Kernel: Container Host Kernel
	Compiler: gcc 11.4.1

Debian 12 (arm)
	Kernel: Container Host Kernel
	Compiler: gcc 12.2.0

Debian 11 (Buster) (ARM)
	Kernel: Container Host Kernel
	Compiler: gcc 10.2.1

Fedora 37 (ARM)
	Kernel: Depends on container host
	Compiler: gcc 12.3.1

Fedora 38 (ARM)
	Kernel: Depends on container host
	Compiler: gcc 13.2.1

Fedora 39 (ARM)
	Kernel: Depends on container host
	Compiler: gcc 13.2.1

32-bit Ubuntu 20.04.4 (ARM)
	Kernel: 5.4.0-155-generic aarch64
	Compiler: gcc 9.4

Ubuntu 20.04 (ARM)
	Kernel: Container Host Kernel
	Compiler: gcc 9.4.0

Fedora 38 (ARM Clang)
	Kernel: Depends on container host
	Compiler: clang 16.0.6

Fedora 39 (ARM Clang)
	Kernel: Depends on container host
	Compiler: clang 17.0.6

Ubuntu 20.04 ARM SVE
	Kernel: 5.4.0-167-generic
	Compiler: gcc (Ubuntu 10.5.0-1ubuntu1~20.04) 10.5.0

To view detailed results, visit:
https://lab.dpdk.org/results/dashboard/patchsets/29685/

UNH-IOL DPDK Community Lab

To manage your email subscriptions, visit: 
https://lab.dpdk.org/results/dashboard/preferences/subscriptions/