From mboxrd@z Thu Jan  1 00:00:00 1970
Return-Path: <test-report-bounces@dpdk.org>
Received: from mails.dpdk.org (mails.dpdk.org [217.70.189.124])
	by inbox.dpdk.org (Postfix) with ESMTP id 2396543D87
	for <public@inbox.dpdk.org>; Sat, 30 Mar 2024 19:52:15 +0100 (CET)
Received: from mails.dpdk.org (localhost [127.0.0.1])
	by mails.dpdk.org (Postfix) with ESMTP id 1F20F4025E;
	Sat, 30 Mar 2024 19:52:15 +0100 (CET)
Received: from mail-yw1-f228.google.com (mail-yw1-f228.google.com
 [209.85.128.228])
 by mails.dpdk.org (Postfix) with ESMTP id 83FB44021D
 for <test-report@dpdk.org>; Sat, 30 Mar 2024 19:52:13 +0100 (CET)
Received: by mail-yw1-f228.google.com with SMTP id
 00721157ae682-60a068e26d8so29674537b3.3
 for <test-report@dpdk.org>; Sat, 30 Mar 2024 11:52:13 -0700 (PDT)
DKIM-Signature: v=1; a=rsa-sha256; c=relaxed/relaxed;
 d=iol.unh.edu; s=unh-iol; t=1711824733; x=1712429533; darn=dpdk.org;
 h=references:in-reply-to:cc:to:from:subject:message-id:date:from:to
 :cc:subject:date:message-id:reply-to;
 bh=X33lUJAzT2ZGhvmaGMV9f9FgvCjt6dUA+OoxBa3gmWA=;
 b=f2hx31ZVRwwjWEeaSc/XgeRhg/aAltljhmj/cg65eERkG2K1/dYX2F4LMIGFZwG8nM
 6DiWzJeS9F0JpkiBsr19klvOaK8RUuuZul3oHQbWdxixa7S7DzaKN8hwL7oQyG66tLQb
 pTRfUu1+zM701UDSuf/RYg+5jWB3j6NsAOhvU=
X-Google-DKIM-Signature: v=1; a=rsa-sha256; c=relaxed/relaxed;
 d=1e100.net; s=20230601; t=1711824733; x=1712429533;
 h=references:in-reply-to:cc:to:from:subject:message-id:date
 :x-gm-message-state:from:to:cc:subject:date:message-id:reply-to;
 bh=X33lUJAzT2ZGhvmaGMV9f9FgvCjt6dUA+OoxBa3gmWA=;
 b=rZ/xZcw0AacQjIbodKhiS/YqpxheAXwNn4ScdGv6CZwOS6ZDxhBYkjcSxFb0+qqVp9
 tf1OTt4IdVl1f/D0pTGjiwiyanWo4i3TfqBjRFrQaoxgQkAnZqwhq6FO3fiQ8/Ct96YF
 ZjDkypySMzmnpjgbNe/4ZbDSx92sbBquMYv8C9MhERC9QVFT7WjWmYsG7I0ORbHtyZfL
 oo//9zNdMGgtCRaOTB7HSLEF4n40yxlCiFvbNFgBcLxtVD9tFlbY38pqI/oQ+EbqJorl
 uS958J90MexiOMgXqCyp0Nl0pcNovbsuOLGrW9kSGtWoyu2jqdmC4xHZ1ro1uoJviwmy
 wdcA==
X-Gm-Message-State: AOJu0YyyQ9I5QyPcfW7p3od3FwV37YzcWb+Zh6uESHXCwmcKodvY08YI
 79OBQ2ODwTwuunABtR1vTXUmyO6ozdL8FihWzyVbSKzgdnKo0QpQNMrvukOtHUofNtz1ZDw8AO7
 h8s12HM3WAKxXElnvjQwDAQldq1Ef7owONGG9ECYQuMxnsWSw5UkFPwre
X-Google-Smtp-Source: AGHT+IGycAl+ST/vTn5Oy9lCPC2p9r7FfIWR/ZxAHF40IVZG4E++TarCObPeFKQ4Rwa6yykrSa1DWSYilb6S
X-Received: by 2002:a0d:d783:0:b0:60a:16b8:1042 with SMTP id
 z125-20020a0dd783000000b0060a16b81042mr5271091ywd.16.1711824732921; 
 Sat, 30 Mar 2024 11:52:12 -0700 (PDT)
Received: from postal.iol.unh.edu (postal.iol.unh.edu.
 [2606:4100:3880:1234::84]) by smtp-relay.gmail.com with ESMTPS id
 bp9-20020a05690c068900b006143ed51954sm211614ywb.65.2024.03.30.11.52.12
 (version=TLS1_2 cipher=ECDHE-ECDSA-AES128-GCM-SHA256 bits=128/128);
 Sat, 30 Mar 2024 11:52:12 -0700 (PDT)
X-Relaying-Domain: iol.unh.edu
Date: Sat, 30 Mar 2024 11:52:12 -0700 (PDT)
Message-ID: <66085f5c.050a0220.7cf52.cde7SMTPIN_ADDED_MISSING@mx.google.com>
Received: from [172.21.0.6] (unknown [172.18.0.240])
 by postal.iol.unh.edu (Postfix) with ESMTP id 83AFF6052471;
 Sat, 30 Mar 2024 14:52:12 -0400 (EDT)
Subject: |SUCCESS| pw139011 [PATCH] version: 24.07-rc0
From: dpdklab@iol.unh.edu
To: Test Report <test-report@dpdk.org>
Cc: dpdk-test-reports@iol.unh.edu
In-Reply-To: <20240330175437.2169948-1-david.marchand@redhat.com>
References: <20240330175437.2169948-1-david.marchand@redhat.com>
Content-Type: text/plain
X-BeenThere: test-report@dpdk.org
X-Mailman-Version: 2.1.29
Precedence: list
List-Id: automatic DPDK test reports <test-report.dpdk.org>
List-Unsubscribe: <https://mails.dpdk.org/options/test-report>,
 <mailto:test-report-request@dpdk.org?subject=unsubscribe>
List-Archive: <http://mails.dpdk.org/archives/test-report/>
List-Post: <mailto:test-report@dpdk.org>
List-Help: <mailto:test-report-request@dpdk.org?subject=help>
List-Subscribe: <https://mails.dpdk.org/listinfo/test-report>,
 <mailto:test-report-request@dpdk.org?subject=subscribe>
Errors-To: test-report-bounces@dpdk.org

Test-Label: iol-abi-testing
Test-Status: SUCCESS
http://dpdk.org/patch/139011

_Testing PASS_

Submitter: David Marchand <david.marchand@redhat.com>
Date: Saturday, March 30 2024 17:54:37 
DPDK git baseline: Repo:dpdk
  Branch: master
  CommitID:a9778aad62470a38ccbb4e09a2a6bf0cc2e0e36d

139011 --> testing pass

Test environment and result as below:

+------------------+----------+
|   Environment    | abi_test |
+==================+==========+
| Debian 11 (arm)  | PASS     |
+------------------+----------+
| CentOS Stream 8  | PASS     |
+------------------+----------+
| Fedora 38        | PASS     |
+------------------+----------+
| Fedora 39        | PASS     |
+------------------+----------+
| openSUSE Leap 15 | PASS     |
+------------------+----------+
| Debian Bullseye  | PASS     |
+------------------+----------+
| CentOS Stream 9  | PASS     |
+------------------+----------+
| Ubuntu 22.04     | PASS     |
+------------------+----------+
| RHEL8            | PASS     |
+------------------+----------+
| Fedora 37        | PASS     |
+------------------+----------+


Debian 11 (arm)
	Kernel: Container Host Kernel
	Compiler: gcc 10.2.1

CentOS Stream 8
	Kernel: 5.4.0-167-generic
	Compiler: gcc 8.5.0 20210514

Fedora 38
	Kernel: Depends on container host
	Compiler: gcc 13.2.1

Fedora 39
	Kernel: Depends on container host
	Compiler: clang 17.0.6

openSUSE Leap 15
	Kernel: 5.4.0-167-generic
	Compiler: gcc 7.5.0

Debian Bullseye
	Kernel: 5.4.0-167-generic
	Compiler: gcc 10.2.1-6

CentOS Stream 9
	Kernel: 5.4.0-167-generic
	Compiler: gcc 11.4.1 20230605

Ubuntu 22.04
	Kernel: 5.4.0-167-generic
	Compiler: gcc 11.4.0

RHEL8
	Kernel: 5.4.0-167-generic
	Compiler: gcc 8.5.0 20210514 (Red Hat 8.5.0-20)

Fedora 37
	Kernel: Depends on container host system
	Compiler: gcc 12.3.1

To view detailed results, visit:
https://lab.dpdk.org/results/dashboard/patchsets/29686/

UNH-IOL DPDK Community Lab

To manage your email subscriptions, visit: 
https://lab.dpdk.org/results/dashboard/preferences/subscriptions/