From mboxrd@z Thu Jan  1 00:00:00 1970
Return-Path: <test-report-bounces@dpdk.org>
Received: from mails.dpdk.org (mails.dpdk.org [217.70.189.124])
	by inbox.dpdk.org (Postfix) with ESMTP id D6F0543D8D
	for <public@inbox.dpdk.org>; Sat, 30 Mar 2024 20:00:31 +0100 (CET)
Received: from mails.dpdk.org (localhost [127.0.0.1])
	by mails.dpdk.org (Postfix) with ESMTP id D0B1E4025E;
	Sat, 30 Mar 2024 20:00:31 +0100 (CET)
Received: from mail-pg1-f225.google.com (mail-pg1-f225.google.com
 [209.85.215.225])
 by mails.dpdk.org (Postfix) with ESMTP id 52E2D4021D
 for <test-report@dpdk.org>; Sat, 30 Mar 2024 20:00:30 +0100 (CET)
Received: by mail-pg1-f225.google.com with SMTP id
 41be03b00d2f7-517ab9a4a13so2151243a12.1
 for <test-report@dpdk.org>; Sat, 30 Mar 2024 12:00:30 -0700 (PDT)
DKIM-Signature: v=1; a=rsa-sha256; c=relaxed/relaxed;
 d=iol.unh.edu; s=unh-iol; t=1711825229; x=1712430029; darn=dpdk.org;
 h=references:in-reply-to:cc:to:from:subject:message-id:date:from:to
 :cc:subject:date:message-id:reply-to;
 bh=MHTV/iyG9Zj40sw1PhD1pbSkx1J51i9CrasnsFuLoR8=;
 b=ABKbAY0NxKJH6pH4KMfZCePeoozcp//5Ex4VUGeUVz1Zcqy4jxG0eA2HZHxawure0m
 3yTuNj2Kn4g4o4Sr/+nMuAWXdLm3aABFtR3MSh6fEQ5bbdnHSghz42fjHq8NcxOJp25v
 DLBv2NCIUbkxJgN0eKP4ImbRN74M+XipMEPNM=
X-Google-DKIM-Signature: v=1; a=rsa-sha256; c=relaxed/relaxed;
 d=1e100.net; s=20230601; t=1711825229; x=1712430029;
 h=references:in-reply-to:cc:to:from:subject:message-id:date
 :x-gm-message-state:from:to:cc:subject:date:message-id:reply-to;
 bh=MHTV/iyG9Zj40sw1PhD1pbSkx1J51i9CrasnsFuLoR8=;
 b=nLiPnarw/J8pki+208CaDZp8d0MFgUoETFMp3DFW1EsDtyOwDIRy9e5FMuCBZaH75h
 hsOjqI2huc1VFgE/lSt/qO1r/m6/QqF5PH6JeX8YF4RPwLLk9bdoEHNCy6CgA6Vtcdyj
 IHXoyPfJvmxSy4NsG23vI6sqIDJxDmnyiu9p+ixqdQhtktR39yoHPQRWXn9mq8VJ9P0R
 BntG8TIoMRCmPi13DuoqP4+QcWix4L8cYoKbmBzGsuKZpfClevCi2UJzVp1u16VFDnn+
 66fN7/erszznY5qB/OulPj079wNPHxoD8O/OERpveQ5RvTIM+AGkTQZdq2kvT7k09m6l
 ulrA==
X-Gm-Message-State: AOJu0YzPIHtYdo0MoCWcTBIEoCKkRTVtrSb2iMDgigdTJ7eo95bJH4gX
 fbqiavTukb5Sma4lq1IXLkEnpxaeDd0nAY8sIG7qJ1IMKHW9v9+1YZ1rR3N6Ef+zLljRYCU1EZj
 reMwT5uMMBnfXDHa0nltHSjOOkKeEubV+deGSnpRqFKnXRPebBGkr0nRA
X-Google-Smtp-Source: AGHT+IHqfopZQzoTsP12faBpFMmrT5ZlcluVMzKdtO5v4f1xP5wJLYQRUUYGbR49YNwC6J3gocX6TpidrDQN
X-Received: by 2002:a05:6a20:1589:b0:1a3:15e8:7e93 with SMTP id
 h9-20020a056a20158900b001a315e87e93mr6235851pzj.56.1711825229451; 
 Sat, 30 Mar 2024 12:00:29 -0700 (PDT)
Received: from postal.iol.unh.edu (postal.iol.unh.edu.
 [2606:4100:3880:1234::84]) by smtp-relay.gmail.com with ESMTPS id
 w8-20020a631608000000b005dbd0e92e23sm299744pgl.20.2024.03.30.12.00.29
 (version=TLS1_2 cipher=ECDHE-ECDSA-AES128-GCM-SHA256 bits=128/128);
 Sat, 30 Mar 2024 12:00:29 -0700 (PDT)
X-Relaying-Domain: iol.unh.edu
Date: Sat, 30 Mar 2024 12:00:29 -0700 (PDT)
Message-ID: <6608614d.630a0220.ce281.3e51SMTPIN_ADDED_MISSING@mx.google.com>
Received: from [172.21.0.6] (unknown [172.18.0.240])
 by postal.iol.unh.edu (Postfix) with ESMTP id AA4D66052471;
 Sat, 30 Mar 2024 15:00:28 -0400 (EDT)
Subject: |SUCCESS| pw139011 [PATCH] version: 24.07-rc0
From: dpdklab@iol.unh.edu
To: Test Report <test-report@dpdk.org>
Cc: dpdk-test-reports@iol.unh.edu
In-Reply-To: <20240330175437.2169948-1-david.marchand@redhat.com>
References: <20240330175437.2169948-1-david.marchand@redhat.com>
Content-Type: text/plain
X-BeenThere: test-report@dpdk.org
X-Mailman-Version: 2.1.29
Precedence: list
List-Id: automatic DPDK test reports <test-report.dpdk.org>
List-Unsubscribe: <https://mails.dpdk.org/options/test-report>,
 <mailto:test-report-request@dpdk.org?subject=unsubscribe>
List-Archive: <http://mails.dpdk.org/archives/test-report/>
List-Post: <mailto:test-report@dpdk.org>
List-Help: <mailto:test-report-request@dpdk.org?subject=help>
List-Subscribe: <https://mails.dpdk.org/listinfo/test-report>,
 <mailto:test-report-request@dpdk.org?subject=subscribe>
Errors-To: test-report-bounces@dpdk.org

Test-Label: iol-compile-amd64-testing
Test-Status: SUCCESS
http://dpdk.org/patch/139011

_Testing PASS_

Submitter: David Marchand <david.marchand@redhat.com>
Date: Saturday, March 30 2024 17:54:37 
DPDK git baseline: Repo:dpdk
  Branch: master
  CommitID:a9778aad62470a38ccbb4e09a2a6bf0cc2e0e36d

139011 --> testing pass

Test environment and result as below:

+---------------------+--------------------+-------------------+----------------------+
|     Environment     | dpdk_meson_compile | dpdk_msvc_compile | dpdk_mingw64_compile |
+=====================+====================+===================+======================+
| FreeBSD 13.2        | PASS               | SKIPPED           | SKIPPED              |
+---------------------+--------------------+-------------------+----------------------+
| Windows Server 2019 | PASS               | SKIPPED           | PASS                 |
+---------------------+--------------------+-------------------+----------------------+
| Windows Server 2022 | PASS               | PASS              | PASS                 |
+---------------------+--------------------+-------------------+----------------------+
| CentOS Stream 8     | PASS               | SKIPPED           | SKIPPED              |
+---------------------+--------------------+-------------------+----------------------+
| CentOS Stream 9     | PASS               | SKIPPED           | SKIPPED              |
+---------------------+--------------------+-------------------+----------------------+
| Debian Bullseye     | PASS               | SKIPPED           | SKIPPED              |
+---------------------+--------------------+-------------------+----------------------+
| Fedora 37           | PASS               | SKIPPED           | SKIPPED              |
+---------------------+--------------------+-------------------+----------------------+
| Debian 11 (arm)     | PASS               | SKIPPED           | SKIPPED              |
+---------------------+--------------------+-------------------+----------------------+
| openSUSE Leap 15    | PASS               | SKIPPED           | SKIPPED              |
+---------------------+--------------------+-------------------+----------------------+
| Fedora 39           | PASS               | SKIPPED           | SKIPPED              |
+---------------------+--------------------+-------------------+----------------------+
| Ubuntu 22.04        | PASS               | SKIPPED           | SKIPPED              |
+---------------------+--------------------+-------------------+----------------------+
| Fedora 38           | PASS               | SKIPPED           | SKIPPED              |
+---------------------+--------------------+-------------------+----------------------+
| Ubuntu 20.04        | PASS               | SKIPPED           | SKIPPED              |
+---------------------+--------------------+-------------------+----------------------+
| Alpine              | PASS               | SKIPPED           | SKIPPED              |
+---------------------+--------------------+-------------------+----------------------+


FreeBSD 13.2
	Kernel: 13.2
	Compiler: clang 14.0.5

Windows Server 2019
	Kernel: 10.0.17763
	Compiler: clang 14.0 and gcc 8.1.0 (MinGW)

Windows Server 2022
	Kernel: 10.0.20348.2031
	Compiler: clang 15.0.7, gcc 8.1.0 (MinGW), and MSVC VS 17.9

CentOS Stream 8
	Kernel: 5.4.0-167-generic
	Compiler: gcc 8.5.0 20210514

CentOS Stream 9
	Kernel: 5.4.0-167-generic
	Compiler: gcc 11.4.1 20230605

Debian Bullseye
	Kernel: 5.4.0-167-generic
	Compiler: gcc 10.2.1-6

Fedora 37
	Kernel: Depends on container host system
	Compiler: gcc 12.3.1

Debian 11 (arm)
	Kernel: Container Host Kernel
	Compiler: gcc 10.2.1

openSUSE Leap 15
	Kernel: 5.4.0-167-generic
	Compiler: gcc 7.5.0

Fedora 39
	Kernel: Depends on container host
	Compiler: gcc 13.2.1

Ubuntu 22.04
	Kernel: 5.4.0-167-generic
	Compiler: gcc 11.4.0

Fedora 38
	Kernel: Depends on container host
	Compiler: clang 16.0.6

Ubuntu 20.04
	Kernel: 5.4.0-167-generic
	Compiler: gcc 9.4.0-1ubuntu1~20.04.1

Alpine
	Kernel: 5.4.0-167-generic
	Compiler: gcc (Alpine 12.2.1_git20220924-r10) 12.2.1 20220924

To view detailed results, visit:
https://lab.dpdk.org/results/dashboard/patchsets/29686/

UNH-IOL DPDK Community Lab

To manage your email subscriptions, visit: 
https://lab.dpdk.org/results/dashboard/preferences/subscriptions/