From mboxrd@z Thu Jan  1 00:00:00 1970
Return-Path: <test-report-bounces@dpdk.org>
Received: from mails.dpdk.org (mails.dpdk.org [217.70.189.124])
	by inbox.dpdk.org (Postfix) with ESMTP id CC11F43D7E
	for <public@inbox.dpdk.org>; Sat, 30 Mar 2024 20:34:25 +0100 (CET)
Received: from mails.dpdk.org (localhost [127.0.0.1])
	by mails.dpdk.org (Postfix) with ESMTP id A7DBC4025E;
	Sat, 30 Mar 2024 20:34:25 +0100 (CET)
Received: from mail-yw1-f227.google.com (mail-yw1-f227.google.com
 [209.85.128.227])
 by mails.dpdk.org (Postfix) with ESMTP id D95C34021D
 for <test-report@dpdk.org>; Sat, 30 Mar 2024 20:34:24 +0100 (CET)
Received: by mail-yw1-f227.google.com with SMTP id
 00721157ae682-6143266c9ddso21212237b3.1
 for <test-report@dpdk.org>; Sat, 30 Mar 2024 12:34:24 -0700 (PDT)
DKIM-Signature: v=1; a=rsa-sha256; c=relaxed/relaxed;
 d=iol.unh.edu; s=unh-iol; t=1711827264; x=1712432064; darn=dpdk.org;
 h=references:in-reply-to:cc:to:from:subject:message-id:date:from:to
 :cc:subject:date:message-id:reply-to;
 bh=krPqud9tsoEZVBBSSjdeBI9HtXTTEN7QUL1SIwPjQ48=;
 b=gBXL0qWohZ8kg2pMYBqCJoy7ZaEJRBXOWd62G/hjjlEZGqfh6U8qmXiGErnhJdmS7a
 YTj2avWFOB5qVyjqUPiLqyimB7aGOG0AMHLl04hSnoxQ45Q35SYC9H11YPvI27AbcYV5
 SIytr4mabV4qbjQEUTDQXDQ4iszAJne286gTo=
X-Google-DKIM-Signature: v=1; a=rsa-sha256; c=relaxed/relaxed;
 d=1e100.net; s=20230601; t=1711827264; x=1712432064;
 h=references:in-reply-to:cc:to:from:subject:message-id:date
 :x-gm-message-state:from:to:cc:subject:date:message-id:reply-to;
 bh=krPqud9tsoEZVBBSSjdeBI9HtXTTEN7QUL1SIwPjQ48=;
 b=vUDgxHEFEykFwgvdYzYhGjp22Qtyfc2QvFN1uLQc76U8nxzsIr5E+e9wLtL3I5HWxW
 KZSNXiykR783PRrOIQjNuZtmgtcHnp63zSbJU2K3Wu/mGZgI55zcGnGAmh4aG5zBIzQi
 hOlfCZt2hGkxJFHhI69h6w0rwbikDcA81wFI4q/4l/TbXzk3Yx62wIpHnvPw2v1s7TE2
 TBksONMcs6PoIGAQR5DSU+5B0LHp5J+H6hUBbpwWOF7S7b9NhwouuLScPFHPrUuZSuxR
 g/Huxw23HFrCqmjmF4Fyxs2h5pZ5TAo7cpnj4Ue/yWeFIotOKMOaehla/ZzBe2Uq5IMn
 QmGA==
X-Gm-Message-State: AOJu0YwqrCFa6UEKKu7F4/qQDSjwwqRU4mz2jFt5Aa0KpovnWWGljoWB
 VLxW1j94u+5vfSQOWl8/69HmmhxGg9uVjExJlqFSWHm5NLkBC7qzBB3P++A74viUB3wsPNu7Nuf
 PAFD8vsvGLED+DsEEGqf/s8fGMCfhNftIzVrO5eh2
X-Google-Smtp-Source: AGHT+IG/soRM/yPq5nZtu+gavKLIKX2zTKDBAPxB1D52sQk81ezF3m0TtL3LwCameh5Kzy89EZpzxhFNCVQD
X-Received: by 2002:a0d:e505:0:b0:609:efe8:2bfc with SMTP id
 o5-20020a0de505000000b00609efe82bfcmr5811922ywe.27.1711827263734; 
 Sat, 30 Mar 2024 12:34:23 -0700 (PDT)
Received: from postal.iol.unh.edu (postal.iol.unh.edu. [132.177.123.84])
 by smtp-relay.gmail.com with ESMTPS id
 fr2-20020a05690c358200b00607ff01e35bsm283705ywb.15.2024.03.30.12.34.23
 (version=TLS1_2 cipher=ECDHE-ECDSA-AES128-GCM-SHA256 bits=128/128);
 Sat, 30 Mar 2024 12:34:23 -0700 (PDT)
X-Relaying-Domain: iol.unh.edu
Date: Sat, 30 Mar 2024 12:34:23 -0700 (PDT)
Message-ID: <6608693f.050a0220.38ea7.0c4dSMTPIN_ADDED_MISSING@mx.google.com>
Received: from [172.17.0.6] (unknown [172.18.0.217])
 by postal.iol.unh.edu (Postfix) with ESMTP id 57A026052471;
 Sat, 30 Mar 2024 15:34:23 -0400 (EDT)
Subject: |SUCCESS| pw139011 [PATCH] version: 24.07-rc0
From: dpdklab@iol.unh.edu
To: Test Report <test-report@dpdk.org>
Cc: dpdk-test-reports@iol.unh.edu
In-Reply-To: <20240330175437.2169948-1-david.marchand@redhat.com>
References: <20240330175437.2169948-1-david.marchand@redhat.com>
Content-Type: text/plain
X-BeenThere: test-report@dpdk.org
X-Mailman-Version: 2.1.29
Precedence: list
List-Id: automatic DPDK test reports <test-report.dpdk.org>
List-Unsubscribe: <https://mails.dpdk.org/options/test-report>,
 <mailto:test-report-request@dpdk.org?subject=unsubscribe>
List-Archive: <http://mails.dpdk.org/archives/test-report/>
List-Post: <mailto:test-report@dpdk.org>
List-Help: <mailto:test-report-request@dpdk.org?subject=help>
List-Subscribe: <https://mails.dpdk.org/listinfo/test-report>,
 <mailto:test-report-request@dpdk.org?subject=subscribe>
Errors-To: test-report-bounces@dpdk.org

Test-Label: iol-unit-amd64-testing
Test-Status: SUCCESS
http://dpdk.org/patch/139011

_Testing PASS_

Submitter: David Marchand <david.marchand@redhat.com>
Date: Saturday, March 30 2024 17:54:37 
DPDK git baseline: Repo:dpdk
  Branch: master
  CommitID:a9778aad62470a38ccbb4e09a2a6bf0cc2e0e36d

139011 --> testing pass

Test environment and result as below:

+---------------------+----------------+
|     Environment     | dpdk_unit_test |
+=====================+================+
| Windows Server 2019 | PASS           |
+---------------------+----------------+
| CentOS Stream 9     | PASS           |
+---------------------+----------------+
| CentOS Stream 8     | PASS           |
+---------------------+----------------+
| Debian Bullseye     | PASS           |
+---------------------+----------------+
| Windows Server 2022 | PASS           |
+---------------------+----------------+
| Fedora 37           | PASS           |
+---------------------+----------------+
| Fedora 38           | PASS           |
+---------------------+----------------+
| Debian 11 (arm)     | PASS           |
+---------------------+----------------+
| Fedora 39           | PASS           |
+---------------------+----------------+
| Ubuntu 20.04        | PASS           |
+---------------------+----------------+
| RHEL8               | PASS           |
+---------------------+----------------+
| openSUSE Leap 15    | PASS           |
+---------------------+----------------+


Windows Server 2019
	Kernel: 10.0.17763
	Compiler: clang 14.0 and gcc 8.1.0 (MinGW)

CentOS Stream 9
	Kernel: 5.4.0-167-generic
	Compiler: gcc 11.4.1 20230605

CentOS Stream 8
	Kernel: 5.4.0-167-generic
	Compiler: gcc 8.5.0 20210514

Debian Bullseye
	Kernel: 5.4.0-167-generic
	Compiler: gcc 10.2.1-6

Windows Server 2022
	Kernel: 10.0.20348.2031
	Compiler: clang 15.0.7, gcc 8.1.0 (MinGW), and MSVC VS 17.9

Fedora 37
	Kernel: Depends on container host system
	Compiler: gcc 12.3.1

Fedora 38
	Kernel: Depends on container host
	Compiler: gcc 13.2.1

Debian 11 (arm)
	Kernel: Container Host Kernel
	Compiler: gcc 10.2.1

Fedora 39
	Kernel: Depends on container host
	Compiler: clang 17.0.6

Ubuntu 20.04
	Kernel: 5.4.0-167-generic
	Compiler: gcc 9.4.0-1ubuntu1~20.04.1

RHEL8
	Kernel: 5.4.0-167-generic
	Compiler: gcc 8.5.0 20210514 (Red Hat 8.5.0-20)

openSUSE Leap 15
	Kernel: 5.4.0-167-generic
	Compiler: gcc 7.5.0

To view detailed results, visit:
https://lab.dpdk.org/results/dashboard/patchsets/29686/

UNH-IOL DPDK Community Lab

To manage your email subscriptions, visit: 
https://lab.dpdk.org/results/dashboard/preferences/subscriptions/