From mboxrd@z Thu Jan  1 00:00:00 1970
Return-Path: <test-report-bounces@dpdk.org>
Received: from mails.dpdk.org (mails.dpdk.org [217.70.189.124])
	by inbox.dpdk.org (Postfix) with ESMTP id DF9C243D8E
	for <public@inbox.dpdk.org>; Sat, 30 Mar 2024 22:34:07 +0100 (CET)
Received: from mails.dpdk.org (localhost [127.0.0.1])
	by mails.dpdk.org (Postfix) with ESMTP id B8A1E4025E;
	Sat, 30 Mar 2024 22:34:07 +0100 (CET)
Received: from mail-oa1-f98.google.com (mail-oa1-f98.google.com
 [209.85.160.98]) by mails.dpdk.org (Postfix) with ESMTP id 02EF14021D
 for <test-report@dpdk.org>; Sat, 30 Mar 2024 22:34:05 +0100 (CET)
Received: by mail-oa1-f98.google.com with SMTP id
 586e51a60fabf-22200c78d4fso1533897fac.1
 for <test-report@dpdk.org>; Sat, 30 Mar 2024 14:34:05 -0700 (PDT)
DKIM-Signature: v=1; a=rsa-sha256; c=relaxed/relaxed;
 d=iol.unh.edu; s=unh-iol; t=1711834445; x=1712439245; darn=dpdk.org;
 h=references:in-reply-to:cc:to:from:subject:message-id:date:from:to
 :cc:subject:date:message-id:reply-to;
 bh=q9YFcOlV766k5Q/Un7hoefln4PmBQ1dlVoRl9mdF7+4=;
 b=AeCnkuUinOcbmUeVmCAN6DpJwacwgf6w1GrjV8Ab529gaZzc/DPmWdPtidY96CERKK
 Q6jZ4hgaBgpUQyj4WprTNcZWii2kLBCgejLykNyp4xnTy65NM/gWJrmc/qeRhS58oYT9
 IH8Pg2cfajDRMf0l3oy0b16WmViQmfSAc3STs=
X-Google-DKIM-Signature: v=1; a=rsa-sha256; c=relaxed/relaxed;
 d=1e100.net; s=20230601; t=1711834445; x=1712439245;
 h=references:in-reply-to:cc:to:from:subject:message-id:date
 :x-gm-message-state:from:to:cc:subject:date:message-id:reply-to;
 bh=q9YFcOlV766k5Q/Un7hoefln4PmBQ1dlVoRl9mdF7+4=;
 b=EtDPwS1FutqcKNSgm81iZ7IJHZw6Nq/ZwUv4HvED5wsDUfpRrAh/qSIo+z2XrtEBM/
 2rPdXbtuSLJ8DJUU0Qurv+cBABS3L0mRIHifv4ElPRmQb9JmK1O1YrjwvGDGgkZqiVkh
 Ex05jGqLxyWrqGxH/JrwkPV31IE92I4hQLOG21+7o3pNJz9xyG1II6WvqOIDYQuShcj/
 Buh3KLS7nthY6f7YOj0/e5oamcWONJKSLkvU4Qv2TlkcznjFCIVP6LfNLbHACo4LQRJz
 XLzAsVYSUkHb8g4Y/FDXsT+7c8pAk0Lek/m/jngpCZKsx3oIK9sGCtLxb8xly3QlRdr6
 0fIA==
X-Gm-Message-State: AOJu0YyBhRnRHNggJxuaE2CkvTAZlJkSZqzB26QY3qyjfava+Lf4m6Up
 tbBje8YufoqTnqhcMZLw93LBrZRJfe2ZIddFcAfU0lPVke775a10a4pYCToVJ7B0IWBCe8a6ymE
 bC8/cbWOkQbfYFa4DESnT/+E2MX0ItlP+4aSM/kJ5
X-Google-Smtp-Source: AGHT+IEutc730Vm4XNYa9e9kLEqzfICk0XFKchykzL+X3uy61m7YIz6h7/eqUgzP8t9yxtuNVpw/2Qopw3Z9
X-Received: by 2002:a05:6871:a40f:b0:21e:6b95:fb2d with SMTP id
 vz15-20020a056871a40f00b0021e6b95fb2dmr5563847oab.18.1711834445116; 
 Sat, 30 Mar 2024 14:34:05 -0700 (PDT)
Received: from postal.iol.unh.edu (postal.iol.unh.edu. [132.177.123.84])
 by smtp-relay.gmail.com with ESMTPS id
 6-20020a056870104600b0022e07198689sm81371oaj.32.2024.03.30.14.34.05
 (version=TLS1_2 cipher=ECDHE-ECDSA-AES128-GCM-SHA256 bits=128/128);
 Sat, 30 Mar 2024 14:34:05 -0700 (PDT)
X-Relaying-Domain: iol.unh.edu
Date: Sat, 30 Mar 2024 14:34:05 -0700 (PDT)
Message-ID: <6608854d.050a0220.95939.462eSMTPIN_ADDED_MISSING@mx.google.com>
Received: from [172.17.0.6] (unknown [172.18.0.217])
 by postal.iol.unh.edu (Postfix) with ESMTP id 8D6B16052471;
 Sat, 30 Mar 2024 17:34:04 -0400 (EDT)
Subject: |SUCCESS| pw139011 [PATCH] version: 24.07-rc0
From: dpdklab@iol.unh.edu
To: Test Report <test-report@dpdk.org>
Cc: dpdk-test-reports@iol.unh.edu
In-Reply-To: <20240330175437.2169948-1-david.marchand@redhat.com>
References: <20240330175437.2169948-1-david.marchand@redhat.com>
Content-Type: text/plain
X-BeenThere: test-report@dpdk.org
X-Mailman-Version: 2.1.29
Precedence: list
List-Id: automatic DPDK test reports <test-report.dpdk.org>
List-Unsubscribe: <https://mails.dpdk.org/options/test-report>,
 <mailto:test-report-request@dpdk.org?subject=unsubscribe>
List-Archive: <http://mails.dpdk.org/archives/test-report/>
List-Post: <mailto:test-report@dpdk.org>
List-Help: <mailto:test-report-request@dpdk.org?subject=help>
List-Subscribe: <https://mails.dpdk.org/listinfo/test-report>,
 <mailto:test-report-request@dpdk.org?subject=subscribe>
Errors-To: test-report-bounces@dpdk.org

Test-Label: iol-compile-arm64-testing
Test-Status: SUCCESS
http://dpdk.org/patch/139011

_Testing PASS_

Submitter: David Marchand <david.marchand@redhat.com>
Date: Saturday, March 30 2024 17:54:37 
DPDK git baseline: Repo:dpdk
  Branch: master
  CommitID:a9778aad62470a38ccbb4e09a2a6bf0cc2e0e36d

139011 --> testing pass

Test environment and result as below:

+----------------------------------------+--------------------+
|              Environment               | dpdk_meson_compile |
+========================================+====================+
| Ubuntu 20.04 ARM SVE                   | PASS               |
+----------------------------------------+--------------------+
| Debian 12 with MUSDK                   | PASS               |
+----------------------------------------+--------------------+
| Fedora 39 (ARM)                        | PASS               |
+----------------------------------------+--------------------+
| Fedora 37 (ARM)                        | PASS               |
+----------------------------------------+--------------------+
| Debian 11 (Buster) (ARM)               | PASS               |
+----------------------------------------+--------------------+
| Ubuntu 20.04 ARM GCC Cross Compile     | PASS               |
+----------------------------------------+--------------------+
| Ubuntu 20.04 aarch32 GCC Cross Compile | PASS               |
+----------------------------------------+--------------------+
| Ubuntu 20.04 (ARM)                     | PASS               |
+----------------------------------------+--------------------+
| Ubuntu 20.04 ARM Clang Cross Compile   | PASS               |
+----------------------------------------+--------------------+
| Fedora 38 (ARM)                        | PASS               |
+----------------------------------------+--------------------+
| CentOS Stream 9 (ARM)                  | PASS               |
+----------------------------------------+--------------------+
| Debian 12 (arm)                        | PASS               |
+----------------------------------------+--------------------+
| Fedora 39 (ARM Clang)                  | PASS               |
+----------------------------------------+--------------------+
| Fedora 38 (ARM Clang)                  | PASS               |
+----------------------------------------+--------------------+


Ubuntu 20.04 ARM SVE
	Kernel: 5.4.0-167-generic
	Compiler: gcc (Ubuntu 10.5.0-1ubuntu1~20.04) 10.5.0

Debian 12 with MUSDK
	Kernel: Container Host Kernel
	Compiler: gcc 12.2.0

Fedora 39 (ARM)
	Kernel: Depends on container host
	Compiler: gcc 13.2.1

Fedora 37 (ARM)
	Kernel: Depends on container host
	Compiler: gcc 12.3.1

Debian 11 (Buster) (ARM)
	Kernel: Container Host Kernel
	Compiler: gcc 10.2.1

Ubuntu 20.04 ARM GCC Cross Compile
	Kernel: 5.4.0-167-generic
	Compiler: aarch64-linux-gnu-gcc (Ubuntu 9.4.0-1ubuntu1~20.04.2) 9.4.0

Ubuntu 20.04 aarch32 GCC Cross Compile
	Kernel: 5.4.0-167-generic
	Compiler: gcc 9.4.0

Ubuntu 20.04 (ARM)
	Kernel: Container Host Kernel
	Compiler: gcc 9.4.0

Ubuntu 20.04 ARM Clang Cross Compile
	Kernel: 5.4.0-72-generic
	Compiler: clang 10.0.0-4ubuntu1

Fedora 38 (ARM)
	Kernel: Depends on container host
	Compiler: gcc 13.2.1

CentOS Stream 9 (ARM)
	Kernel: Container Host Kernel
	Compiler: gcc 11.4.1

Debian 12 (arm)
	Kernel: Container Host Kernel
	Compiler: gcc 12.2.0

Fedora 39 (ARM Clang)
	Kernel: Depends on container host
	Compiler: clang 17.0.6

Fedora 38 (ARM Clang)
	Kernel: Depends on container host
	Compiler: clang 16.0.6

To view detailed results, visit:
https://lab.dpdk.org/results/dashboard/patchsets/29686/

UNH-IOL DPDK Community Lab

To manage your email subscriptions, visit: 
https://lab.dpdk.org/results/dashboard/preferences/subscriptions/