From mboxrd@z Thu Jan  1 00:00:00 1970
Return-Path: <test-report-bounces@dpdk.org>
Received: from mails.dpdk.org (mails.dpdk.org [217.70.189.124])
	by inbox.dpdk.org (Postfix) with ESMTP id C0EBA43D9C
	for <public@inbox.dpdk.org>; Mon,  1 Apr 2024 04:19:59 +0200 (CEST)
Received: from mails.dpdk.org (localhost [127.0.0.1])
	by mails.dpdk.org (Postfix) with ESMTP id BCCE84026F;
	Mon,  1 Apr 2024 04:19:59 +0200 (CEST)
Received: from mail-ot1-f98.google.com (mail-ot1-f98.google.com
 [209.85.210.98]) by mails.dpdk.org (Postfix) with ESMTP id EACCA40265
 for <test-report@dpdk.org>; Mon,  1 Apr 2024 04:19:57 +0200 (CEST)
Received: by mail-ot1-f98.google.com with SMTP id
 46e09a7af769-6e6ff4e1e97so2415641a34.3
 for <test-report@dpdk.org>; Sun, 31 Mar 2024 19:19:57 -0700 (PDT)
DKIM-Signature: v=1; a=rsa-sha256; c=relaxed/relaxed;
 d=iol.unh.edu; s=unh-iol; t=1711937997; x=1712542797; darn=dpdk.org;
 h=references:in-reply-to:cc:to:from:subject:message-id:date:from:to
 :cc:subject:date:message-id:reply-to;
 bh=NsoJ2XMhuB5xHBdnlC0q1xxv9TGhozt8XZOiPnHCZzg=;
 b=DM36U34KvU2+8zion3n0HSMZIbSe+Xft9HG7OWFMzqItcOpNF3yM1Rgz32iJELif2g
 pDflcMgZxiDnnwTK63Ss//lNm26C2qa4ksxHG3DESLeBJ3BkpaFd+HNHmXODr71qRyCA
 pRIlZebzr7ZNFd5L1ZbFDlDI+M5L+o+23O5rE=
X-Google-DKIM-Signature: v=1; a=rsa-sha256; c=relaxed/relaxed;
 d=1e100.net; s=20230601; t=1711937997; x=1712542797;
 h=references:in-reply-to:cc:to:from:subject:message-id:date
 :x-gm-message-state:from:to:cc:subject:date:message-id:reply-to;
 bh=NsoJ2XMhuB5xHBdnlC0q1xxv9TGhozt8XZOiPnHCZzg=;
 b=hv/PWk89PfnbMcUdBx0n8/uBNLCZELXA85x5Z9Vly8nUyfGGy1WKvXPKx05m2PSBZu
 o4+61Sf57h03IYDVDSmM34a7SIPnV23vrGR31fAO4vzS2tCtAUkrVb3gsbURlWkKtt7H
 4FbPSPXHTKA0vdPwLysxvSp2wTRVO6+0cHo1FvcHPh8murfYn199vJhorvD3aOPPEdpE
 ZDY5yo5hLe1hkZh0NLvyPnlZ1U4CmqtgwT+AJ1ZgJfeZ52x/dSe0VovlG8RYSeBnLDt6
 3PgaApWLcTvIXmJReBo0Td+OtMEm2clVMGnRek+2ojHrzd+Pqm3XZqzMoWt1GCECuEWb
 syCg==
X-Gm-Message-State: AOJu0Yzd0edY2yWEXlIz4hvMUssNod5ZNQ2qvDaVEmHv672EnQzsjK+f
 3Z+mU6bdlpaMuT4uervMIF+BY4+g81I0Ui5sb10ie5AEcAu5DpSOd+Tzr0Y90BusfCX1qxCb0Pr
 BJvf/eqn6n1etpMvLiok+LIt9eSsqt644V61w76Q+
X-Google-Smtp-Source: AGHT+IFVhGdu3LRThnfZdyykGYOm8QYy47OWAH9a0dwwWrK6QR69aIEiS65fdpBPMo++x+bHZMcoTnv3SAlE
X-Received: by 2002:a05:6808:2023:b0:3c3:8822:dc36 with SMTP id
 q35-20020a056808202300b003c38822dc36mr10719148oiw.28.1711937997278; 
 Sun, 31 Mar 2024 19:19:57 -0700 (PDT)
Received: from postal.iol.unh.edu (postal.iol.unh.edu. [132.177.123.84])
 by smtp-relay.gmail.com with ESMTPS id
 b19-20020a056a000a9300b006eadf76b5d1sm539074pfl.26.2024.03.31.19.19.57
 (version=TLS1_2 cipher=ECDHE-ECDSA-AES128-GCM-SHA256 bits=128/128);
 Sun, 31 Mar 2024 19:19:57 -0700 (PDT)
X-Relaying-Domain: iol.unh.edu
Date: Sun, 31 Mar 2024 19:19:57 -0700 (PDT)
Message-ID: <660a19cd.050a0220.a264d.11c4SMTPIN_ADDED_MISSING@mx.google.com>
Received: from [172.21.0.6] (unknown [172.18.0.240])
 by postal.iol.unh.edu (Postfix) with ESMTP id 3A7736052471;
 Sun, 31 Mar 2024 22:19:56 -0400 (EDT)
Subject: |SUCCESS| pw139012-139013 [PATCH] [v1,2/2] deque: add unit tests for
From: dpdklab@iol.unh.edu
To: Test Report <test-report@dpdk.org>
Cc: dpdk-test-reports@iol.unh.edu
In-Reply-To: <20240401013729.1466298-3-aditya.ambadipudi@arm.com>
References: <20240401013729.1466298-3-aditya.ambadipudi@arm.com>
Content-Type: text/plain
X-BeenThere: test-report@dpdk.org
X-Mailman-Version: 2.1.29
Precedence: list
List-Id: automatic DPDK test reports <test-report.dpdk.org>
List-Unsubscribe: <https://mails.dpdk.org/options/test-report>,
 <mailto:test-report-request@dpdk.org?subject=unsubscribe>
List-Archive: <http://mails.dpdk.org/archives/test-report/>
List-Post: <mailto:test-report@dpdk.org>
List-Help: <mailto:test-report-request@dpdk.org?subject=help>
List-Subscribe: <https://mails.dpdk.org/listinfo/test-report>,
 <mailto:test-report-request@dpdk.org?subject=subscribe>
Errors-To: test-report-bounces@dpdk.org

Test-Label: iol-compile-amd64-testing
Test-Status: SUCCESS
http://dpdk.org/patch/139013

_Testing PASS_

Submitter: Aditya Ambadipudi <aditya.ambadipudi@arm.com>
Date: Monday, April 01 2024 01:37:29 
DPDK git baseline: Repo:dpdk
  Branch: master
  CommitID:a9778aad62470a38ccbb4e09a2a6bf0cc2e0e36d

139012-139013 --> testing pass

Test environment and result as below:

+---------------------+--------------------+-------------------+----------------------+
|     Environment     | dpdk_meson_compile | dpdk_msvc_compile | dpdk_mingw64_compile |
+=====================+====================+===================+======================+
| FreeBSD 13.2        | PASS               | SKIPPED           | SKIPPED              |
+---------------------+--------------------+-------------------+----------------------+
| Windows Server 2019 | PASS               | SKIPPED           | PASS                 |
+---------------------+--------------------+-------------------+----------------------+
| Windows Server 2022 | PASS               | PASS              | PASS                 |
+---------------------+--------------------+-------------------+----------------------+
| CentOS Stream 8     | PASS               | SKIPPED           | SKIPPED              |
+---------------------+--------------------+-------------------+----------------------+
| CentOS Stream 9     | PASS               | SKIPPED           | SKIPPED              |
+---------------------+--------------------+-------------------+----------------------+
| Debian Bullseye     | PASS               | SKIPPED           | SKIPPED              |
+---------------------+--------------------+-------------------+----------------------+
| Fedora 37           | PASS               | SKIPPED           | SKIPPED              |
+---------------------+--------------------+-------------------+----------------------+


FreeBSD 13.2
	Kernel: 13.2
	Compiler: clang 14.0.5

Windows Server 2019
	Kernel: 10.0.17763
	Compiler: clang 14.0 and gcc 8.1.0 (MinGW)

Windows Server 2022
	Kernel: 10.0.20348.2031
	Compiler: clang 15.0.7, gcc 8.1.0 (MinGW), and MSVC VS 17.9

CentOS Stream 8
	Kernel: 5.4.0-167-generic
	Compiler: gcc 8.5.0 20210514

CentOS Stream 9
	Kernel: 5.4.0-167-generic
	Compiler: gcc 11.4.1 20230605

Debian Bullseye
	Kernel: 5.4.0-167-generic
	Compiler: gcc 10.2.1-6

Fedora 37
	Kernel: Depends on container host system
	Compiler: gcc 12.3.1

To view detailed results, visit:
https://lab.dpdk.org/results/dashboard/patchsets/29687/

UNH-IOL DPDK Community Lab

To manage your email subscriptions, visit: 
https://lab.dpdk.org/results/dashboard/preferences/subscriptions/