From mboxrd@z Thu Jan  1 00:00:00 1970
Return-Path: <test-report-bounces@dpdk.org>
Received: from mails.dpdk.org (mails.dpdk.org [217.70.189.124])
	by inbox.dpdk.org (Postfix) with ESMTP id 84FEB43D9C
	for <public@inbox.dpdk.org>; Mon,  1 Apr 2024 04:26:20 +0200 (CEST)
Received: from mails.dpdk.org (localhost [127.0.0.1])
	by mails.dpdk.org (Postfix) with ESMTP id 7F68B4026F;
	Mon,  1 Apr 2024 04:26:20 +0200 (CEST)
Received: from mail-io1-f99.google.com (mail-io1-f99.google.com
 [209.85.166.99]) by mails.dpdk.org (Postfix) with ESMTP id 3F7C140265
 for <test-report@dpdk.org>; Mon,  1 Apr 2024 04:26:18 +0200 (CEST)
Received: by mail-io1-f99.google.com with SMTP id
 ca18e2360f4ac-7d0bc7ce8d3so66173239f.0
 for <test-report@dpdk.org>; Sun, 31 Mar 2024 19:26:18 -0700 (PDT)
DKIM-Signature: v=1; a=rsa-sha256; c=relaxed/relaxed;
 d=iol.unh.edu; s=unh-iol; t=1711938377; x=1712543177; darn=dpdk.org;
 h=references:in-reply-to:cc:to:from:subject:message-id:date:from:to
 :cc:subject:date:message-id:reply-to;
 bh=xoFRWihAYqLluG7SP2MpDDz61Fzbx6dilHGjHjLbRcY=;
 b=GtLgMG6EqVO8inWj+zMvSTCYOvbhTAnWLJUn2agbrN5zUqzGGO9asWebtpdoXY+dbr
 iSOSY0R9OkAwHRGFXEJ7r10NaFdny05Y4oFhiNtztl8LlzsK1HgciwyJ0/eL3qCZO3PM
 s0tDCgmTXH0NH4RCZY4IgCpWHB0bgpTxXG068=
X-Google-DKIM-Signature: v=1; a=rsa-sha256; c=relaxed/relaxed;
 d=1e100.net; s=20230601; t=1711938377; x=1712543177;
 h=references:in-reply-to:cc:to:from:subject:message-id:date
 :x-gm-message-state:from:to:cc:subject:date:message-id:reply-to;
 bh=xoFRWihAYqLluG7SP2MpDDz61Fzbx6dilHGjHjLbRcY=;
 b=uiFvXOnr5YuKAxE9Qa4BZ7Vweu5LdA9+fC916hKRts3Hl8p+bLXXCCiypJMzlkCpfY
 Ft/aVcASiotURbxYYYHmHAObjhWjxixCFEwRXdtTau3cGbBn19kmh3YE71jHOwSVdrOa
 chQuaHVN6u7K/W1NPXCC+h8ObSonSGVz4mCOP2cPUGGRhyJogEUa1crFC5JXCV8nr/FR
 XtuT5n2YBhk1XBXCGrFW7IdESDlMrbSkODjUtKOwzvp7WfzXCvEravukdbAUvRHHVLRc
 VM6yO9Uw2pFBAKDxNZpYV3lkSEVoGEL3avDrQ18Dnz8Pwbq164qjhkDK8teOgu2Loaq+
 6m8g==
X-Gm-Message-State: AOJu0YyUbbNZeLV2ul2BUY9g5hmf9RkZpw+KadYrmtg9rps972Qv3Cgu
 B4ZmDuwWAbCKeBJI2/ynOINhw+V3EaO7x71FMfB4E9N0K7DrF7Xc4io0Ae+G7Ga0GFqlUEDgbAn
 ZVVy9vy1js9+ufGDVQOubP/1kzl6/epTCySjA5mLE
X-Google-Smtp-Source: AGHT+IGK7NqHWUu1JPzg6i+pvcLFMiKmRCWa9o+APa8UxLVkJf7uaQmMlwmO9VGAX5MlLQ8FcQNvtJvmES4H
X-Received: by 2002:a05:6e02:188f:b0:368:d130:a71f with SMTP id
 o15-20020a056e02188f00b00368d130a71fmr11125311ilu.0.1711938377659; 
 Sun, 31 Mar 2024 19:26:17 -0700 (PDT)
Received: from postal.iol.unh.edu (postal.iol.unh.edu. [132.177.123.84])
 by smtp-relay.gmail.com with ESMTPS id
 x5-20020a056e02194500b0036600e969b6sm415189ilu.66.2024.03.31.19.26.17
 (version=TLS1_2 cipher=ECDHE-ECDSA-AES128-GCM-SHA256 bits=128/128);
 Sun, 31 Mar 2024 19:26:17 -0700 (PDT)
X-Relaying-Domain: iol.unh.edu
Date: Sun, 31 Mar 2024 19:26:17 -0700 (PDT)
Message-ID: <660a1b49.050a0220.d813f.821cSMTPIN_ADDED_MISSING@mx.google.com>
Received: from [172.21.0.6] (unknown [172.18.0.240])
 by postal.iol.unh.edu (Postfix) with ESMTP id 2C3F66052471;
 Sun, 31 Mar 2024 22:26:17 -0400 (EDT)
Subject: |SUCCESS| pw139012-139013 [PATCH] [v1,2/2] deque: add unit tests for
From: dpdklab@iol.unh.edu
To: Test Report <test-report@dpdk.org>
Cc: dpdk-test-reports@iol.unh.edu
In-Reply-To: <20240401013729.1466298-3-aditya.ambadipudi@arm.com>
References: <20240401013729.1466298-3-aditya.ambadipudi@arm.com>
Content-Type: text/plain
X-BeenThere: test-report@dpdk.org
X-Mailman-Version: 2.1.29
Precedence: list
List-Id: automatic DPDK test reports <test-report.dpdk.org>
List-Unsubscribe: <https://mails.dpdk.org/options/test-report>,
 <mailto:test-report-request@dpdk.org?subject=unsubscribe>
List-Archive: <http://mails.dpdk.org/archives/test-report/>
List-Post: <mailto:test-report@dpdk.org>
List-Help: <mailto:test-report-request@dpdk.org?subject=help>
List-Subscribe: <https://mails.dpdk.org/listinfo/test-report>,
 <mailto:test-report-request@dpdk.org?subject=subscribe>
Errors-To: test-report-bounces@dpdk.org

Test-Label: iol-compile-arm64-testing
Test-Status: SUCCESS
http://dpdk.org/patch/139013

_Testing PASS_

Submitter: Aditya Ambadipudi <aditya.ambadipudi@arm.com>
Date: Monday, April 01 2024 01:37:29 
DPDK git baseline: Repo:dpdk
  Branch: master
  CommitID:a9778aad62470a38ccbb4e09a2a6bf0cc2e0e36d

139012-139013 --> testing pass

Test environment and result as below:

+--------------------------+--------------------+
|       Environment        | dpdk_meson_compile |
+==========================+====================+
| Ubuntu 20.04 ARM SVE     | PASS               |
+--------------------------+--------------------+
| Debian 12 with MUSDK     | PASS               |
+--------------------------+--------------------+
| CentOS Stream 9 (ARM)    | PASS               |
+--------------------------+--------------------+
| Debian 11 (Buster) (ARM) | PASS               |
+--------------------------+--------------------+
| Fedora 39 (ARM)          | PASS               |
+--------------------------+--------------------+
| Fedora 37 (ARM)          | PASS               |
+--------------------------+--------------------+


Ubuntu 20.04 ARM SVE
	Kernel: 5.4.0-167-generic
	Compiler: gcc (Ubuntu 10.5.0-1ubuntu1~20.04) 10.5.0

Debian 12 with MUSDK
	Kernel: Container Host Kernel
	Compiler: gcc 12.2.0

CentOS Stream 9 (ARM)
	Kernel: Container Host Kernel
	Compiler: gcc 11.4.1

Debian 11 (Buster) (ARM)
	Kernel: Container Host Kernel
	Compiler: gcc 10.2.1

Fedora 39 (ARM)
	Kernel: Depends on container host
	Compiler: gcc 13.2.1

Fedora 37 (ARM)
	Kernel: Depends on container host
	Compiler: gcc 12.3.1

To view detailed results, visit:
https://lab.dpdk.org/results/dashboard/patchsets/29687/

UNH-IOL DPDK Community Lab

To manage your email subscriptions, visit: 
https://lab.dpdk.org/results/dashboard/preferences/subscriptions/