From mboxrd@z Thu Jan  1 00:00:00 1970
Return-Path: <test-report-bounces@dpdk.org>
Received: from mails.dpdk.org (mails.dpdk.org [217.70.189.124])
	by inbox.dpdk.org (Postfix) with ESMTP id E61E443D9C
	for <public@inbox.dpdk.org>; Mon,  1 Apr 2024 04:33:03 +0200 (CEST)
Received: from mails.dpdk.org (localhost [127.0.0.1])
	by mails.dpdk.org (Postfix) with ESMTP id DFC0B4026F;
	Mon,  1 Apr 2024 04:33:03 +0200 (CEST)
Received: from mail-pj1-f97.google.com (mail-pj1-f97.google.com
 [209.85.216.97]) by mails.dpdk.org (Postfix) with ESMTP id 8CE8D40265
 for <test-report@dpdk.org>; Mon,  1 Apr 2024 04:33:02 +0200 (CEST)
Received: by mail-pj1-f97.google.com with SMTP id
 98e67ed59e1d1-2a074187a42so2630210a91.0
 for <test-report@dpdk.org>; Sun, 31 Mar 2024 19:33:02 -0700 (PDT)
DKIM-Signature: v=1; a=rsa-sha256; c=relaxed/relaxed;
 d=iol.unh.edu; s=unh-iol; t=1711938782; x=1712543582; darn=dpdk.org;
 h=references:in-reply-to:cc:to:from:subject:message-id:date:from:to
 :cc:subject:date:message-id:reply-to;
 bh=zH6mtp4zKWLsSzcYjDuIfqVlvsfyX9xOXQWWzSHlY4Q=;
 b=jbqdjZB3RVBA5va6A3kQnKezpM0+CKmDEOwN5e3Um7x3raUTrUL/+EHBVbrCVn8bzc
 /9ZRe6rNaWii3JVWDSJJmfj0JeEUyx/55aPPSJr8D/KBdxfPcihpU0QsmwJKKM6s/qL+
 Ydqxi2OS8OTlvH3ymxza/x3yoowVBtE5SBBtE=
X-Google-DKIM-Signature: v=1; a=rsa-sha256; c=relaxed/relaxed;
 d=1e100.net; s=20230601; t=1711938782; x=1712543582;
 h=references:in-reply-to:cc:to:from:subject:message-id:date
 :x-gm-message-state:from:to:cc:subject:date:message-id:reply-to;
 bh=zH6mtp4zKWLsSzcYjDuIfqVlvsfyX9xOXQWWzSHlY4Q=;
 b=IPT71A+ylaI9xK+kc9VeXq7CCWq6Kk65LfQwQvU+n0z4CrcV35+YQqk9i1bTT4ullp
 8AaZdCfhaOH76Ha7eDBqQoEAHMerFCpCoGV5lg4biDaLA5UX7SN+UcETYXiKaCebaI2u
 3WunyNMax944wagrnsSyKyKxAKkyBKNh6KtlmiQbbo4zwo83ek0r3AfCc5IxX/ocsKmf
 wABC6dUiV0Q1a4aq6pKJweWCr/3oiDitAbVEFhJR4mc9AgYA5peZJH1bzO8uxa5k+2pR
 yHTqzIXtt3iMqtwLN1n5a+ql140e0oUFAKqMtt+j2jprId++aHjWMu91rZi+napgRa9j
 j+Jg==
X-Gm-Message-State: AOJu0Yy7NG+ziou2PbXt20DVU3EwGsoqeLBSV9Ya4x9JU7qepswbfZ5K
 XD5KAjiHiv7/uWpu+jgXVKZFKEBKmefaPNkSY70ZJX+r4lf7FrVI755XZrkH1o5aMGAKdSrhmfo
 Iop4j/62+jd7T+E8+4VrAAo26VzGyq8uO+gjbxanRc9nRFWQTirAVpSpo
X-Google-Smtp-Source: AGHT+IE9Mh9XSCu+jiudXUuoOFZ+E+KHTeBWzm9h0tXOvvQN0K86DK69W63TykASM6BsxF+XUgAPieZHqg4e
X-Received: by 2002:a17:90a:db15:b0:29b:b3fa:b7a5 with SMTP id
 g21-20020a17090adb1500b0029bb3fab7a5mr5497522pjv.7.1711938781668; 
 Sun, 31 Mar 2024 19:33:01 -0700 (PDT)
Received: from postal.iol.unh.edu (postal.iol.unh.edu.
 [2606:4100:3880:1234::84]) by smtp-relay.gmail.com with ESMTPS id
 u13-20020a17090ac88d00b002a20d2f9771sm413919pjt.15.2024.03.31.19.33.01
 (version=TLS1_2 cipher=ECDHE-ECDSA-AES128-GCM-SHA256 bits=128/128);
 Sun, 31 Mar 2024 19:33:01 -0700 (PDT)
X-Relaying-Domain: iol.unh.edu
Date: Sun, 31 Mar 2024 19:33:01 -0700 (PDT)
Message-ID: <660a1cdd.170a0220.e43f8.9d9dSMTPIN_ADDED_MISSING@mx.google.com>
Received: from [172.21.0.6] (unknown [172.18.0.240])
 by postal.iol.unh.edu (Postfix) with ESMTP id C26D56052471;
 Sun, 31 Mar 2024 22:33:00 -0400 (EDT)
Subject: |SUCCESS| pw139012-139013 [PATCH] [v1,2/2] deque: add unit tests for
From: dpdklab@iol.unh.edu
To: Test Report <test-report@dpdk.org>
Cc: dpdk-test-reports@iol.unh.edu
In-Reply-To: <20240401013729.1466298-3-aditya.ambadipudi@arm.com>
References: <20240401013729.1466298-3-aditya.ambadipudi@arm.com>
Content-Type: text/plain
X-BeenThere: test-report@dpdk.org
X-Mailman-Version: 2.1.29
Precedence: list
List-Id: automatic DPDK test reports <test-report.dpdk.org>
List-Unsubscribe: <https://mails.dpdk.org/options/test-report>,
 <mailto:test-report-request@dpdk.org?subject=unsubscribe>
List-Archive: <http://mails.dpdk.org/archives/test-report/>
List-Post: <mailto:test-report@dpdk.org>
List-Help: <mailto:test-report-request@dpdk.org?subject=help>
List-Subscribe: <https://mails.dpdk.org/listinfo/test-report>,
 <mailto:test-report-request@dpdk.org?subject=subscribe>
Errors-To: test-report-bounces@dpdk.org

Test-Label: iol-compile-amd64-testing
Test-Status: SUCCESS
http://dpdk.org/patch/139013

_Testing PASS_

Submitter: Aditya Ambadipudi <aditya.ambadipudi@arm.com>
Date: Monday, April 01 2024 01:37:29 
DPDK git baseline: Repo:dpdk
  Branch: master
  CommitID:a9778aad62470a38ccbb4e09a2a6bf0cc2e0e36d

139012-139013 --> testing pass

Test environment and result as below:

+---------------------+--------------------+-------------------+----------------------+
|     Environment     | dpdk_meson_compile | dpdk_msvc_compile | dpdk_mingw64_compile |
+=====================+====================+===================+======================+
| FreeBSD 13.2        | PASS               | SKIPPED           | SKIPPED              |
+---------------------+--------------------+-------------------+----------------------+
| Windows Server 2019 | PASS               | SKIPPED           | PASS                 |
+---------------------+--------------------+-------------------+----------------------+
| Windows Server 2022 | PASS               | PASS              | PASS                 |
+---------------------+--------------------+-------------------+----------------------+
| CentOS Stream 8     | PASS               | SKIPPED           | SKIPPED              |
+---------------------+--------------------+-------------------+----------------------+
| CentOS Stream 9     | PASS               | SKIPPED           | SKIPPED              |
+---------------------+--------------------+-------------------+----------------------+
| Debian Bullseye     | PASS               | SKIPPED           | SKIPPED              |
+---------------------+--------------------+-------------------+----------------------+
| Fedora 37           | PASS               | SKIPPED           | SKIPPED              |
+---------------------+--------------------+-------------------+----------------------+
| Debian 11 (arm)     | PASS               | SKIPPED           | SKIPPED              |
+---------------------+--------------------+-------------------+----------------------+
| Fedora 38           | PASS               | SKIPPED           | SKIPPED              |
+---------------------+--------------------+-------------------+----------------------+
| openSUSE Leap 15    | PASS               | SKIPPED           | SKIPPED              |
+---------------------+--------------------+-------------------+----------------------+
| Ubuntu 22.04        | PASS               | SKIPPED           | SKIPPED              |
+---------------------+--------------------+-------------------+----------------------+
| Fedora 39           | PASS               | SKIPPED           | SKIPPED              |
+---------------------+--------------------+-------------------+----------------------+
| Ubuntu 20.04        | PASS               | SKIPPED           | SKIPPED              |
+---------------------+--------------------+-------------------+----------------------+


FreeBSD 13.2
	Kernel: 13.2
	Compiler: clang 14.0.5

Windows Server 2019
	Kernel: 10.0.17763
	Compiler: clang 14.0 and gcc 8.1.0 (MinGW)

Windows Server 2022
	Kernel: 10.0.20348.2031
	Compiler: clang 15.0.7, gcc 8.1.0 (MinGW), and MSVC VS 17.9

CentOS Stream 8
	Kernel: 5.4.0-167-generic
	Compiler: gcc 8.5.0 20210514

CentOS Stream 9
	Kernel: 5.4.0-167-generic
	Compiler: gcc 11.4.1 20230605

Debian Bullseye
	Kernel: 5.4.0-167-generic
	Compiler: gcc 10.2.1-6

Fedora 37
	Kernel: Depends on container host system
	Compiler: gcc 12.3.1

Debian 11 (arm)
	Kernel: Container Host Kernel
	Compiler: gcc 10.2.1

Fedora 38
	Kernel: Depends on container host
	Compiler: gcc 13.2.1

openSUSE Leap 15
	Kernel: 5.4.0-167-generic
	Compiler: gcc 7.5.0

Ubuntu 22.04
	Kernel: 5.4.0-167-generic
	Compiler: gcc 11.4.0

Fedora 39
	Kernel: Depends on container host
	Compiler: gcc 13.2.1

Ubuntu 20.04
	Kernel: 5.4.0-167-generic
	Compiler: gcc 9.4.0-1ubuntu1~20.04.1

To view detailed results, visit:
https://lab.dpdk.org/results/dashboard/patchsets/29687/

UNH-IOL DPDK Community Lab

To manage your email subscriptions, visit: 
https://lab.dpdk.org/results/dashboard/preferences/subscriptions/