From mboxrd@z Thu Jan  1 00:00:00 1970
Return-Path: <test-report-bounces@dpdk.org>
Received: from mails.dpdk.org (mails.dpdk.org [217.70.189.124])
	by inbox.dpdk.org (Postfix) with ESMTP id C87D743D9C
	for <public@inbox.dpdk.org>; Mon,  1 Apr 2024 04:34:25 +0200 (CEST)
Received: from mails.dpdk.org (localhost [127.0.0.1])
	by mails.dpdk.org (Postfix) with ESMTP id C32384026F;
	Mon,  1 Apr 2024 04:34:25 +0200 (CEST)
Received: from mail-qk1-f225.google.com (mail-qk1-f225.google.com
 [209.85.222.225])
 by mails.dpdk.org (Postfix) with ESMTP id 3F35040265
 for <test-report@dpdk.org>; Mon,  1 Apr 2024 04:34:25 +0200 (CEST)
Received: by mail-qk1-f225.google.com with SMTP id
 af79cd13be357-789d0c90cadso239531785a.3
 for <test-report@dpdk.org>; Sun, 31 Mar 2024 19:34:25 -0700 (PDT)
DKIM-Signature: v=1; a=rsa-sha256; c=relaxed/relaxed;
 d=iol.unh.edu; s=unh-iol; t=1711938864; x=1712543664; darn=dpdk.org;
 h=references:in-reply-to:cc:to:from:subject:message-id:date:from:to
 :cc:subject:date:message-id:reply-to;
 bh=ONue7WxKVUKQPKYq+nzJHzVwdOuDW0N7LJ0HgMjLlpM=;
 b=g/XnH+OSSLhKeOEKWaMX/Dh0rObKk74shD6EmDLSvxfkCJ20ZeX/hfbkLri/BOPgQY
 FhZ25AM7A7dGTAJWQnB2lZq3BkjqsIdeHq1AZ52LZEBJ9LSxSgSF5vEdUSR55KBcgHi2
 JflLG/dtzdW0i4qD8PHRvGx9C3Tvi/HIlZXeI=
X-Google-DKIM-Signature: v=1; a=rsa-sha256; c=relaxed/relaxed;
 d=1e100.net; s=20230601; t=1711938864; x=1712543664;
 h=references:in-reply-to:cc:to:from:subject:message-id:date
 :x-gm-message-state:from:to:cc:subject:date:message-id:reply-to;
 bh=ONue7WxKVUKQPKYq+nzJHzVwdOuDW0N7LJ0HgMjLlpM=;
 b=VwsrGbrbIziBRaW1YkHDQYLARXX+NC1up0We1EADftindmcTJbKp5MpMD/usDgxBJW
 GMoYyHyeUUojv8uGsijfG72mNp5A/pOMZ4CoPyUS7on4zFIao0du1ar15oU1EOzpaGE3
 v9aHGhxI5PLqao3skwE3peny5pFkkK5WH1Y0JX6hFnn2Tuiz4g2CGhmpI9oBfXca8ZPD
 aCddkBebavgfJfASF7ZnJSVxe5X7g77EKJtB/UblGRfv4iQVJTwKaYTLI/Z+59CCnwP6
 c5/bKPMqUKf0PDPZa08GXi5nFj3JLYV46WwS9/fUEsTU4RFrd5GYtmyPcUhN9YtBGZwJ
 +G/Q==
X-Gm-Message-State: AOJu0YxSO6PUfOkvnaqQQmxHs5LKXkHP4zI+yAYIRoeAKn7jzRgmm2WT
 OUAfqUieX/rqWnSa4wknwbslkkO/gYFttCrRTfAMViIlLNbNbDXHywNvB3JeXwNtLHW1mwNQO+n
 fD7PoBcSylId/055RlmiRMsss17RGeKgxctNXg09t
X-Google-Smtp-Source: AGHT+IEIfBu06o60/Ni3dGUr7exKDVVeFEO9tXNtduRbJ7YRvzQsFxb1IW1nrCFV0/YAHJe8rBTDc+PS8z6E
X-Received: by 2002:a0c:ec47:0:b0:696:7ff4:7f0d with SMTP id
 n7-20020a0cec47000000b006967ff47f0dmr7851108qvq.47.1711938864764; 
 Sun, 31 Mar 2024 19:34:24 -0700 (PDT)
Received: from postal.iol.unh.edu (postal.iol.unh.edu. [132.177.123.84])
 by smtp-relay.gmail.com with ESMTPS id
 ke11-20020a056214300b00b0069693e1086dsm652204qvb.2.2024.03.31.19.34.24
 (version=TLS1_2 cipher=ECDHE-ECDSA-AES128-GCM-SHA256 bits=128/128);
 Sun, 31 Mar 2024 19:34:24 -0700 (PDT)
X-Relaying-Domain: iol.unh.edu
Date: Sun, 31 Mar 2024 19:34:24 -0700 (PDT)
Message-ID: <660a1d30.050a0220.2b582.7a73SMTPIN_ADDED_MISSING@mx.google.com>
Received: from [172.21.0.6] (unknown [172.18.0.240])
 by postal.iol.unh.edu (Postfix) with ESMTP id 758086052471;
 Sun, 31 Mar 2024 22:34:24 -0400 (EDT)
Subject: |SUCCESS| pw139012-139013 [PATCH] [v1,2/2] deque: add unit tests for
From: dpdklab@iol.unh.edu
To: Test Report <test-report@dpdk.org>
Cc: dpdk-test-reports@iol.unh.edu
In-Reply-To: <20240401013729.1466298-3-aditya.ambadipudi@arm.com>
References: <20240401013729.1466298-3-aditya.ambadipudi@arm.com>
Content-Type: text/plain
X-BeenThere: test-report@dpdk.org
X-Mailman-Version: 2.1.29
Precedence: list
List-Id: automatic DPDK test reports <test-report.dpdk.org>
List-Unsubscribe: <https://mails.dpdk.org/options/test-report>,
 <mailto:test-report-request@dpdk.org?subject=unsubscribe>
List-Archive: <http://mails.dpdk.org/archives/test-report/>
List-Post: <mailto:test-report@dpdk.org>
List-Help: <mailto:test-report-request@dpdk.org?subject=help>
List-Subscribe: <https://mails.dpdk.org/listinfo/test-report>,
 <mailto:test-report-request@dpdk.org?subject=subscribe>
Errors-To: test-report-bounces@dpdk.org

Test-Label: iol-compile-arm64-testing
Test-Status: SUCCESS
http://dpdk.org/patch/139013

_Testing PASS_

Submitter: Aditya Ambadipudi <aditya.ambadipudi@arm.com>
Date: Monday, April 01 2024 01:37:29 
DPDK git baseline: Repo:dpdk
  Branch: master
  CommitID:a9778aad62470a38ccbb4e09a2a6bf0cc2e0e36d

139012-139013 --> testing pass

Test environment and result as below:

+----------------------------------------+--------------------+
|              Environment               | dpdk_meson_compile |
+========================================+====================+
| Ubuntu 20.04 ARM SVE                   | PASS               |
+----------------------------------------+--------------------+
| Debian 12 with MUSDK                   | PASS               |
+----------------------------------------+--------------------+
| CentOS Stream 9 (ARM)                  | PASS               |
+----------------------------------------+--------------------+
| Debian 11 (Buster) (ARM)               | PASS               |
+----------------------------------------+--------------------+
| Fedora 39 (ARM)                        | PASS               |
+----------------------------------------+--------------------+
| Fedora 37 (ARM)                        | PASS               |
+----------------------------------------+--------------------+
| Debian 12 (arm)                        | PASS               |
+----------------------------------------+--------------------+
| Ubuntu 20.04 aarch32 GCC Cross Compile | PASS               |
+----------------------------------------+--------------------+
| Ubuntu 20.04 ARM GCC Cross Compile     | PASS               |
+----------------------------------------+--------------------+
| Ubuntu 20.04 (ARM)                     | PASS               |
+----------------------------------------+--------------------+


Ubuntu 20.04 ARM SVE
	Kernel: 5.4.0-167-generic
	Compiler: gcc (Ubuntu 10.5.0-1ubuntu1~20.04) 10.5.0

Debian 12 with MUSDK
	Kernel: Container Host Kernel
	Compiler: gcc 12.2.0

CentOS Stream 9 (ARM)
	Kernel: Container Host Kernel
	Compiler: gcc 11.4.1

Debian 11 (Buster) (ARM)
	Kernel: Container Host Kernel
	Compiler: gcc 10.2.1

Fedora 39 (ARM)
	Kernel: Depends on container host
	Compiler: gcc 13.2.1

Fedora 37 (ARM)
	Kernel: Depends on container host
	Compiler: gcc 12.3.1

Debian 12 (arm)
	Kernel: Container Host Kernel
	Compiler: gcc 12.2.0

Ubuntu 20.04 aarch32 GCC Cross Compile
	Kernel: 5.4.0-167-generic
	Compiler: gcc 9.4.0

Ubuntu 20.04 ARM GCC Cross Compile
	Kernel: 5.4.0-167-generic
	Compiler: aarch64-linux-gnu-gcc (Ubuntu 9.4.0-1ubuntu1~20.04.2) 9.4.0

Ubuntu 20.04 (ARM)
	Kernel: Container Host Kernel
	Compiler: gcc 9.4.0

To view detailed results, visit:
https://lab.dpdk.org/results/dashboard/patchsets/29687/

UNH-IOL DPDK Community Lab

To manage your email subscriptions, visit: 
https://lab.dpdk.org/results/dashboard/preferences/subscriptions/